BEGIN:VCALENDAR
VERSION:2.0
PRODID:-//Elkins-Randolph County Tourism - ECPv6.15.20//NONSGML v1.0//EN
CALSCALE:GREGORIAN
METHOD:PUBLISH
X-WR-CALNAME:Elkins-Randolph County Tourism
X-ORIGINAL-URL:https://elkinsrandolphwv.com
X-WR-CALDESC:Events for Elkins-Randolph County Tourism
REFRESH-INTERVAL;VALUE=DURATION:PT1H
X-Robots-Tag:noindex
X-PUBLISHED-TTL:PT1H
BEGIN:VTIMEZONE
TZID:UTC
BEGIN:STANDARD
TZOFFSETFROM:+0000
TZOFFSETTO:+0000
TZNAME:UTC
DTSTART:20220101T000000
END:STANDARD
END:VTIMEZONE
BEGIN:VTIMEZONE
TZID:America/New_York
BEGIN:DAYLIGHT
TZOFFSETFROM:-0500
TZOFFSETTO:-0400
TZNAME:EDT
DTSTART:20180311T070000
END:DAYLIGHT
BEGIN:STANDARD
TZOFFSETFROM:-0400
TZOFFSETTO:-0500
TZNAME:EST
DTSTART:20181104T060000
END:STANDARD
BEGIN:DAYLIGHT
TZOFFSETFROM:-0500
TZOFFSETTO:-0400
TZNAME:EDT
DTSTART:20190310T070000
END:DAYLIGHT
BEGIN:STANDARD
TZOFFSETFROM:-0400
TZOFFSETTO:-0500
TZNAME:EST
DTSTART:20191103T060000
END:STANDARD
BEGIN:DAYLIGHT
TZOFFSETFROM:-0500
TZOFFSETTO:-0400
TZNAME:EDT
DTSTART:20200308T070000
END:DAYLIGHT
BEGIN:STANDARD
TZOFFSETFROM:-0400
TZOFFSETTO:-0500
TZNAME:EST
DTSTART:20201101T060000
END:STANDARD
END:VTIMEZONE
BEGIN:VEVENT
DTSTART;TZID=UTC:20230218T093000
DTEND;TZID=UTC:20230218T123000
DTSTAMP:20260424T221249
CREATED:20230216T204558Z
LAST-MODIFIED:20230216T204558Z
UID:26687-1676712600-1676723400@elkinsrandolphwv.com
SUMMARY:Elkins Seed Swap
DESCRIPTION:Get\, trade\, drop off seeds for veggies\, herbs\, flowers\nMeet Margaret from Poe Run homestead and other people who grow their own food\nPick up growing and canning info provided by WVU Extension Office\nLearn about Elkins Farmers Market and how to be a drop in vendor\nApply for Elkins Grows training program for people ages 18-24
URL:https://elkinsrandolphwv.com/event/elkins-seed-swap/
LOCATION:Byrd’s House of Donuts\, 224 Davis Avenue\, Elkins\, WV\, 26241\, United States\, 1 Davis Ave\, United States
CATEGORIES:Community
ATTACH;FMTTYPE=image/jpeg:https://elkinsrandolphwv.com/wp-content/uploads/2023/02/329181778_583174233396890_3952419247400311970_n.jpg
GEO:38.921931;-79.849749
X-APPLE-STRUCTURED-LOCATION;VALUE=URI;X-ADDRESS=Byrd’s House of Donuts 224 Davis Avenue Elkins WV 26241 United States 1 Davis Ave United States;X-APPLE-RADIUS=500;X-TITLE=1 Davis Ave:geo:-79.849749,38.921931
END:VEVENT
BEGIN:VEVENT
DTSTART;TZID=America/New_York:20190607T020000
DTEND;TZID=America/New_York:20190607T130000
DTSTAMP:20260424T221249
CREATED:20190607T070132Z
LAST-MODIFIED:20190607T070132Z
UID:13098-1559872800-1559912400@elkinsrandolphwv.com
SUMMARY:Celebrate National Donut Day @ Byrd's House of Donuts
DESCRIPTION:This Friday (June 7th) is National Donut Day!!! In celebration we will be introducing a new donut for June\, a Banana Split Donut. Also for Friday ONLY\, we’ll be having the Homer Simpson donut. Not a donut that looks like Homer but the donut you always see him eating. Stop by and get your’s no the way to work\, on lunch or on the way home. Just don’t wait too long\, everyone likes to celebrate donuts.
URL:https://elkinsrandolphwv.com/event/celebrate-national-donut-day-byrds-house-of-donuts-2/
LOCATION:Byrd’s House of Donuts\, 224 Davis Avenue\, Elkins\, WV\, 26241\, United States\, 1 Davis Ave\, United States
GEO:38.921931;-79.849749
X-APPLE-STRUCTURED-LOCATION;VALUE=URI;X-ADDRESS=Byrd’s House of Donuts 224 Davis Avenue Elkins WV 26241 United States 1 Davis Ave United States;X-APPLE-RADIUS=500;X-TITLE=1 Davis Ave:geo:-79.849749,38.921931
END:VEVENT
END:VCALENDAR