BEGIN:VCALENDAR
VERSION:2.0
PRODID:-//Elkins-Randolph County Tourism - ECPv6.15.20//NONSGML v1.0//EN
CALSCALE:GREGORIAN
METHOD:PUBLISH
X-ORIGINAL-URL:https://elkinsrandolphwv.com
X-WR-CALDESC:Events for Elkins-Randolph County Tourism
REFRESH-INTERVAL;VALUE=DURATION:PT1H
X-Robots-Tag:noindex
X-PUBLISHED-TTL:PT1H
BEGIN:VTIMEZONE
TZID:UTC
BEGIN:STANDARD
TZOFFSETFROM:+0000
TZOFFSETTO:+0000
TZNAME:UTC
DTSTART:20180101T000000
END:STANDARD
END:VTIMEZONE
BEGIN:VEVENT
DTSTART;TZID=UTC:20260206T170000
DTEND;TZID=UTC:20260206T200000
DTSTAMP:20260426T001122
CREATED:20260202T023536Z
LAST-MODIFIED:20260202T023536Z
UID:32817-1770397200-1770408000@elkinsrandolphwv.com
SUMMARY:Painting Class-Ceramics with Class
DESCRIPTION:February 6\, 2026 5-8pm. Individuals can pick their own ceramics piece to paint.
URL:https://elkinsrandolphwv.com/event/painting-class-ceramics-with-class/
LOCATION:Ceramics with Class\, 203 Davis Avenue\, Elkins\, WV\, 26241\, United States
CATEGORIES:Community
END:VEVENT
BEGIN:VEVENT
DTSTART;TZID=UTC:20210721T110000
DTEND;TZID=UTC:20210721T110000
DTSTAMP:20260426T001122
CREATED:20210709T221804Z
LAST-MODIFIED:20210709T221804Z
UID:24693-1626865200-1626865200@elkinsrandolphwv.com
SUMMARY:Christmas in July Children's Class @ Ceramics with Class
DESCRIPTION:On July 21st at 11am we will be painting snowmen! The cost is $7\, please call 304-636-2903 to reserve your space.
URL:https://elkinsrandolphwv.com/event/christmas-in-july-childrens-class-ceramics-with-class/
LOCATION:Ceramics with Class\, 203 Davis Avenue\, Elkins\, WV\, 26241\, United States
CATEGORIES:Kids & Family
ATTACH;FMTTYPE=image/png:https://elkinsrandolphwv.com/wp-content/uploads/2020/01/Ceramics-With-Class.png
END:VEVENT
BEGIN:VEVENT
DTSTART;TZID=UTC:20200201T120000
DTEND;TZID=UTC:20200201T140000
DTSTAMP:20260426T001122
CREATED:20200126T020849Z
LAST-MODIFIED:20200126T020849Z
UID:18416-1580558400-1580565600@elkinsrandolphwv.com
SUMMARY:Heart Cup Class(prepay) @ Ceramics with Class
DESCRIPTION:A perfect Valentine’s Day gift for someone special in your life.  The cost of the class is $9.00; that includes all materials to complete your project.  Prepayment is required to reserve your space. Call 304-636-2903 to reserve your seat or for questions.
URL:https://elkinsrandolphwv.com/event/heart-cup-classprepay-ceramics-with-class/2020-02-01/
LOCATION:Ceramics with Class\, 203 Davis Avenue\, Elkins\, WV\, 26241\, United States
CATEGORIES:Art & Culture
ATTACH;FMTTYPE=image/png:https://elkinsrandolphwv.com/wp-content/uploads/2020/01/Ceramics-With-Class.png
END:VEVENT
BEGIN:VEVENT
DTSTART;TZID=UTC:20200118T110000
DTEND;TZID=UTC:20200118T150000
DTSTAMP:20260426T001122
CREATED:20200103T015033Z
LAST-MODIFIED:20200103T015033Z
UID:17291-1579345200-1579359600@elkinsrandolphwv.com
SUMMARY:Snowmen & Hot Chocolate Class (pre-register) @ Ceramics with Class
DESCRIPTION:Have a large selection of snowmen to choose from (some pictured above). Prices vary from $10 – $36. All painting supplies included in price. Hot chocolate and cookies available during class. Payment and selection need to be received by 1/14 to reserve your seat..
URL:https://elkinsrandolphwv.com/event/snowmen-hot-chocolate-class-pre-register-ceramics-with-class/
LOCATION:Ceramics with Class\, 203 Davis Avenue\, Elkins\, WV\, 26241\, United States
CATEGORIES:Art & Culture
ATTACH;FMTTYPE=image/png:https://elkinsrandolphwv.com/wp-content/uploads/2020/01/Ceramics-With-Class.png
END:VEVENT
BEGIN:VEVENT
DTSTART;TZID=UTC:20190926T100000
DTEND;TZID=UTC:20190926T120000
DTSTAMP:20260426T001122
CREATED:20190909T180339Z
LAST-MODIFIED:20190909T180339Z
UID:15569-1569492000-1569499200@elkinsrandolphwv.com
SUMMARY:Fall Decorating Class (pre-register) @ Ceramics With Class
DESCRIPTION:Choice of stacked scarecrow heads or cornstalk w/2 pumpkins and 3 ears of corn. Cost is $25 for either choice. You must preregister and prepay to reserve your space. Call 304-636-2903 to make your reservation
URL:https://elkinsrandolphwv.com/event/fall-decorating-class-pre-register-ceramics-with-class/
LOCATION:Ceramics with Class\, 203 Davis Avenue\, Elkins\, WV\, 26241\, United States
CATEGORIES:Art & Culture
END:VEVENT
BEGIN:VEVENT
DTSTART;TZID=UTC:20190918T100000
DTEND;TZID=UTC:20190918T120000
DTSTAMP:20260426T001122
CREATED:20190827T184742Z
LAST-MODIFIED:20190827T184742Z
UID:15333-1568800800-1568808000@elkinsrandolphwv.com
SUMMARY:Make a Berry Bowl (pre-register) @ Ceramics with Class
DESCRIPTION:Make this Berry Bowl for yourself or give this unique piece to someone else as a gift. The cost is $17. Call 304-636-2903 to make your reservation or get further information. Payment in advance is required to assure a seat.
URL:https://elkinsrandolphwv.com/event/make-a-berry-bowl-pre-register-ceramics-with-class/2019-09-18/
LOCATION:Ceramics with Class\, 203 Davis Avenue\, Elkins\, WV\, 26241\, United States
CATEGORIES:Art & Culture
END:VEVENT
BEGIN:VEVENT
DTSTART;TZID=UTC:20190725T100000
DTEND;TZID=UTC:20190725T120000
DTSTAMP:20260426T001122
CREATED:20190724T171938Z
LAST-MODIFIED:20190724T171938Z
UID:14668-1564048800-1564056000@elkinsrandolphwv.com
SUMMARY:Christmas in July @ Ceramics with Class
DESCRIPTION:A Christmas in July class will be held on July 25. Pick your time; either 10 AM – 12 PM or 6 PM – 8 PM. You can choose either a Christmas tree or a pickup truck. Call 304-636-2903 if you have questions or to make a reservation. Payment is required in advance to guarantee a seat.
URL:https://elkinsrandolphwv.com/event/christmas-in-july-ceramics-with-class/2019-07-25/
LOCATION:Ceramics with Class\, 203 Davis Avenue\, Elkins\, WV\, 26241\, United States
END:VEVENT
END:VCALENDAR