BEGIN:VCALENDAR
VERSION:2.0
PRODID:-//Elkins-Randolph County Tourism - ECPv6.15.20//NONSGML v1.0//EN
CALSCALE:GREGORIAN
METHOD:PUBLISH
X-WR-CALNAME:Elkins-Randolph County Tourism
X-ORIGINAL-URL:https://elkinsrandolphwv.com
X-WR-CALDESC:Events for Elkins-Randolph County Tourism
REFRESH-INTERVAL;VALUE=DURATION:PT1H
X-Robots-Tag:noindex
X-PUBLISHED-TTL:PT1H
BEGIN:VTIMEZONE
TZID:UTC
BEGIN:STANDARD
TZOFFSETFROM:+0000
TZOFFSETTO:+0000
TZNAME:UTC
DTSTART:20180101T000000
END:STANDARD
END:VTIMEZONE
BEGIN:VTIMEZONE
TZID:America/New_York
BEGIN:DAYLIGHT
TZOFFSETFROM:-0500
TZOFFSETTO:-0400
TZNAME:EDT
DTSTART:20180311T070000
END:DAYLIGHT
BEGIN:STANDARD
TZOFFSETFROM:-0400
TZOFFSETTO:-0500
TZNAME:EST
DTSTART:20181104T060000
END:STANDARD
BEGIN:DAYLIGHT
TZOFFSETFROM:-0500
TZOFFSETTO:-0400
TZNAME:EDT
DTSTART:20190310T070000
END:DAYLIGHT
BEGIN:STANDARD
TZOFFSETFROM:-0400
TZOFFSETTO:-0500
TZNAME:EST
DTSTART:20191103T060000
END:STANDARD
BEGIN:DAYLIGHT
TZOFFSETFROM:-0500
TZOFFSETTO:-0400
TZNAME:EDT
DTSTART:20200308T070000
END:DAYLIGHT
BEGIN:STANDARD
TZOFFSETFROM:-0400
TZOFFSETTO:-0500
TZNAME:EST
DTSTART:20201101T060000
END:STANDARD
BEGIN:DAYLIGHT
TZOFFSETFROM:-0500
TZOFFSETTO:-0400
TZNAME:EDT
DTSTART:20210314T070000
END:DAYLIGHT
BEGIN:STANDARD
TZOFFSETFROM:-0400
TZOFFSETTO:-0500
TZNAME:EST
DTSTART:20211107T060000
END:STANDARD
END:VTIMEZONE
BEGIN:VEVENT
DTSTART;TZID=UTC:20200214T180000
DTEND;TZID=UTC:20200214T200000
DTSTAMP:20260425T161201
CREATED:20200104T005210Z
LAST-MODIFIED:20200104T005210Z
UID:17467-1581703200-1581710400@elkinsrandolphwv.com
SUMMARY:Valentines Day Bingo @ Coalton Fire Department
DESCRIPTION:Friday night special Valentine’s Day Bingo\nDoors open 6:00 & Bingo starts 8:00\n1-$2000.00 coverall\, Reg bingos pay$100.00\, Special bingos pay$250.00\n1st packet $30.00 & 2nd packet $10.00\, Every packet after that $5.00\nEveryone that prepay for ticket before Feb 9 2020 will play an early bird game for a chance to win $200.00\nCall fire house after 6:00 pm 304-636-8112\nOr any member of the Coalton Volunteer Fire Department
URL:https://elkinsrandolphwv.com/event/valentines-day-bingo-coalton-fire-department/
LOCATION:Coalton VFW\, Coalton\, WV 26257\, USA\, 1 Coalton Ave\, United States
CATEGORIES:Entertainment
GEO:38.924546;-79.972583
X-APPLE-STRUCTURED-LOCATION;VALUE=URI;X-ADDRESS=Coalton VFW Coalton WV 26257 USA 1 Coalton Ave United States;X-APPLE-RADIUS=500;X-TITLE=1 Coalton Ave:geo:-79.972583,38.924546
END:VEVENT
BEGIN:VEVENT
DTSTART;TZID=America/New_York:20200126T120000
DTEND;TZID=America/New_York:20200126T160000
DTSTAMP:20260425T161201
CREATED:20190423T083911Z
LAST-MODIFIED:20190607T165316Z
UID:6575-1580040000-1580054400@elkinsrandolphwv.com
SUMMARY:Sunday Bingo @ Coalton Fire Department
DESCRIPTION:Doors open at noon\nDinner at 1pm\nBingo at 2pm
URL:https://elkinsrandolphwv.com/event/coalton-fire-department-sunday-bingo-40/
LOCATION:Coalton VFW\, Coalton\, WV 26257\, USA\, 1 Coalton Ave\, United States
GEO:38.924546;-79.972583
X-APPLE-STRUCTURED-LOCATION;VALUE=URI;X-ADDRESS=Coalton VFW Coalton WV 26257 USA 1 Coalton Ave United States;X-APPLE-RADIUS=500;X-TITLE=1 Coalton Ave:geo:-79.972583,38.924546
END:VEVENT
BEGIN:VEVENT
DTSTART;TZID=America/New_York:20200119T120000
DTEND;TZID=America/New_York:20200119T160000
DTSTAMP:20260425T161201
CREATED:20190423T083740Z
LAST-MODIFIED:20190607T164604Z
UID:6547-1579435200-1579449600@elkinsrandolphwv.com
SUMMARY:Sunday Bingo @ Coalton Fire Department
DESCRIPTION:Doors open at noon\nDinner at 1pm\nBingo at 2pm
URL:https://elkinsrandolphwv.com/event/coalton-fire-department-sunday-bingo-39/
LOCATION:Coalton VFW\, Coalton\, WV 26257\, USA\, 1 Coalton Ave\, United States
GEO:38.924546;-79.972583
X-APPLE-STRUCTURED-LOCATION;VALUE=URI;X-ADDRESS=Coalton VFW Coalton WV 26257 USA 1 Coalton Ave United States;X-APPLE-RADIUS=500;X-TITLE=1 Coalton Ave:geo:-79.972583,38.924546
END:VEVENT
BEGIN:VEVENT
DTSTART;TZID=America/New_York:20200112T120000
DTEND;TZID=America/New_York:20200112T160000
DTSTAMP:20260425T161201
CREATED:20190423T083642Z
LAST-MODIFIED:20190607T163157Z
UID:6521-1578830400-1578844800@elkinsrandolphwv.com
SUMMARY:Sunday Bingo @ Coalton Fire Department
DESCRIPTION:Doors open at noon\nDinner at 1pm\nBingo at 2pm
URL:https://elkinsrandolphwv.com/event/coalton-fire-department-sunday-bingo-38/
LOCATION:Coalton VFW\, Coalton\, WV 26257\, USA\, 1 Coalton Ave\, United States
GEO:38.924546;-79.972583
X-APPLE-STRUCTURED-LOCATION;VALUE=URI;X-ADDRESS=Coalton VFW Coalton WV 26257 USA 1 Coalton Ave United States;X-APPLE-RADIUS=500;X-TITLE=1 Coalton Ave:geo:-79.972583,38.924546
END:VEVENT
BEGIN:VEVENT
DTSTART;TZID=America/New_York:20200105T120000
DTEND;TZID=America/New_York:20200105T160000
DTSTAMP:20260425T161201
CREATED:20190423T083619Z
LAST-MODIFIED:20190607T162126Z
UID:6493-1578225600-1578240000@elkinsrandolphwv.com
SUMMARY:Sunday Bingo @ Coalton Fire Department
DESCRIPTION:Doors open at noon\nDinner at 1pm\nBingo at 2pm
URL:https://elkinsrandolphwv.com/event/coalton-fire-department-sunday-bingo-37/
LOCATION:Coalton VFW\, Coalton\, WV 26257\, USA\, 1 Coalton Ave\, United States
GEO:38.924546;-79.972583
X-APPLE-STRUCTURED-LOCATION;VALUE=URI;X-ADDRESS=Coalton VFW Coalton WV 26257 USA 1 Coalton Ave United States;X-APPLE-RADIUS=500;X-TITLE=1 Coalton Ave:geo:-79.972583,38.924546
END:VEVENT
BEGIN:VEVENT
DTSTART;TZID=America/New_York:20191229T120000
DTEND;TZID=America/New_York:20191229T160000
DTSTAMP:20260425T161201
CREATED:20190423T083526Z
LAST-MODIFIED:20190607T161323Z
UID:6462-1577620800-1577635200@elkinsrandolphwv.com
SUMMARY:Sunday Bingo @ Coalton Fire Department
DESCRIPTION:Doors open at noon\nDinner at 1pm\nBingo at 2pm
URL:https://elkinsrandolphwv.com/event/coalton-fire-department-sunday-bingo-36/
LOCATION:Coalton VFW\, Coalton\, WV 26257\, USA\, 1 Coalton Ave\, United States
GEO:38.924546;-79.972583
X-APPLE-STRUCTURED-LOCATION;VALUE=URI;X-ADDRESS=Coalton VFW Coalton WV 26257 USA 1 Coalton Ave United States;X-APPLE-RADIUS=500;X-TITLE=1 Coalton Ave:geo:-79.972583,38.924546
END:VEVENT
BEGIN:VEVENT
DTSTART;TZID=America/New_York:20191222T120000
DTEND;TZID=America/New_York:20191222T160000
DTSTAMP:20260425T161201
CREATED:20190423T083422Z
LAST-MODIFIED:20190607T160629Z
UID:6435-1577016000-1577030400@elkinsrandolphwv.com
SUMMARY:Sunday Bingo @ Coalton Fire Department
DESCRIPTION:Doors open at noon\nDinner at 1pm\nBingo at 2pm
URL:https://elkinsrandolphwv.com/event/coalton-fire-department-sunday-bingo-35/
LOCATION:Coalton VFW\, Coalton\, WV 26257\, USA\, 1 Coalton Ave\, United States
GEO:38.924546;-79.972583
X-APPLE-STRUCTURED-LOCATION;VALUE=URI;X-ADDRESS=Coalton VFW Coalton WV 26257 USA 1 Coalton Ave United States;X-APPLE-RADIUS=500;X-TITLE=1 Coalton Ave:geo:-79.972583,38.924546
END:VEVENT
BEGIN:VEVENT
DTSTART;TZID=America/New_York:20191215T120000
DTEND;TZID=America/New_York:20191215T160000
DTSTAMP:20260425T161201
CREATED:20190423T083337Z
LAST-MODIFIED:20190607T154636Z
UID:6396-1576411200-1576425600@elkinsrandolphwv.com
SUMMARY:Sunday Bingo @ Coalton Fire Department
DESCRIPTION:Doors open at noon\nDinner at 1pm\nBingo at 2pm
URL:https://elkinsrandolphwv.com/event/coalton-fire-department-sunday-bingo-34/
LOCATION:Coalton VFW\, Coalton\, WV 26257\, USA\, 1 Coalton Ave\, United States
GEO:38.924546;-79.972583
X-APPLE-STRUCTURED-LOCATION;VALUE=URI;X-ADDRESS=Coalton VFW Coalton WV 26257 USA 1 Coalton Ave United States;X-APPLE-RADIUS=500;X-TITLE=1 Coalton Ave:geo:-79.972583,38.924546
END:VEVENT
BEGIN:VEVENT
DTSTART;TZID=America/New_York:20191208T120000
DTEND;TZID=America/New_York:20191208T160000
DTSTAMP:20260425T161201
CREATED:20190423T083255Z
LAST-MODIFIED:20190607T152520Z
UID:6353-1575806400-1575820800@elkinsrandolphwv.com
SUMMARY:Sunday Bingo @ Coalton Fire Department
DESCRIPTION:Doors open at noon\nDinner at 1pm\nBingo at 2pm
URL:https://elkinsrandolphwv.com/event/coalton-fire-department-sunday-bingo-33/
LOCATION:Coalton VFW\, Coalton\, WV 26257\, USA\, 1 Coalton Ave\, United States
GEO:38.924546;-79.972583
X-APPLE-STRUCTURED-LOCATION;VALUE=URI;X-ADDRESS=Coalton VFW Coalton WV 26257 USA 1 Coalton Ave United States;X-APPLE-RADIUS=500;X-TITLE=1 Coalton Ave:geo:-79.972583,38.924546
END:VEVENT
BEGIN:VEVENT
DTSTART;TZID=America/New_York:20191201T120000
DTEND;TZID=America/New_York:20191201T160000
DTSTAMP:20260425T161201
CREATED:20190423T083157Z
LAST-MODIFIED:20190607T145656Z
UID:6297-1575201600-1575216000@elkinsrandolphwv.com
SUMMARY:Sunday Bingo @ Coalton Fire Department
DESCRIPTION:Doors open at noon\nDinner at 1pm\nBingo at 2pm
URL:https://elkinsrandolphwv.com/event/coalton-fire-department-sunday-bingo-32/
LOCATION:Coalton VFW\, Coalton\, WV 26257\, USA\, 1 Coalton Ave\, United States
GEO:38.924546;-79.972583
X-APPLE-STRUCTURED-LOCATION;VALUE=URI;X-ADDRESS=Coalton VFW Coalton WV 26257 USA 1 Coalton Ave United States;X-APPLE-RADIUS=500;X-TITLE=1 Coalton Ave:geo:-79.972583,38.924546
END:VEVENT
BEGIN:VEVENT
DTSTART;TZID=America/New_York:20191124T120000
DTEND;TZID=America/New_York:20191124T160000
DTSTAMP:20260425T161201
CREATED:20190423T083113Z
LAST-MODIFIED:20190607T143801Z
UID:6260-1574596800-1574611200@elkinsrandolphwv.com
SUMMARY:Sunday Bingo @ Coalton Fire Department
DESCRIPTION:Doors open at noon\nDinner at 1pm\nBingo at 2pm
URL:https://elkinsrandolphwv.com/event/coalton-fire-department-sunday-bingo-31/
LOCATION:Coalton VFW\, Coalton\, WV 26257\, USA\, 1 Coalton Ave\, United States
GEO:38.924546;-79.972583
X-APPLE-STRUCTURED-LOCATION;VALUE=URI;X-ADDRESS=Coalton VFW Coalton WV 26257 USA 1 Coalton Ave United States;X-APPLE-RADIUS=500;X-TITLE=1 Coalton Ave:geo:-79.972583,38.924546
END:VEVENT
BEGIN:VEVENT
DTSTART;TZID=America/New_York:20191117T120000
DTEND;TZID=America/New_York:20191117T160000
DTSTAMP:20260425T161201
CREATED:20190423T083026Z
LAST-MODIFIED:20190607T142329Z
UID:6224-1573992000-1574006400@elkinsrandolphwv.com
SUMMARY:Sunday Bingo @ Coalton Fire Department
DESCRIPTION:Doors open at noon\nDinner at 1pm\nBingo at 2pm
URL:https://elkinsrandolphwv.com/event/coalton-fire-department-sunday-bingo-30/
LOCATION:Coalton VFW\, Coalton\, WV 26257\, USA\, 1 Coalton Ave\, United States
GEO:38.924546;-79.972583
X-APPLE-STRUCTURED-LOCATION;VALUE=URI;X-ADDRESS=Coalton VFW Coalton WV 26257 USA 1 Coalton Ave United States;X-APPLE-RADIUS=500;X-TITLE=1 Coalton Ave:geo:-79.972583,38.924546
END:VEVENT
BEGIN:VEVENT
DTSTART;TZID=America/New_York:20191110T120000
DTEND;TZID=America/New_York:20191110T160000
DTSTAMP:20260425T161201
CREATED:20190423T082950Z
LAST-MODIFIED:20190607T142124Z
UID:6181-1573387200-1573401600@elkinsrandolphwv.com
SUMMARY:Sunday Bingo @ Coalton Fire Department
DESCRIPTION:Doors open at noon\nDinner at 1pm\nBingo at 2pm
URL:https://elkinsrandolphwv.com/event/coalton-fire-department-sunday-bingo-29/
LOCATION:Coalton VFW\, Coalton\, WV 26257\, USA\, 1 Coalton Ave\, United States
GEO:38.924546;-79.972583
X-APPLE-STRUCTURED-LOCATION;VALUE=URI;X-ADDRESS=Coalton VFW Coalton WV 26257 USA 1 Coalton Ave United States;X-APPLE-RADIUS=500;X-TITLE=1 Coalton Ave:geo:-79.972583,38.924546
END:VEVENT
BEGIN:VEVENT
DTSTART;TZID=America/New_York:20191103T120000
DTEND;TZID=America/New_York:20191103T160000
DTSTAMP:20260425T161201
CREATED:20190423T082916Z
LAST-MODIFIED:20190607T141553Z
UID:6149-1572782400-1572796800@elkinsrandolphwv.com
SUMMARY:Sunday Bingo @ Coalton Fire Department
DESCRIPTION:Doors open at noon\nDinner at 1pm\nBingo at 2pm
URL:https://elkinsrandolphwv.com/event/coalton-fire-department-sunday-bingo-28/
LOCATION:Coalton VFW\, Coalton\, WV 26257\, USA\, 1 Coalton Ave\, United States
GEO:38.924546;-79.972583
X-APPLE-STRUCTURED-LOCATION;VALUE=URI;X-ADDRESS=Coalton VFW Coalton WV 26257 USA 1 Coalton Ave United States;X-APPLE-RADIUS=500;X-TITLE=1 Coalton Ave:geo:-79.972583,38.924546
END:VEVENT
BEGIN:VEVENT
DTSTART;TZID=America/New_York:20191027T120000
DTEND;TZID=America/New_York:20191027T160000
DTSTAMP:20260425T161201
CREATED:20190423T082845Z
LAST-MODIFIED:20190607T135536Z
UID:6118-1572177600-1572192000@elkinsrandolphwv.com
SUMMARY:Sunday Bingo @ Coalton Fire Department
DESCRIPTION:Doors open at noon\nDinner at 1pm\nBingo at 2pm
URL:https://elkinsrandolphwv.com/event/coalton-fire-department-sunday-bingo-27/
LOCATION:Coalton VFW\, Coalton\, WV 26257\, USA\, 1 Coalton Ave\, United States
GEO:38.924546;-79.972583
X-APPLE-STRUCTURED-LOCATION;VALUE=URI;X-ADDRESS=Coalton VFW Coalton WV 26257 USA 1 Coalton Ave United States;X-APPLE-RADIUS=500;X-TITLE=1 Coalton Ave:geo:-79.972583,38.924546
END:VEVENT
BEGIN:VEVENT
DTSTART;TZID=America/New_York:20191020T120000
DTEND;TZID=America/New_York:20191020T160000
DTSTAMP:20260425T161201
CREATED:20190423T082726Z
LAST-MODIFIED:20190607T132645Z
UID:6048-1571572800-1571587200@elkinsrandolphwv.com
SUMMARY:Sunday Bingo @ Coalton Fire Department
DESCRIPTION:Doors open at noon\nDinner at 1pm\nBingo at 2pm
URL:https://elkinsrandolphwv.com/event/coalton-fire-department-sunday-bingo-26/
LOCATION:Coalton VFW\, Coalton\, WV 26257\, USA\, 1 Coalton Ave\, United States
GEO:38.924546;-79.972583
X-APPLE-STRUCTURED-LOCATION;VALUE=URI;X-ADDRESS=Coalton VFW Coalton WV 26257 USA 1 Coalton Ave United States;X-APPLE-RADIUS=500;X-TITLE=1 Coalton Ave:geo:-79.972583,38.924546
END:VEVENT
BEGIN:VEVENT
DTSTART;TZID=America/New_York:20191013T120000
DTEND;TZID=America/New_York:20191013T160000
DTSTAMP:20260425T161201
CREATED:20190423T082602Z
LAST-MODIFIED:20190607T131506Z
UID:5971-1570968000-1570982400@elkinsrandolphwv.com
SUMMARY:Sunday Bingo @ Coalton Fire Department
DESCRIPTION:Doors open at noon\nDinner at 1pm\nBingo at 2pm
URL:https://elkinsrandolphwv.com/event/coalton-fire-department-sunday-bingo-25/
LOCATION:Coalton VFW\, Coalton\, WV 26257\, USA\, 1 Coalton Ave\, United States
GEO:38.924546;-79.972583
X-APPLE-STRUCTURED-LOCATION;VALUE=URI;X-ADDRESS=Coalton VFW Coalton WV 26257 USA 1 Coalton Ave United States;X-APPLE-RADIUS=500;X-TITLE=1 Coalton Ave:geo:-79.972583,38.924546
END:VEVENT
BEGIN:VEVENT
DTSTART;TZID=America/New_York:20191006T120000
DTEND;TZID=America/New_York:20191006T160000
DTSTAMP:20260425T161201
CREATED:20190423T082425Z
LAST-MODIFIED:20190607T130127Z
UID:5898-1570363200-1570377600@elkinsrandolphwv.com
SUMMARY:Sunday Bingo @ Coalton Fire Department
DESCRIPTION:Doors open at noon\nDinner at 1pm\nBingo at 2pm
URL:https://elkinsrandolphwv.com/event/coalton-fire-department-sunday-bingo-24/
LOCATION:Coalton VFW\, Coalton\, WV 26257\, USA\, 1 Coalton Ave\, United States
GEO:38.924546;-79.972583
X-APPLE-STRUCTURED-LOCATION;VALUE=URI;X-ADDRESS=Coalton VFW Coalton WV 26257 USA 1 Coalton Ave United States;X-APPLE-RADIUS=500;X-TITLE=1 Coalton Ave:geo:-79.972583,38.924546
END:VEVENT
BEGIN:VEVENT
DTSTART;TZID=America/New_York:20190929T120000
DTEND;TZID=America/New_York:20190929T160000
DTSTAMP:20260425T161201
CREATED:20190423T082319Z
LAST-MODIFIED:20190607T125431Z
UID:5827-1569758400-1569772800@elkinsrandolphwv.com
SUMMARY:Sunday Bingo @ Coalton Fire Department
DESCRIPTION:Doors open at noon\nDinner at 1pm\nBingo at 2pm
URL:https://elkinsrandolphwv.com/event/coalton-fire-department-sunday-bingo-23/
LOCATION:Coalton VFW\, Coalton\, WV 26257\, USA\, 1 Coalton Ave\, United States
GEO:38.924546;-79.972583
X-APPLE-STRUCTURED-LOCATION;VALUE=URI;X-ADDRESS=Coalton VFW Coalton WV 26257 USA 1 Coalton Ave United States;X-APPLE-RADIUS=500;X-TITLE=1 Coalton Ave:geo:-79.972583,38.924546
END:VEVENT
BEGIN:VEVENT
DTSTART;TZID=America/New_York:20190922T120000
DTEND;TZID=America/New_York:20190922T160000
DTSTAMP:20260425T161201
CREATED:20190423T082224Z
LAST-MODIFIED:20190607T124744Z
UID:5757-1569153600-1569168000@elkinsrandolphwv.com
SUMMARY:Sunday Bingo @ Coalton Fire Department
DESCRIPTION:Doors open at noon\nDinner at 1pm\nBingo at 2pm
URL:https://elkinsrandolphwv.com/event/coalton-fire-department-sunday-bingo-22/
LOCATION:Coalton VFW\, Coalton\, WV 26257\, USA\, 1 Coalton Ave\, United States
GEO:38.924546;-79.972583
X-APPLE-STRUCTURED-LOCATION;VALUE=URI;X-ADDRESS=Coalton VFW Coalton WV 26257 USA 1 Coalton Ave United States;X-APPLE-RADIUS=500;X-TITLE=1 Coalton Ave:geo:-79.972583,38.924546
END:VEVENT
BEGIN:VEVENT
DTSTART;TZID=UTC:20190922T100000
DTEND;TZID=UTC:20190922T130000
DTSTAMP:20260425T161201
CREATED:20190812T230336Z
LAST-MODIFIED:20190812T230336Z
UID:15104-1569146400-1569157200@elkinsrandolphwv.com
SUMMARY:Concealed Carry Class @ Coalton VFW
DESCRIPTION:Basic Pistol /Concealed Carry Class. VFW in Coalton.
URL:https://elkinsrandolphwv.com/event/concealed-carry-class-coalton-vfw/
LOCATION:Coalton VFW\, Coalton\, WV 26257\, USA\, 1 Coalton Ave\, United States
GEO:38.924546;-79.972583
X-APPLE-STRUCTURED-LOCATION;VALUE=URI;X-ADDRESS=Coalton VFW Coalton WV 26257 USA 1 Coalton Ave United States;X-APPLE-RADIUS=500;X-TITLE=1 Coalton Ave:geo:-79.972583,38.924546
END:VEVENT
BEGIN:VEVENT
DTSTART;TZID=America/New_York:20190915T120000
DTEND;TZID=America/New_York:20190915T160000
DTSTAMP:20260425T161201
CREATED:20190423T082106Z
LAST-MODIFIED:20190607T124056Z
UID:5696-1568548800-1568563200@elkinsrandolphwv.com
SUMMARY:Sunday Bingo @ Coalton Fire Department
DESCRIPTION:Doors open at noon\nDinner at 1pm\nBingo at 2pm
URL:https://elkinsrandolphwv.com/event/coalton-fire-department-sunday-bingo-21/
LOCATION:Coalton VFW\, Coalton\, WV 26257\, USA\, 1 Coalton Ave\, United States
GEO:38.924546;-79.972583
X-APPLE-STRUCTURED-LOCATION;VALUE=URI;X-ADDRESS=Coalton VFW Coalton WV 26257 USA 1 Coalton Ave United States;X-APPLE-RADIUS=500;X-TITLE=1 Coalton Ave:geo:-79.972583,38.924546
END:VEVENT
BEGIN:VEVENT
DTSTART;TZID=America/New_York:20190908T120000
DTEND;TZID=America/New_York:20190908T160000
DTSTAMP:20260425T161201
CREATED:20190423T082032Z
LAST-MODIFIED:20190607T122757Z
UID:5642-1567944000-1567958400@elkinsrandolphwv.com
SUMMARY:Sunday Bingo @ Coalton Fire Department
DESCRIPTION:Doors open at noon\nDinner at 1pm\nBingo at 2pm
URL:https://elkinsrandolphwv.com/event/coalton-fire-department-sunday-bingo-20/
LOCATION:Coalton VFW\, Coalton\, WV 26257\, USA\, 1 Coalton Ave\, United States
GEO:38.924546;-79.972583
X-APPLE-STRUCTURED-LOCATION;VALUE=URI;X-ADDRESS=Coalton VFW Coalton WV 26257 USA 1 Coalton Ave United States;X-APPLE-RADIUS=500;X-TITLE=1 Coalton Ave:geo:-79.972583,38.924546
END:VEVENT
BEGIN:VEVENT
DTSTART;TZID=America/New_York:20190901T120000
DTEND;TZID=America/New_York:20190901T160000
DTSTAMP:20260425T161201
CREATED:20190423T081944Z
LAST-MODIFIED:20190607T122218Z
UID:5582-1567339200-1567353600@elkinsrandolphwv.com
SUMMARY:Sunday Bingo @ Coalton Fire Department
DESCRIPTION:Doors open at noon\nDinner at 1pm\nBingo at 2pm
URL:https://elkinsrandolphwv.com/event/coalton-fire-department-sunday-bingo-19/
LOCATION:Coalton VFW\, Coalton\, WV 26257\, USA\, 1 Coalton Ave\, United States
GEO:38.924546;-79.972583
X-APPLE-STRUCTURED-LOCATION;VALUE=URI;X-ADDRESS=Coalton VFW Coalton WV 26257 USA 1 Coalton Ave United States;X-APPLE-RADIUS=500;X-TITLE=1 Coalton Ave:geo:-79.972583,38.924546
END:VEVENT
BEGIN:VEVENT
DTSTART;TZID=America/New_York:20190825T120000
DTEND;TZID=America/New_York:20190825T160000
DTSTAMP:20260425T161201
CREATED:20190423T081025Z
LAST-MODIFIED:20190607T121641Z
UID:5520-1566734400-1566748800@elkinsrandolphwv.com
SUMMARY:Sunday Bingo @ Coalton Fire Department
DESCRIPTION:Doors open at noon\nDinner at 1pm\nBingo at 2pm
URL:https://elkinsrandolphwv.com/event/coalton-fire-department-sunday-bingo-18/
LOCATION:Coalton VFW\, Coalton\, WV 26257\, USA\, 1 Coalton Ave\, United States
GEO:38.924546;-79.972583
X-APPLE-STRUCTURED-LOCATION;VALUE=URI;X-ADDRESS=Coalton VFW Coalton WV 26257 USA 1 Coalton Ave United States;X-APPLE-RADIUS=500;X-TITLE=1 Coalton Ave:geo:-79.972583,38.924546
END:VEVENT
BEGIN:VEVENT
DTSTART;TZID=America/New_York:20190818T120000
DTEND;TZID=America/New_York:20190818T160000
DTSTAMP:20260425T161201
CREATED:20190423T080830Z
LAST-MODIFIED:20190607T115909Z
UID:5447-1566129600-1566144000@elkinsrandolphwv.com
SUMMARY:Sunday Bingo @ Coalton Fire Department
DESCRIPTION:Doors open at noon\nDinner at 1pm\nBingo at 2pm
URL:https://elkinsrandolphwv.com/event/coalton-fire-department-sunday-bingo-17/
LOCATION:Coalton VFW\, Coalton\, WV 26257\, USA\, 1 Coalton Ave\, United States
GEO:38.924546;-79.972583
X-APPLE-STRUCTURED-LOCATION;VALUE=URI;X-ADDRESS=Coalton VFW Coalton WV 26257 USA 1 Coalton Ave United States;X-APPLE-RADIUS=500;X-TITLE=1 Coalton Ave:geo:-79.972583,38.924546
END:VEVENT
BEGIN:VEVENT
DTSTART;TZID=America/New_York:20190811T120000
DTEND;TZID=America/New_York:20190811T160000
DTSTAMP:20260425T161201
CREATED:20190423T080403Z
LAST-MODIFIED:20190607T112920Z
UID:5383-1565524800-1565539200@elkinsrandolphwv.com
SUMMARY:Sunday Bingo @ Coalton Fire Department
DESCRIPTION:Doors open at noon\nDinner at 1pm\nBingo at 2pm
URL:https://elkinsrandolphwv.com/event/coalton-fire-department-sunday-bingo-16/
LOCATION:Coalton VFW\, Coalton\, WV 26257\, USA\, 1 Coalton Ave\, United States
GEO:38.924546;-79.972583
X-APPLE-STRUCTURED-LOCATION;VALUE=URI;X-ADDRESS=Coalton VFW Coalton WV 26257 USA 1 Coalton Ave United States;X-APPLE-RADIUS=500;X-TITLE=1 Coalton Ave:geo:-79.972583,38.924546
END:VEVENT
BEGIN:VEVENT
DTSTART;TZID=America/New_York:20190804T120000
DTEND;TZID=America/New_York:20190804T160000
DTSTAMP:20260425T161201
CREATED:20190423T075931Z
LAST-MODIFIED:20190607T110841Z
UID:5306-1564920000-1564934400@elkinsrandolphwv.com
SUMMARY:Sunday Bingo @ Coalton Fire Department
DESCRIPTION:Doors open at noon\nDinner at 1pm\nBingo at 2pm
URL:https://elkinsrandolphwv.com/event/coalton-fire-department-sunday-bingo-15/
LOCATION:Coalton VFW\, Coalton\, WV 26257\, USA\, 1 Coalton Ave\, United States
GEO:38.924546;-79.972583
X-APPLE-STRUCTURED-LOCATION;VALUE=URI;X-ADDRESS=Coalton VFW Coalton WV 26257 USA 1 Coalton Ave United States;X-APPLE-RADIUS=500;X-TITLE=1 Coalton Ave:geo:-79.972583,38.924546
END:VEVENT
BEGIN:VEVENT
DTSTART;TZID=America/New_York:20190728T120000
DTEND;TZID=America/New_York:20190728T160000
DTSTAMP:20260425T161201
CREATED:20190423T075829Z
LAST-MODIFIED:20190607T105126Z
UID:5235-1564315200-1564329600@elkinsrandolphwv.com
SUMMARY:Sunday Bingo @ Coalton Fire Department
DESCRIPTION:Doors open at noon\nDinner at 1pm\nBingo at 2pm
URL:https://elkinsrandolphwv.com/event/coalton-fire-department-sunday-bingo-14/
LOCATION:Coalton VFW\, Coalton\, WV 26257\, USA\, 1 Coalton Ave\, United States
GEO:38.924546;-79.972583
X-APPLE-STRUCTURED-LOCATION;VALUE=URI;X-ADDRESS=Coalton VFW Coalton WV 26257 USA 1 Coalton Ave United States;X-APPLE-RADIUS=500;X-TITLE=1 Coalton Ave:geo:-79.972583,38.924546
END:VEVENT
BEGIN:VEVENT
DTSTART;TZID=America/New_York:20190721T120000
DTEND;TZID=America/New_York:20190721T160000
DTSTAMP:20260425T161201
CREATED:20190423T075746Z
LAST-MODIFIED:20190607T102225Z
UID:5173-1563710400-1563724800@elkinsrandolphwv.com
SUMMARY:Sunday Bingo @ Coalton Fire Department
DESCRIPTION:Doors open at noon\nDinner at 1pm\nBingo at 2pm
URL:https://elkinsrandolphwv.com/event/coalton-fire-department-sunday-bingo-13/
LOCATION:Coalton VFW\, Coalton\, WV 26257\, USA\, 1 Coalton Ave\, United States
GEO:38.924546;-79.972583
X-APPLE-STRUCTURED-LOCATION;VALUE=URI;X-ADDRESS=Coalton VFW Coalton WV 26257 USA 1 Coalton Ave United States;X-APPLE-RADIUS=500;X-TITLE=1 Coalton Ave:geo:-79.972583,38.924546
END:VEVENT
END:VCALENDAR