BEGIN:VCALENDAR
VERSION:2.0
PRODID:-//Elkins-Randolph County Tourism - ECPv6.15.20//NONSGML v1.0//EN
CALSCALE:GREGORIAN
METHOD:PUBLISH
X-ORIGINAL-URL:https://elkinsrandolphwv.com
X-WR-CALDESC:Events for Elkins-Randolph County Tourism
REFRESH-INTERVAL;VALUE=DURATION:PT1H
X-Robots-Tag:noindex
X-PUBLISHED-TTL:PT1H
BEGIN:VTIMEZONE
TZID:UTC
BEGIN:STANDARD
TZOFFSETFROM:+0000
TZOFFSETTO:+0000
TZNAME:UTC
DTSTART:20210101T000000
END:STANDARD
END:VTIMEZONE
BEGIN:VEVENT
DTSTART;TZID=UTC:20241005T100000
DTEND;TZID=UTC:20241005T160000
DTSTAMP:20260424T203928
CREATED:20240911T182021Z
LAST-MODIFIED:20240911T182021Z
UID:29242-1728122400-1728144000@elkinsrandolphwv.com
SUMMARY:MSFF - Mountain Weavers Guild
DESCRIPTION:
URL:https://elkinsrandolphwv.com/event/msff-mountain-weavers-guild-2/
LOCATION:Darden Mill Museum\, 2 Railroad Ave\, Elkins\, WV\, 26241\, United States
CATEGORIES:Art & Culture,Community,Entertainment,Kids & Family
ATTACH;FMTTYPE=image/jpeg:https://elkinsrandolphwv.com/wp-content/uploads/2019/10/MSFF-e1661781904912.jpg
END:VEVENT
BEGIN:VEVENT
DTSTART;TZID=UTC:20241004T160000
DTEND;TZID=UTC:20241004T170000
DTSTAMP:20260424T203928
CREATED:20241003T181151Z
LAST-MODIFIED:20241003T181151Z
UID:29618-1728057600-1728061200@elkinsrandolphwv.com
SUMMARY:Live Music at the Darden Mill | Fair Play
DESCRIPTION:Visit the Appalachian Forest Discovery Center on Friday October 4 at 4:00pm for a special musical performance by Fair Play! The event is free and open to all. The duo will play in the second floor event space of the Darden Mill. \n\nAbout Fair Play:\nEd and Trish Bowes have been playing music together since they first met on the chairlift at Silver Creek ski resort many years ago. They now share their time between their homes in Beverly\, WV and Midlothian\, VA. They have previously performed as “Fair Play” for Beverly Days\, Bucky House dinner concerts\, and other local venues. They are grateful for the opportunity to perform during the 2024 WV Forest Festival.
URL:https://elkinsrandolphwv.com/event/live-music-at-the-darden-mill-fair-play/
LOCATION:Darden Mill Museum\, 2 Railroad Ave\, Elkins\, WV\, 26241\, United States
CATEGORIES:Entertainment,Music
ORGANIZER;CN="Appalachian Forest National Heritage Area":MAILTO:info@appalachianforest.us
END:VEVENT
BEGIN:VEVENT
DTSTART;TZID=UTC:20241004T100000
DTEND;TZID=UTC:20241004T160000
DTSTAMP:20260424T203928
CREATED:20240911T174305Z
LAST-MODIFIED:20240911T174305Z
UID:29222-1728036000-1728057600@elkinsrandolphwv.com
SUMMARY:MSFF - Mountain Weavers Guild
DESCRIPTION:Darden Mill Museum
URL:https://elkinsrandolphwv.com/event/msff-mountain-weavers-guild/
LOCATION:Darden Mill Museum\, 2 Railroad Ave\, Elkins\, WV\, 26241\, United States
CATEGORIES:Art & Culture,Entertainment,Kids & Family
ATTACH;FMTTYPE=image/jpeg:https://elkinsrandolphwv.com/wp-content/uploads/2019/10/MSFF-e1661781904912.jpg
END:VEVENT
BEGIN:VEVENT
DTSTART;TZID=UTC:20231006T163000
DTEND;TZID=UTC:20231006T233000
DTSTAMP:20260424T203928
CREATED:20230925T232951Z
LAST-MODIFIED:20230925T232951Z
UID:27708-1696609800-1696635000@elkinsrandolphwv.com
SUMMARY:Music Event at the Darden Mill
DESCRIPTION:live Music by “Fair Play”\nSecond floor events space of the Darden Mill Building\nhttps://www.facebook.com/events/695029869155937?ref=newsfeed\nhttps://www.appalachianforestnha.org/\n\nVisit the Appalachian Forest Discovery Center on Friday\, October 6 at 4:30pm for a special musical performance by Fair Play! The event is free and open to all. The Richmond\, Virginia-based band will play in the second floor event space of the Darden Mill. Downstairs\, the Appalachian Forest Discovery Center will extend its hours until 6pm to allow guests to visit the Material Culture: Wood and Weaving exhibit.
URL:https://elkinsrandolphwv.com/event/music-event-at-the-darden-mill/
LOCATION:Darden Mill Museum\, 2 Railroad Ave\, Elkins\, WV\, 26241\, United States
END:VEVENT
BEGIN:VEVENT
DTSTART;TZID=UTC:20231006T100000
DTEND;TZID=UTC:20231006T160000
DTSTAMP:20260424T203928
CREATED:20230929T194914Z
LAST-MODIFIED:20230929T194914Z
UID:27715-1696586400-1696608000@elkinsrandolphwv.com
SUMMARY:Mountain Weavers Guild
DESCRIPTION:
URL:https://elkinsrandolphwv.com/event/mountain-weavers-guild-5/2023-10-06/
LOCATION:Darden Mill Museum\, 2 Railroad Ave\, Elkins\, WV\, 26241\, United States
CATEGORIES:Art & Culture
END:VEVENT
BEGIN:VEVENT
DTSTART;TZID=UTC:20231006T100000
DTEND;TZID=UTC:20231006T120000
DTSTAMP:20260424T203928
CREATED:20230925T233659Z
LAST-MODIFIED:20230925T233659Z
UID:27710-1696586400-1696593600@elkinsrandolphwv.com
SUMMARY:Free Beginners Lap Dulcimer Workshop
DESCRIPTION:Come celebrate the Forest Festival by learning a new instrument! From 10am to 12pm on October 6th\, the Appalachian Forest Discovery Center will host a FREE drop-in lesson on the lap dulcimer in the second floor event space at Darden Mill\, open to beginners of all ages! Visitors are welcome to walk in throughout the lesson as they explore all that the Darden Mill has to offer during the festival.\nIf you want a sneak peek\, the AFDC’s exhibit\, Material Culture: Wood and Weaving\, has a lap dulcimer ready to play at all times the museum is open! \nhttps://www.facebook.com/events/838011681368226?ref=newsfeed \n(304)-636-6182
URL:https://elkinsrandolphwv.com/event/free-beginners-lap-dulcimer-workshop/
LOCATION:Darden Mill Museum\, 2 Railroad Ave\, Elkins\, WV\, 26241\, United States
END:VEVENT
BEGIN:VEVENT
DTSTART;TZID=UTC:20230121T173000
DTEND;TZID=UTC:20230121T220000
DTSTAMP:20260424T203928
CREATED:20230115T232534Z
LAST-MODIFIED:20230115T232605Z
UID:26623-1674322200-1674338400@elkinsrandolphwv.com
SUMMARY:Dardenfest 2023
DESCRIPTION:Enjoy live musical performances to support the renovation/expansion of the Elkins-Randolph County Public Library!\nDate: January 21\, 2023\nTime: Doors open at 5:30pm\, show starts at 6 O’Clock.\nLocation: Upstairs in the Darden Mill (corner of 1st St and Railroad Ave\, home of the Appalachian Forest Discovery Center and WV Railroad Museum)\nCost: $10 general admission\, AmeriCorps\, students and veterans $5. Limited seating.\n*light snacks (baked goods and some veggies) and drinks (lemonade and/or tea\, water and coffee) will be provided for free.\nMusicians:\n1. Jesse Milnes\n2. Gerry Milnes\n3. Val Mindel and Mike Miller\n4. Doug Van Gundy\n5. Chris Lovejoy and Josh Wanstreet\nAll proceeds will go to the Friends of the Library towards rebuilding the new\, expanded Elkins-Randolph County Public Library which suffered severe water damage a year ago resulting in the library relocating temporarily until the new building is completed. A raffle will be held during the event featuring items donated from local artists and businesses. Donations to the Friends of the Library can also be made at https://elkinslibrary.com/
URL:https://elkinsrandolphwv.com/event/dardenfest-2023/
LOCATION:Darden Mill Museum\, 2 Railroad Ave\, Elkins\, WV\, 26241\, United States
CATEGORIES:Art & Culture,Community,Entertainment,Fairs & Festivals,Food & Drink,Kids & Family,Music
ATTACH;FMTTYPE=image/jpeg:https://elkinsrandolphwv.com/wp-content/uploads/2023/01/323384405_1493854014443015_2044237391120115681_n-e1673807116724.jpg
END:VEVENT
BEGIN:VEVENT
DTSTART;TZID=UTC:20221008T100000
DTEND;TZID=UTC:20221008T160000
DTSTAMP:20260424T203928
CREATED:20220921T122612Z
LAST-MODIFIED:20220921T122612Z
UID:26296-1665223200-1665244800@elkinsrandolphwv.com
SUMMARY:Mountain Weavers Guild
DESCRIPTION:
URL:https://elkinsrandolphwv.com/event/mountain-weavers-guild-4/
LOCATION:Darden Mill Museum\, 2 Railroad Ave\, Elkins\, WV\, 26241\, United States
CATEGORIES:Art & Culture,Community
ATTACH;FMTTYPE=image/jpeg:https://elkinsrandolphwv.com/wp-content/uploads/2022/09/71898026_1429176620568362_7320672151445438464_n-e1663259327970.jpg
END:VEVENT
BEGIN:VEVENT
DTSTART;TZID=UTC:20221007T100000
DTEND;TZID=UTC:20221007T160000
DTSTAMP:20260424T203928
CREATED:20220915T214819Z
LAST-MODIFIED:20220915T214819Z
UID:26259-1665136800-1665158400@elkinsrandolphwv.com
SUMMARY:Mountain Weavers Guild
DESCRIPTION:
URL:https://elkinsrandolphwv.com/event/mountain-weavers-guild-3/
LOCATION:Darden Mill Museum\, 2 Railroad Ave\, Elkins\, WV\, 26241\, United States
CATEGORIES:Art & Culture,Community
ATTACH;FMTTYPE=image/jpeg:https://elkinsrandolphwv.com/wp-content/uploads/2022/09/71898026_1429176620568362_7320672151445438464_n-e1663259327970.jpg
END:VEVENT
BEGIN:VEVENT
DTSTART;TZID=UTC:20221006T100000
DTEND;TZID=UTC:20221006T160000
DTSTAMP:20260424T203928
CREATED:20220915T211813Z
LAST-MODIFIED:20220915T211813Z
UID:26244-1665050400-1665072000@elkinsrandolphwv.com
SUMMARY:Mountain Weavers Guild
DESCRIPTION:
URL:https://elkinsrandolphwv.com/event/mountain-weavers-guild-2/
LOCATION:Darden Mill Museum\, 2 Railroad Ave\, Elkins\, WV\, 26241\, United States
CATEGORIES:Art & Culture,Community
ATTACH;FMTTYPE=image/jpeg:https://elkinsrandolphwv.com/wp-content/uploads/2022/09/71898026_1429176620568362_7320672151445438464_n-e1663259327970.jpg
END:VEVENT
BEGIN:VEVENT
DTSTART;TZID=UTC:20221005T093000
DTEND;TZID=UTC:20221005T173000
DTSTAMP:20260424T203928
CREATED:20220915T202907Z
LAST-MODIFIED:20220915T202907Z
UID:26226-1664962200-1664991000@elkinsrandolphwv.com
SUMMARY:Mountain Weavers Guild
DESCRIPTION:
URL:https://elkinsrandolphwv.com/event/mountain-weavers-guild/
LOCATION:Darden Mill Museum\, 2 Railroad Ave\, Elkins\, WV\, 26241\, United States
CATEGORIES:Art & Culture,Community
ATTACH;FMTTYPE=image/jpeg:https://elkinsrandolphwv.com/wp-content/uploads/2022/09/71898026_1429176620568362_7320672151445438464_n-e1663259327970.jpg
END:VEVENT
END:VCALENDAR