BEGIN:VCALENDAR
VERSION:2.0
PRODID:-//Elkins-Randolph County Tourism - ECPv6.15.20//NONSGML v1.0//EN
CALSCALE:GREGORIAN
METHOD:PUBLISH
X-ORIGINAL-URL:https://elkinsrandolphwv.com
X-WR-CALDESC:Events for Elkins-Randolph County Tourism
REFRESH-INTERVAL;VALUE=DURATION:PT1H
X-Robots-Tag:noindex
X-PUBLISHED-TTL:PT1H
BEGIN:VTIMEZONE
TZID:UTC
BEGIN:STANDARD
TZOFFSETFROM:+0000
TZOFFSETTO:+0000
TZNAME:UTC
DTSTART:20180101T000000
END:STANDARD
END:VTIMEZONE
BEGIN:VTIMEZONE
TZID:America/New_York
BEGIN:DAYLIGHT
TZOFFSETFROM:-0500
TZOFFSETTO:-0400
TZNAME:EDT
DTSTART:20180311T070000
END:DAYLIGHT
BEGIN:STANDARD
TZOFFSETFROM:-0400
TZOFFSETTO:-0500
TZNAME:EST
DTSTART:20181104T060000
END:STANDARD
BEGIN:DAYLIGHT
TZOFFSETFROM:-0500
TZOFFSETTO:-0400
TZNAME:EDT
DTSTART:20190310T070000
END:DAYLIGHT
BEGIN:STANDARD
TZOFFSETFROM:-0400
TZOFFSETTO:-0500
TZNAME:EST
DTSTART:20191103T060000
END:STANDARD
BEGIN:DAYLIGHT
TZOFFSETFROM:-0500
TZOFFSETTO:-0400
TZNAME:EDT
DTSTART:20200308T070000
END:DAYLIGHT
BEGIN:STANDARD
TZOFFSETFROM:-0400
TZOFFSETTO:-0500
TZNAME:EST
DTSTART:20201101T060000
END:STANDARD
END:VTIMEZONE
BEGIN:VEVENT
DTSTART;TZID=UTC:20190709T210000
DTEND;TZID=UTC:20190709T223000
DTSTAMP:20260423T145022
CREATED:20190703T233255Z
LAST-MODIFIED:20190703T233255Z
UID:14111-1562706000-1562711400@elkinsrandolphwv.com
SUMMARY:Honky Tonk Dance with music by Classic Country Staff
DESCRIPTION:Honky – Tonk Dance immediately following the concert with music by Classic Country Staff. Admission to dance is free with concert ticket.
URL:https://elkinsrandolphwv.com/event/honky-tonk-dance-with-music-by-classic-country-staff/
LOCATION:Davis and Elkins College / Augusta Dance Pavilion
ATTACH;FMTTYPE=image/jpeg:https://elkinsrandolphwv.com/wp-content/uploads/2019/03/36314793_10155958060698952_6828719884327714816_n.jpg
END:VEVENT
BEGIN:VEVENT
DTSTART;TZID=UTC:20190708T200000
DTEND;TZID=UTC:20190708T220000
DTSTAMP:20260423T145022
CREATED:20190703T232856Z
LAST-MODIFIED:20190703T232856Z
UID:14107-1562616000-1562623200@elkinsrandolphwv.com
SUMMARY:Cajun Dance with music by Jimmy Breaux & Friends and Balfa Toujours
DESCRIPTION:General Admission $7\, Students $5. Augusta Pavilion.
URL:https://elkinsrandolphwv.com/event/cajun-dance-with-music-by-jimmy-breaux-friends-and-balfa-toujours/
LOCATION:Davis and Elkins College / Augusta Dance Pavilion
ATTACH;FMTTYPE=image/jpeg:https://elkinsrandolphwv.com/wp-content/uploads/2019/03/augusta.jpg
END:VEVENT
BEGIN:VEVENT
DTSTART;TZID=UTC:20190707T200000
DTEND;TZID=UTC:20190707T220000
DTSTAMP:20260423T145022
CREATED:20190703T230008Z
LAST-MODIFIED:20190703T230008Z
UID:14101-1562529600-1562536800@elkinsrandolphwv.com
SUMMARY:Cajun Dance with music by Blake Miller\, Jesse Lege & Friends
DESCRIPTION:Join us for this Cajun Dance at the Augusta Pavilion to kick off the Augusta Festival. General admission $7\, students $5.
URL:https://elkinsrandolphwv.com/event/cajun-dance-with-music-by-blake-miller-jesse-lege-friends/
LOCATION:Davis and Elkins College / Augusta Dance Pavilion
ATTACH;FMTTYPE=image/jpeg:https://elkinsrandolphwv.com/wp-content/uploads/2019/03/augusta.jpg
END:VEVENT
BEGIN:VEVENT
DTSTART;TZID=America/New_York:20190503T200000
DTEND;TZID=America/New_York:20190503T220000
DTSTAMP:20260423T145022
CREATED:20190423T072807Z
LAST-MODIFIED:20190504T224621Z
UID:4309-1556913600-1556920800@elkinsrandolphwv.com
SUMMARY:Augusta Heritage Center: May Square Dance
DESCRIPTION:Augusta Heritage Center May Square Dance\nFriday\, May 3\, 2019\n8:00 p.m. – 10:00 p.m. (Beginners’ Workshop at 7:45pm)\nD&E Campus\, Augusta Dance Pavilion. Cold weather location: Myles Center for the Arts\, Creative Commons (former Pit Dance Studio)  \n$7 general\, $5 students & AmeriCorps\, free to Augusta participants and D&E students\, faculty\, & staff. \nDance to live old-time music by Annie Stroud & Friends! All dances are beginner and family friendly\, and participants don’t need to bring a dance partner.  \nElkins is part of the Mountain Dance Trail\, a heritage tourism project of Augusta Heritage Center of Davis & Elkins College. The project preserves and promotes 15 local community square dances from the Virginia line to the Ohio border. The Mountain Dance Trail hosts a square dance almost every weekend somewhere in West Virginia. The 2018 Mountain Dance Trail schedule is available online at www.mountaindancetrail.org and in the brochure. For more information\, call the Augusta Heritage …
URL:https://elkinsrandolphwv.com/event/augusta-heritage-center-may-square-dance/
LOCATION:Davis and Elkins College / Augusta Dance Pavilion
END:VEVENT
END:VCALENDAR