BEGIN:VCALENDAR
VERSION:2.0
PRODID:-//Elkins-Randolph County Tourism - ECPv6.15.20//NONSGML v1.0//EN
CALSCALE:GREGORIAN
METHOD:PUBLISH
X-WR-CALNAME:Elkins-Randolph County Tourism
X-ORIGINAL-URL:https://elkinsrandolphwv.com
X-WR-CALDESC:Events for Elkins-Randolph County Tourism
REFRESH-INTERVAL;VALUE=DURATION:PT1H
X-Robots-Tag:noindex
X-PUBLISHED-TTL:PT1H
BEGIN:VTIMEZONE
TZID:UTC
BEGIN:STANDARD
TZOFFSETFROM:+0000
TZOFFSETTO:+0000
TZNAME:UTC
DTSTART:20180101T000000
END:STANDARD
END:VTIMEZONE
BEGIN:VEVENT
DTSTART;TZID=UTC:20221008T190000
DTEND;TZID=UTC:20221008T210000
DTSTAMP:20260424T012738
CREATED:20220921T125157Z
LAST-MODIFIED:20220921T125157Z
UID:26305-1665255600-1665262800@elkinsrandolphwv.com
SUMMARY:Country Music Show: Country on Campus Tour
DESCRIPTION:Free Concert\, Citizens Bank of WV Amphitheatre at D&E \n(*Inclement Weather Location: Harper McNeely Auditorium at D&E*)
URL:https://elkinsrandolphwv.com/event/country-music-show-country-on-campus-tour/
LOCATION:Davis & Elkins College Outdoor Amphitheatre\, 100 Campus Drive\, Elkins\, WV\, 26241\, United States
CATEGORIES:Art & Culture,Community,Davis & Elkins College,Fairs & Festivals,Food & Drink,Kids & Family,Music,Outdoor Activities
ATTACH;FMTTYPE=image/jpeg:https://elkinsrandolphwv.com/wp-content/uploads/2019/10/MSFF-e1661781904912.jpg
END:VEVENT
BEGIN:VEVENT
DTSTART;TZID=UTC:20221008T080000
DTEND;TZID=UTC:20221008T140000
DTSTAMP:20260424T012738
CREATED:20220921T121435Z
LAST-MODIFIED:20220921T121435Z
UID:26287-1665216000-1665237600@elkinsrandolphwv.com
SUMMARY:Lumberjack Contest
DESCRIPTION:
URL:https://elkinsrandolphwv.com/event/lumberjack-contest/
LOCATION:Davis & Elkins College Outdoor Amphitheatre\, 100 Campus Drive\, Elkins\, WV\, 26241\, United States
CATEGORIES:Community,Competition,Davis & Elkins College,Entertainment,Fairs & Festivals,Food & Drink,Kids & Family
ATTACH;FMTTYPE=image/jpeg:https://elkinsrandolphwv.com/wp-content/uploads/2019/10/MSFF-e1661781904912.jpg
END:VEVENT
BEGIN:VEVENT
DTSTART;TZID=UTC:20191023T090000
DTEND;TZID=UTC:20191023T160000
DTSTAMP:20260424T012738
CREATED:20190924T003120Z
LAST-MODIFIED:20190924T003120Z
UID:15753-1571821200-1571846400@elkinsrandolphwv.com
SUMMARY:Building an Age Friendly Community @ Davis & Elkins College
DESCRIPTION:If you are in the Health and/or Human Services field\, you don’t want to miss this one day symposium\, “Building an Age Friendly Community.” \nA one day symposium for health and human services providers serving the Potomac Highlands region of north-central West Virginia\, presented by Davis Medical Center NICHE Leadership Team.\nDavis Medical Center is a NICHE designated Senior Friendly hospital. \nOctober 23\, 2019 – 9am – 4pm \nByrd Conference Center\nDavis & Elkins College\n100 Campus Drive • Elkins\, WV 26241 \n4Ms Framework\nWHAT MATTERS\nMOBILITY\nMEDICATION\nMENTATION \nRegistration – $40\nIncludes light breakfast and a full lunch catered by Graceland\nEarly Bird Registration – $30\nMust register by October 4th for Early Bird rate.\nREGISTER HERE – https://www.dhsfoundation.com/building-an-age-friendly-community \nSPOTS LIMITED – REGISTER NOW!\nCEU’s available pending approval. \nSpeakers/Topics\nWhat is an Age Friendly Community?\nKim Haher\, DMC NICHE Coordinator \nCaring for an Aging Community\nDr. Huixin Wu\, Chair\, Division of Nursing\, Davis & Elkins College \nMedication Overload\, America’s Other Drug Problem\nDr. Mindy Chua\, DMC Chief Medical Officer \nBeers Criteria for Potentially Inappropriate Medication Use in Older Adults\nMegan Daft\, Health Center Pharmacy \nNetworking Lunch and Resource Showcase – Graceland Inn \nGuidelines for Care for Persons with Alzheimer’s or related dementias\nJ.T. Hunter\, WV Alzheimers Association \nCognitive Changes: Recognizing and Staging\nErin Browning\, DMC Speech Therapy \nMaintaining Mobility for Seniors\nJulie Fleming DMC Physical Therapy \nLegal & Financial Safeguards – Brian Elliott\, Edward Jones & Michael Cholet\, TransAmerica \nWhat Matters to Me?\nTiffany Auvil\, DMC Population Health \nThank you to our sponsors:\nDavis Medical Center\nNICHE – Nurses Improving Care for Health-system Elders\nDavis & Elkins College\nWV Alzheimer’s Association\nDavis Health System Foundation
URL:https://elkinsrandolphwv.com/event/building-an-age-friendly-community-davis-elkins-college/
LOCATION:Davis & Elkins College Outdoor Amphitheatre\, 100 Campus Drive\, Elkins\, WV\, 26241\, United States
CATEGORIES:Community
ATTACH;FMTTYPE=image/jpeg:https://elkinsrandolphwv.com/wp-content/uploads/2019/06/Davis-Medical-Center.jpg
END:VEVENT
BEGIN:VEVENT
DTSTART;TZID=UTC:20191005T080000
DTEND;TZID=UTC:20191005T110000
DTSTAMP:20260424T012738
CREATED:20190807T185747Z
LAST-MODIFIED:20190807T185747Z
UID:15068-1570262400-1570273200@elkinsrandolphwv.com
SUMMARY:Lumberjack Contest @ Davis and Elkins College Outdoor Ampitheatre
DESCRIPTION:
URL:https://elkinsrandolphwv.com/event/lumberjack-contest-davis-and-elkins-college-outdoor-ampitheatre/
LOCATION:Davis & Elkins College Outdoor Amphitheatre\, 100 Campus Drive\, Elkins\, WV\, 26241\, United States
ATTACH;FMTTYPE=image/png:https://elkinsrandolphwv.com/wp-content/uploads/2019/08/MSFF.png
END:VEVENT
BEGIN:VEVENT
DTSTART;TZID=UTC:20191004T130000
DTEND;TZID=UTC:20191004T160000
DTSTAMP:20260424T012738
CREATED:20190807T185047Z
LAST-MODIFIED:20190807T185047Z
UID:15058-1570194000-1570204800@elkinsrandolphwv.com
SUMMARY:Coronation of Maid Silvia LXXXIII @ Davis & Elkins Outdoor Ampitheatre
DESCRIPTION:
URL:https://elkinsrandolphwv.com/event/coronation-of-maid-silvia-lxxxiii-davis-elkins-outdoor-ampitheatre/
LOCATION:Davis & Elkins College Outdoor Amphitheatre\, 100 Campus Drive\, Elkins\, WV\, 26241\, United States
ATTACH;FMTTYPE=image/png:https://elkinsrandolphwv.com/wp-content/uploads/2019/08/MSFF.png
END:VEVENT
BEGIN:VEVENT
DTSTART;TZID=UTC:20190921T093000
DTEND;TZID=UTC:20190921T150000
DTSTAMP:20260424T012738
CREATED:20190807T003556Z
LAST-MODIFIED:20190807T003556Z
UID:14974-1569058200-1569078000@elkinsrandolphwv.com
SUMMARY:MSFF Highland Dance Competition @ Davis & Elkins College Outdoor Amphitheatre
DESCRIPTION:
URL:https://elkinsrandolphwv.com/event/msff-highland-dance-competition-davis-elkins-college-outdoor-amphitheatre/
LOCATION:Davis & Elkins College Outdoor Amphitheatre\, 100 Campus Drive\, Elkins\, WV\, 26241\, United States
ATTACH;FMTTYPE=image/png:https://elkinsrandolphwv.com/wp-content/uploads/2019/08/MSFF.png
END:VEVENT
END:VCALENDAR