BEGIN:VCALENDAR
VERSION:2.0
PRODID:-//Elkins-Randolph County Tourism - ECPv6.15.20//NONSGML v1.0//EN
CALSCALE:GREGORIAN
METHOD:PUBLISH
X-ORIGINAL-URL:https://elkinsrandolphwv.com
X-WR-CALDESC:Events for Elkins-Randolph County Tourism
REFRESH-INTERVAL;VALUE=DURATION:PT1H
X-Robots-Tag:noindex
X-PUBLISHED-TTL:PT1H
BEGIN:VTIMEZONE
TZID:America/New_York
BEGIN:DAYLIGHT
TZOFFSETFROM:-0500
TZOFFSETTO:-0400
TZNAME:EDT
DTSTART:20180311T070000
END:DAYLIGHT
BEGIN:STANDARD
TZOFFSETFROM:-0400
TZOFFSETTO:-0500
TZNAME:EST
DTSTART:20181104T060000
END:STANDARD
BEGIN:DAYLIGHT
TZOFFSETFROM:-0500
TZOFFSETTO:-0400
TZNAME:EDT
DTSTART:20190310T070000
END:DAYLIGHT
BEGIN:STANDARD
TZOFFSETFROM:-0400
TZOFFSETTO:-0500
TZNAME:EST
DTSTART:20191103T060000
END:STANDARD
BEGIN:DAYLIGHT
TZOFFSETFROM:-0500
TZOFFSETTO:-0400
TZNAME:EDT
DTSTART:20200308T070000
END:DAYLIGHT
BEGIN:STANDARD
TZOFFSETFROM:-0400
TZOFFSETTO:-0500
TZNAME:EST
DTSTART:20201101T060000
END:STANDARD
END:VTIMEZONE
BEGIN:VEVENT
DTSTART;TZID=America/New_York:20190609T140000
DTEND;TZID=America/New_York:20190609T160000
DTSTAMP:20260424T000631
CREATED:20190607T072112Z
LAST-MODIFIED:20190607T072112Z
UID:13128-1560088800-1560096000@elkinsrandolphwv.com
SUMMARY:Durbin Depot - Durbin Rocket
DESCRIPTION:Trip Summary (2 hr.\, 10.5-mile Round-trip Excursion) \nThe DURBIN ROCKET is a perfect choice for families with younger children. The combination of open and closed cars give children the option of free movement through the train as she chugs her way to and from Hevener Station. An open car directly behind Heisler No. 6 offer ample opportunities to see coal being shoveled into the tender and watch as she takes in water at a watering hole along the way. Advantages for more mature riders on this signature steam-driven locomotive are the options of open-car views perfect for photo taking and sightseeing\, plus closed-car comfort in the coaches and cabooses. \nCall 304-636-9477 or visit mtn-rail.com for reservations and more information.
URL:https://elkinsrandolphwv.com/event/durbin-depot-durbin-rocket-6/
LOCATION:Durbin & Greenbrier Valley Railroad Elkins\, WV 26241 USA\, United States
GEO:38.205009;-80.526508
END:VEVENT
BEGIN:VEVENT
DTSTART;TZID=America/New_York:20190609T100000
DTEND;TZID=America/New_York:20190609T120000
DTSTAMP:20260424T000631
CREATED:20190607T072036Z
LAST-MODIFIED:20190607T072036Z
UID:13127-1560074400-1560081600@elkinsrandolphwv.com
SUMMARY:Durbin Depot - Durbin Rocket
DESCRIPTION:Trip Summary (2 hr.\, 10.5-mile Round-trip Excursion) \nThe DURBIN ROCKET is a perfect choice for families with younger children. The combination of open and closed cars give children the option of free movement through the train as she chugs her way to and from Hevener Station. An open car directly behind Heisler No. 6 offer ample opportunities to see coal being shoveled into the tender and watch as she takes in water at a watering hole along the way. Advantages for more mature riders on this signature steam-driven locomotive are the options of open-car views perfect for photo taking and sightseeing\, plus closed-car comfort in the coaches and cabooses. \nCall 304-636-9477 or visit mtn-rail.com for reservations and more information.
URL:https://elkinsrandolphwv.com/event/durbin-depot-durbin-rocket-5/
LOCATION:Durbin & Greenbrier Valley Railroad Elkins\, WV 26241 USA\, United States
GEO:38.205009;-80.526508
END:VEVENT
BEGIN:VEVENT
DTSTART;TZID=America/New_York:20190608T140000
DTEND;TZID=America/New_York:20190608T160000
DTSTAMP:20260424T000631
CREATED:20190607T071822Z
LAST-MODIFIED:20190607T071822Z
UID:13119-1560002400-1560009600@elkinsrandolphwv.com
SUMMARY:Durbin Depot - Durbin Rocket
DESCRIPTION:Trip Summary (2 hr.\, 10.5-mile Round-trip Excursion) \nThe DURBIN ROCKET is a perfect choice for families with younger children. The combination of open and closed cars give children the option of free movement through the train as she chugs her way to and from Hevener Station. An open car directly behind Heisler No. 6 offer ample opportunities to see coal being shoveled into the tender and watch as she takes in water at a watering hole along the way. Advantages for more mature riders on this signature steam-driven locomotive are the options of open-car views perfect for photo taking and sightseeing\, plus closed-car comfort in the coaches and cabooses. \nCall 304-636-9477 or visit mtn-rail.com for reservations and more information.
URL:https://elkinsrandolphwv.com/event/durbin-depot-durbin-rocket-4/
LOCATION:Durbin & Greenbrier Valley Railroad Elkins\, WV 26241 USA\, United States
GEO:38.205009;-80.526508
END:VEVENT
BEGIN:VEVENT
DTSTART;TZID=America/New_York:20190608T100000
DTEND;TZID=America/New_York:20190608T120000
DTSTAMP:20260424T000631
CREATED:20190607T071720Z
LAST-MODIFIED:20190607T071720Z
UID:13115-1559988000-1559995200@elkinsrandolphwv.com
SUMMARY:Durbin Depot - Durbin Rocket
DESCRIPTION:Trip Summary (2 hr.\, 10.5-mile Round-trip Excursion) \nThe DURBIN ROCKET is a perfect choice for families with younger children. The combination of open and closed cars give children the option of free movement through the train as she chugs her way to and from Hevener Station. An open car directly behind Heisler No. 6 offer ample opportunities to see coal being shoveled into the tender and watch as she takes in water at a watering hole along the way. Advantages for more mature riders on this signature steam-driven locomotive are the options of open-car views perfect for photo taking and sightseeing\, plus closed-car comfort in the coaches and cabooses. \nCall 304-636-9477 or visit mtn-rail.com for reservations and more information.
URL:https://elkinsrandolphwv.com/event/durbin-depot-durbin-rocket-3/
LOCATION:Durbin & Greenbrier Valley Railroad Elkins\, WV 26241 USA\, United States
GEO:38.205009;-80.526508
END:VEVENT
BEGIN:VEVENT
DTSTART;TZID=America/New_York:20190607T140000
DTEND;TZID=America/New_York:20190607T160000
DTSTAMP:20260424T000631
CREATED:20190607T071532Z
LAST-MODIFIED:20190607T071532Z
UID:13104-1559916000-1559923200@elkinsrandolphwv.com
SUMMARY:Durbin Depot - Durbin Rocket
DESCRIPTION:Trip Summary (2 hr.\, 10.5-mile Round-trip Excursion) \nThe DURBIN ROCKET is a perfect choice for families with younger children. The combination of open and closed cars give children the option of free movement through the train as she chugs her way to and from Hevener Station. An open car directly behind Heisler No. 6 offer ample opportunities to see coal being shoveled into the tender and watch as she takes in water at a watering hole along the way. Advantages for more mature riders on this signature steam-driven locomotive are the options of open-car views perfect for photo taking and sightseeing\, plus closed-car comfort in the coaches and cabooses. \nCall 304-636-9477 or visit mtn-rail.com for reservations and more information.
URL:https://elkinsrandolphwv.com/event/durbin-depot-durbin-rocket-2/
LOCATION:Durbin & Greenbrier Valley Railroad Elkins\, WV 26241 USA\, United States
GEO:38.205009;-80.526508
END:VEVENT
BEGIN:VEVENT
DTSTART;TZID=America/New_York:20190607T100000
DTEND;TZID=America/New_York:20190607T120000
DTSTAMP:20260424T000631
CREATED:20190607T071408Z
LAST-MODIFIED:20190607T071408Z
UID:13101-1559901600-1559908800@elkinsrandolphwv.com
SUMMARY:Durbin Depot - Durbin Rocket
DESCRIPTION:Trip Summary (2 hr.\, 10.5-mile Round-trip Excursion) \nThe DURBIN ROCKET is a perfect choice for families with younger children. The combination of open and closed cars give children the option of free movement through the train as she chugs her way to and from Hevener Station. An open car directly behind Heisler No. 6 offer ample opportunities to see coal being shoveled into the tender and watch as she takes in water at a watering hole along the way. Advantages for more mature riders on this signature steam-driven locomotive are the options of open-car views perfect for photo taking and sightseeing\, plus closed-car comfort in the coaches and cabooses. \nCall 304-636-9477 or visit mtn-rail.com for reservations and more information.
URL:https://elkinsrandolphwv.com/event/durbin-depot-durbin-rocket/
LOCATION:Durbin & Greenbrier Valley Railroad Elkins\, WV 26241 USA\, United States
GEO:38.205009;-80.526508
END:VEVENT
END:VCALENDAR