BEGIN:VCALENDAR
VERSION:2.0
PRODID:-//Elkins-Randolph County Tourism - ECPv6.15.20//NONSGML v1.0//EN
CALSCALE:GREGORIAN
METHOD:PUBLISH
X-ORIGINAL-URL:https://elkinsrandolphwv.com
X-WR-CALDESC:Events for Elkins-Randolph County Tourism
REFRESH-INTERVAL;VALUE=DURATION:PT1H
X-Robots-Tag:noindex
X-PUBLISHED-TTL:PT1H
BEGIN:VTIMEZONE
TZID:UTC
BEGIN:STANDARD
TZOFFSETFROM:+0000
TZOFFSETTO:+0000
TZNAME:UTC
DTSTART:20230101T000000
END:STANDARD
END:VTIMEZONE
BEGIN:VEVENT
DTSTART;TZID=UTC:20251231T210000
DTEND;TZID=UTC:20260101T000000
DTSTAMP:20260424T084108
CREATED:20251231T203045Z
LAST-MODIFIED:20251231T203045Z
UID:32546-1767214800-1767225600@elkinsrandolphwv.com
SUMMARY:Live Music -El Toro
DESCRIPTION:Live Music with Manny and Willie. \nDoors open at 9pm. \n2026 NYE Party !
URL:https://elkinsrandolphwv.com/event/live-music-el-toro/
LOCATION:El Toro Steakhouse\, 2064 Beverly Pike\, Elkins\, WV\, 26241\, United States
CATEGORIES:Entertainment,Food & Drink
END:VEVENT
BEGIN:VEVENT
DTSTART;TZID=UTC:20250913T190000
DTEND;TZID=UTC:20250913T213000
DTSTAMP:20260424T084108
CREATED:20250906T232405Z
LAST-MODIFIED:20250906T232405Z
UID:31531-1757790000-1757799000@elkinsrandolphwv.com
SUMMARY:Live Music with Manny- El Toro Steakhouse
DESCRIPTION:
URL:https://elkinsrandolphwv.com/event/live-music-with-manny-el-toro-steakhouse/
LOCATION:El Toro Steakhouse\, 2064 Beverly Pike\, Elkins\, WV\, 26241\, United States
CATEGORIES:Food & Drink,Music
END:VEVENT
BEGIN:VEVENT
DTSTART;TZID=UTC:20241221T130000
DTEND;TZID=UTC:20241221T160000
DTSTAMP:20260424T084108
CREATED:20241218T215458Z
LAST-MODIFIED:20241218T215458Z
UID:29785-1734786000-1734796800@elkinsrandolphwv.com
SUMMARY:Hot Chocolate with Santa at El Toro Steakhouse
DESCRIPTION:
URL:https://elkinsrandolphwv.com/event/hot-chocolate-with-santa-at-el-toro-steakhouse/
LOCATION:El Toro Steakhouse\, 2064 Beverly Pike\, Elkins\, WV\, 26241\, United States
END:VEVENT
END:VCALENDAR