BEGIN:VCALENDAR
VERSION:2.0
PRODID:-//Elkins-Randolph County Tourism - ECPv6.15.20//NONSGML v1.0//EN
CALSCALE:GREGORIAN
METHOD:PUBLISH
X-ORIGINAL-URL:https://elkinsrandolphwv.com
X-WR-CALDESC:Events for Elkins-Randolph County Tourism
REFRESH-INTERVAL;VALUE=DURATION:PT1H
X-Robots-Tag:noindex
X-PUBLISHED-TTL:PT1H
BEGIN:VTIMEZONE
TZID:UTC
BEGIN:STANDARD
TZOFFSETFROM:+0000
TZOFFSETTO:+0000
TZNAME:UTC
DTSTART:20250101T000000
END:STANDARD
END:VTIMEZONE
BEGIN:VTIMEZONE
TZID:America/New_York
BEGIN:DAYLIGHT
TZOFFSETFROM:-0500
TZOFFSETTO:-0400
TZNAME:EDT
DTSTART:20250309T070000
END:DAYLIGHT
BEGIN:STANDARD
TZOFFSETFROM:-0400
TZOFFSETTO:-0500
TZNAME:EST
DTSTART:20251102T060000
END:STANDARD
BEGIN:DAYLIGHT
TZOFFSETFROM:-0500
TZOFFSETTO:-0400
TZNAME:EDT
DTSTART:20260308T070000
END:DAYLIGHT
BEGIN:STANDARD
TZOFFSETFROM:-0400
TZOFFSETTO:-0500
TZNAME:EST
DTSTART:20261101T060000
END:STANDARD
BEGIN:DAYLIGHT
TZOFFSETFROM:-0500
TZOFFSETTO:-0400
TZNAME:EDT
DTSTART:20270314T070000
END:DAYLIGHT
BEGIN:STANDARD
TZOFFSETFROM:-0400
TZOFFSETTO:-0500
TZNAME:EST
DTSTART:20271107T060000
END:STANDARD
END:VTIMEZONE
BEGIN:VEVENT
DTSTART;TZID=UTC:20260627T110000
DTEND;TZID=UTC:20260627T140000
DTSTAMP:20260422T185507
CREATED:20260302T003247Z
LAST-MODIFIED:20260302T003247Z
UID:33068-1782558000-1782568800@elkinsrandolphwv.com
SUMMARY:Elkins Pride in the Park
DESCRIPTION:Free family-friendly event\, vendors from local and state resources.
URL:https://elkinsrandolphwv.com/event/elkins-pride-in-the-park-2/
LOCATION:Elkins City Park\, Elkins\, WV 26241\, USA\, 101 Elkins Ave\, United States
CATEGORIES:Community
ATTACH;FMTTYPE=image/jpeg:https://elkinsrandolphwv.com/wp-content/uploads/2023/06/Pride-in-the-Park--e1687355181163.jpeg
GEO:38.945377;-79.854602
X-APPLE-STRUCTURED-LOCATION;VALUE=URI;X-ADDRESS=Elkins City Park Elkins WV 26241 USA 101 Elkins Ave United States;X-APPLE-RADIUS=500;X-TITLE=101 Elkins Ave:geo:-79.854602,38.945377
END:VEVENT
BEGIN:VEVENT
DTSTART;TZID=America/New_York:20260725T100000
DTEND;TZID=America/New_York:20260725T170000
DTSTAMP:20260422T185507
CREATED:20260313T183131Z
LAST-MODIFIED:20260313T183131Z
UID:33251-1784973600-1784998800@elkinsrandolphwv.com
SUMMARY:Augusta Festival & Craft Fair | Elkins City Park
DESCRIPTION:Get ready for a day filled with creativity\, music\, and family fun. \n 
URL:https://elkinsrandolphwv.com/event/augusta-festival-craft-fair-elkins-city-park/
LOCATION:Elkins City Park\, Elkins\, WV 26241\, USA\, 101 Elkins Ave\, United States
CATEGORIES:Community,Outdoor Activities
GEO:38.945377;-79.854602
X-APPLE-STRUCTURED-LOCATION;VALUE=URI;X-ADDRESS=Elkins City Park Elkins WV 26241 USA 101 Elkins Ave United States;X-APPLE-RADIUS=500;X-TITLE=101 Elkins Ave:geo:-79.854602,38.945377
END:VEVENT
END:VCALENDAR