BEGIN:VCALENDAR
VERSION:2.0
PRODID:-//Elkins-Randolph County Tourism - ECPv6.15.20//NONSGML v1.0//EN
CALSCALE:GREGORIAN
METHOD:PUBLISH
X-WR-CALNAME:Elkins-Randolph County Tourism
X-ORIGINAL-URL:https://elkinsrandolphwv.com
X-WR-CALDESC:Events for Elkins-Randolph County Tourism
REFRESH-INTERVAL;VALUE=DURATION:PT1H
X-Robots-Tag:noindex
X-PUBLISHED-TTL:PT1H
BEGIN:VTIMEZONE
TZID:UTC
BEGIN:STANDARD
TZOFFSETFROM:+0000
TZOFFSETTO:+0000
TZNAME:UTC
DTSTART:20210101T000000
END:STANDARD
END:VTIMEZONE
BEGIN:VEVENT
DTSTART;TZID=UTC:20251004T090000
DTEND;TZID=UTC:20251004T140000
DTSTAMP:20260425T203518
CREATED:20250906T185610Z
LAST-MODIFIED:20250906T185610Z
UID:31502-1759568400-1759586400@elkinsrandolphwv.com
SUMMARY:Forestry & Wood Products Exhibit & WV Christmas Tree Growers Assoc.
DESCRIPTION:
URL:https://elkinsrandolphwv.com/event/forestry-wood-products-exhibit-wv-christmas-tree-growers-assoc-2/
LOCATION:Elkins Randolph County YMCA\, 400 Davis Avenue\, Elkins\, WV\, 26241\, United States
CATEGORIES:Community
END:VEVENT
BEGIN:VEVENT
DTSTART;TZID=UTC:20251004T090000
DTEND;TZID=UTC:20251004T140000
DTSTAMP:20260425T203518
CREATED:20250906T184809Z
LAST-MODIFIED:20250906T184809Z
UID:31495-1759568400-1759586400@elkinsrandolphwv.com
SUMMARY:Photography Contest Exhibit
DESCRIPTION:
URL:https://elkinsrandolphwv.com/event/photography-contest-exhibit-3/
LOCATION:Elkins Randolph County YMCA\, 400 Davis Avenue\, Elkins\, WV\, 26241\, United States
CATEGORIES:Community,Fairs & Festivals
END:VEVENT
BEGIN:VEVENT
DTSTART;TZID=UTC:20251004T090000
DTEND;TZID=UTC:20251004T140000
DTSTAMP:20260425T203518
CREATED:20250906T184044Z
LAST-MODIFIED:20250906T184044Z
UID:31490-1759568400-1759586400@elkinsrandolphwv.com
SUMMARY:Mountain Weavers Guild
DESCRIPTION:
URL:https://elkinsrandolphwv.com/event/mountain-weavers-guild-7/
LOCATION:Elkins Randolph County YMCA\, 400 Davis Avenue\, Elkins\, WV\, 26241\, United States
CATEGORIES:Community,Fairs & Festivals
END:VEVENT
BEGIN:VEVENT
DTSTART;TZID=UTC:20251004T090000
DTEND;TZID=UTC:20251004T140000
DTSTAMP:20260425T203518
CREATED:20250906T183010Z
LAST-MODIFIED:20250906T183221Z
UID:31486-1759568400-1759586400@elkinsrandolphwv.com
SUMMARY:Log Cabin Quilters' Guild Quilt Show
DESCRIPTION:
URL:https://elkinsrandolphwv.com/event/log-cabin-quilters-guild-quilt-show-3/
LOCATION:Elkins Randolph County YMCA\, 400 Davis Avenue\, Elkins\, WV\, 26241\, United States
CATEGORIES:Community
END:VEVENT
BEGIN:VEVENT
DTSTART;TZID=UTC:20251002T090000
DTEND;TZID=UTC:20251003T180000
DTSTAMP:20260425T203518
CREATED:20250906T185422Z
LAST-MODIFIED:20250906T185422Z
UID:31500-1759395600-1759514400@elkinsrandolphwv.com
SUMMARY:Forestry & Wood Products Exhibit & WV Christmas Tree Growers Assoc.
DESCRIPTION:
URL:https://elkinsrandolphwv.com/event/forestry-wood-products-exhibit-wv-christmas-tree-growers-assoc/
LOCATION:Elkins Randolph County YMCA\, 400 Davis Avenue\, Elkins\, WV\, 26241\, United States
CATEGORIES:Community
END:VEVENT
BEGIN:VEVENT
DTSTART;TZID=UTC:20251002T090000
DTEND;TZID=UTC:20251003T180000
DTSTAMP:20260425T203518
CREATED:20250906T184347Z
LAST-MODIFIED:20250906T184347Z
UID:31492-1759395600-1759514400@elkinsrandolphwv.com
SUMMARY:Photography Contest Exhibit
DESCRIPTION:
URL:https://elkinsrandolphwv.com/event/photography-contest-exhibit-2/
LOCATION:Elkins Randolph County YMCA\, 400 Davis Avenue\, Elkins\, WV\, 26241\, United States
CATEGORIES:Community,Fairs & Festivals
END:VEVENT
BEGIN:VEVENT
DTSTART;TZID=UTC:20251002T090000
DTEND;TZID=UTC:20251003T180000
DTSTAMP:20260425T203518
CREATED:20250906T183841Z
LAST-MODIFIED:20250906T183841Z
UID:31488-1759395600-1759514400@elkinsrandolphwv.com
SUMMARY:Mountain Weavers Guild
DESCRIPTION:
URL:https://elkinsrandolphwv.com/event/mountain-weavers-guild-6/
LOCATION:Elkins Randolph County YMCA\, 400 Davis Avenue\, Elkins\, WV\, 26241\, United States
CATEGORIES:Community,Fairs & Festivals
END:VEVENT
BEGIN:VEVENT
DTSTART;TZID=UTC:20251002T090000
DTEND;TZID=UTC:20251003T180000
DTSTAMP:20260425T203518
CREATED:20250906T182814Z
LAST-MODIFIED:20250906T183600Z
UID:31484-1759395600-1759514400@elkinsrandolphwv.com
SUMMARY:Log Cabin Quilters' Guild Quilt Show
DESCRIPTION:
URL:https://elkinsrandolphwv.com/event/log-cabin-quilters-guild-quilt-show-2/
LOCATION:Elkins Randolph County YMCA\, 400 Davis Avenue\, Elkins\, WV\, 26241\, United States
END:VEVENT
BEGIN:VEVENT
DTSTART;TZID=UTC:20251001T180000
DTEND;TZID=UTC:20251001T190000
DTSTAMP:20260425T203518
CREATED:20250906T185204Z
LAST-MODIFIED:20250906T185204Z
UID:31498-1759341600-1759345200@elkinsrandolphwv.com
SUMMARY:Photography Participant Reception
DESCRIPTION:
URL:https://elkinsrandolphwv.com/event/photography-participant-reception-2/
LOCATION:Elkins Randolph County YMCA\, 400 Davis Avenue\, Elkins\, WV\, 26241\, United States
CATEGORIES:Community
END:VEVENT
BEGIN:VEVENT
DTSTART;TZID=UTC:20250928T103000
DTEND;TZID=UTC:20250928T140000
DTSTAMP:20260425T203518
CREATED:20250903T180845Z
LAST-MODIFIED:20250903T180845Z
UID:31404-1759055400-1759068000@elkinsrandolphwv.com
SUMMARY:10K Run/5K Walk & Kids Fun Run
DESCRIPTION:
URL:https://elkinsrandolphwv.com/event/10k-run-5k-walk-kids-fun-run-2/
LOCATION:Elkins Randolph County YMCA\, 400 Davis Avenue\, Elkins\, WV\, 26241\, United States
CATEGORIES:Community,Health and Wellness,Kids & Family,Outdoor Activities
END:VEVENT
BEGIN:VEVENT
DTSTART;TZID=UTC:20241005T090000
DTEND;TZID=UTC:20241005T180000
DTSTAMP:20260425T203518
CREATED:20240911T181431Z
LAST-MODIFIED:20240911T181431Z
UID:29238-1728118800-1728151200@elkinsrandolphwv.com
SUMMARY:MSFF - Forestry & Wood Products Exhibit & WV Christmas Tree Growers Assoc.
DESCRIPTION:
URL:https://elkinsrandolphwv.com/event/msff-forestry-wood-products-exhibit-wv-christmas-tree-growers-assoc-3/
LOCATION:Elkins Randolph County YMCA\, 400 Davis Avenue\, Elkins\, WV\, 26241\, United States
CATEGORIES:Art & Culture,Community,Entertainment,Kids & Family
ATTACH;FMTTYPE=image/jpeg:https://elkinsrandolphwv.com/wp-content/uploads/2019/10/MSFF-e1661781904912.jpg
END:VEVENT
BEGIN:VEVENT
DTSTART;TZID=UTC:20241005T090000
DTEND;TZID=UTC:20241005T160000
DTSTAMP:20260425T203518
CREATED:20240911T181204Z
LAST-MODIFIED:20240911T181204Z
UID:29236-1728118800-1728144000@elkinsrandolphwv.com
SUMMARY:MSFF - Log Cabin Quilters’ Guild Quilt Show
DESCRIPTION:
URL:https://elkinsrandolphwv.com/event/msff-log-cabin-quilters-guild-quilt-show-3/
LOCATION:Elkins Randolph County YMCA\, 400 Davis Avenue\, Elkins\, WV\, 26241\, United States
CATEGORIES:Art & Culture,Community,Entertainment,Kids & Family
ATTACH;FMTTYPE=image/jpeg:https://elkinsrandolphwv.com/wp-content/uploads/2019/10/MSFF-e1661781904912.jpg
END:VEVENT
BEGIN:VEVENT
DTSTART;TZID=UTC:20241004T090000
DTEND;TZID=UTC:20241004T190000
DTSTAMP:20260425T203518
CREATED:20240911T173802Z
LAST-MODIFIED:20240911T173802Z
UID:29220-1728032400-1728068400@elkinsrandolphwv.com
SUMMARY:MSFF - Forestry & Wood Products Exhibit & WV Christmas Tree Growers Assoc.
DESCRIPTION:
URL:https://elkinsrandolphwv.com/event/msff-forestry-wood-products-exhibit-wv-christmas-tree-growers-assoc-2/
LOCATION:Elkins Randolph County YMCA\, 400 Davis Avenue\, Elkins\, WV\, 26241\, United States
CATEGORIES:Community,Educational,Kids & Family
ATTACH;FMTTYPE=image/jpeg:https://elkinsrandolphwv.com/wp-content/uploads/2019/10/MSFF-e1661781904912.jpg
END:VEVENT
BEGIN:VEVENT
DTSTART;TZID=UTC:20241004T090000
DTEND;TZID=UTC:20241004T180000
DTSTAMP:20260425T203518
CREATED:20240911T173206Z
LAST-MODIFIED:20240911T173206Z
UID:29216-1728032400-1728064800@elkinsrandolphwv.com
SUMMARY:MSFF - Log Cabin Quilters’ Guild Quilt Show
DESCRIPTION:
URL:https://elkinsrandolphwv.com/event/msff-log-cabin-quilters-guild-quilt-show-2/
LOCATION:Elkins Randolph County YMCA\, 400 Davis Avenue\, Elkins\, WV\, 26241\, United States
CATEGORIES:Art & Culture,Community,Entertainment,Kids & Family
ATTACH;FMTTYPE=image/jpeg:https://elkinsrandolphwv.com/wp-content/uploads/2019/10/MSFF-e1661781904912.jpg
END:VEVENT
BEGIN:VEVENT
DTSTART;TZID=UTC:20241003T090000
DTEND;TZID=UTC:20241003T190000
DTSTAMP:20260425T203518
CREATED:20240910T194638Z
LAST-MODIFIED:20240910T194638Z
UID:29206-1727946000-1727982000@elkinsrandolphwv.com
SUMMARY:MSFF - Forestry & Wood Products Exhibit & WV Christmas Tree Growers Assoc
DESCRIPTION:
URL:https://elkinsrandolphwv.com/event/msff-forestry-wood-products-exhibit-wv-christmas-tree-growers-assoc/
LOCATION:Elkins Randolph County YMCA\, 400 Davis Avenue\, Elkins\, WV\, 26241\, United States
CATEGORIES:Art & Culture,Community,Kids & Family,Shopping
ATTACH;FMTTYPE=image/jpeg:https://elkinsrandolphwv.com/wp-content/uploads/2019/10/MSFF-e1661781904912.jpg
END:VEVENT
BEGIN:VEVENT
DTSTART;TZID=UTC:20240929T103000
DTEND;TZID=UTC:20240929T133000
DTSTAMP:20260425T203518
CREATED:20240906T231045Z
LAST-MODIFIED:20240906T231045Z
UID:29162-1727605800-1727616600@elkinsrandolphwv.com
SUMMARY:MSFF - 10K Run/5K Walk & Kids Fun Run
DESCRIPTION:Registration Begins (YMCA) \n12:30 PM Runners & Walkers Step Off\, 5th Street/Davis Avenue(Start) \n12:45 PM Kids Fun Run Step Off\, 5th Street/Davis Avenue (Start)
URL:https://elkinsrandolphwv.com/event/msff-10k-run-5k-walk-kids-fun-run/
LOCATION:Elkins Randolph County YMCA\, 400 Davis Avenue\, Elkins\, WV\, 26241\, United States
CATEGORIES:Community,Kids & Family,Outdoors,Sports & Recreations
ATTACH;FMTTYPE=image/jpeg:https://elkinsrandolphwv.com/wp-content/uploads/2019/10/MSFF-e1661781904912.jpg
END:VEVENT
BEGIN:VEVENT
DTSTART;TZID=UTC:20240910T090000
DTEND;TZID=UTC:20240910T180000
DTSTAMP:20260425T203518
CREATED:20240910T194005Z
LAST-MODIFIED:20240910T194005Z
UID:29202-1725958800-1725991200@elkinsrandolphwv.com
SUMMARY:MSFF - Log Cabin Quilters’ Guild Quilt Show
DESCRIPTION:
URL:https://elkinsrandolphwv.com/event/msff-log-cabin-quilters-guild-quilt-show/
LOCATION:Elkins Randolph County YMCA\, 400 Davis Avenue\, Elkins\, WV\, 26241\, United States
CATEGORIES:Art & Culture,Community,Educational,Entertainment,Kids & Family
ATTACH;FMTTYPE=image/jpeg:https://elkinsrandolphwv.com/wp-content/uploads/2019/10/MSFF-e1661781904912.jpg
END:VEVENT
BEGIN:VEVENT
DTSTART;TZID=UTC:20240712T180000
DTEND;TZID=UTC:20240712T200000
DTSTAMP:20260425T203518
CREATED:20240625T201212Z
LAST-MODIFIED:20240625T201212Z
UID:28852-1720807200-1720814400@elkinsrandolphwv.com
SUMMARY:Interact Children's Museum: Family Fun Night
DESCRIPTION:$5.00 donation per family\, cash only! Children must be accompanied by an adult caregiver.
URL:https://elkinsrandolphwv.com/event/interact-childrens-museum-family-fun-night/
LOCATION:Elkins Randolph County YMCA\, 400 Davis Avenue\, Elkins\, WV\, 26241\, United States
CATEGORIES:Community,Kids & Family
ATTACH;FMTTYPE=image/jpeg:https://elkinsrandolphwv.com/wp-content/uploads/2019/04/YMCA-logo-1.jpg
END:VEVENT
BEGIN:VEVENT
DTSTART;TZID=UTC:20231005T090000
DTEND;TZID=UTC:20231005T190000
DTSTAMP:20260425T203518
CREATED:20230925T220610Z
LAST-MODIFIED:20230925T220610Z
UID:27691-1696496400-1696532400@elkinsrandolphwv.com
SUMMARY:Photography Contest Exhibit
DESCRIPTION:
URL:https://elkinsrandolphwv.com/event/photography-contest-exhibit/2023-10-05/
LOCATION:Elkins Randolph County YMCA\, 400 Davis Avenue\, Elkins\, WV\, 26241\, United States
END:VEVENT
BEGIN:VEVENT
DTSTART;TZID=UTC:20231005T090000
DTEND;TZID=UTC:20231005T180000
DTSTAMP:20260425T203518
CREATED:20230925T215844Z
LAST-MODIFIED:20230925T215844Z
UID:27684-1696496400-1696528800@elkinsrandolphwv.com
SUMMARY:Log Cabin Quilters Guild Quilt Show
DESCRIPTION:
URL:https://elkinsrandolphwv.com/event/log-cabin-quilters-guild-quilt-show/2023-10-05/
LOCATION:Elkins Randolph County YMCA\, 400 Davis Avenue\, Elkins\, WV\, 26241\, United States
END:VEVENT
BEGIN:VEVENT
DTSTART;TZID=UTC:20231004T180000
DTEND;TZID=UTC:20231004T200000
DTSTAMP:20260425T203518
CREATED:20230925T220339Z
LAST-MODIFIED:20230925T220339Z
UID:27690-1696442400-1696449600@elkinsrandolphwv.com
SUMMARY:Photography Participant Reception
DESCRIPTION:
URL:https://elkinsrandolphwv.com/event/photography-participant-reception/
LOCATION:Elkins Randolph County YMCA\, 400 Davis Avenue\, Elkins\, WV\, 26241\, United States
END:VEVENT
BEGIN:VEVENT
DTSTART;TZID=UTC:20231001T103000
DTEND;TZID=UTC:20231001T170000
DTSTAMP:20260425T203518
CREATED:20230925T191532Z
LAST-MODIFIED:20230925T191532Z
UID:27645-1696156200-1696179600@elkinsrandolphwv.com
SUMMARY:10k Run/5K Walk & Kids Fun Run
DESCRIPTION:Registration begins at 10:30 AM\n@ Elkins YMCA\n@ 12:30 PM all start on 5th street/Davis Avenue\n@ 12:45 PM Kids fun run all start on 5th street/Davis Avenue
URL:https://elkinsrandolphwv.com/event/10k-run-5k-walk-kids-fun-run/
LOCATION:Elkins Randolph County YMCA\, 400 Davis Avenue\, Elkins\, WV\, 26241\, United States
CATEGORIES:Outdoors,Sports & Recreations
END:VEVENT
BEGIN:VEVENT
DTSTART;TZID=UTC:20221008T090000
DTEND;TZID=UTC:20221008T210000
DTSTAMP:20260425T203518
CREATED:20220921T122505Z
LAST-MODIFIED:20220921T122505Z
UID:26295-1665219600-1665262800@elkinsrandolphwv.com
SUMMARY:Forestry & Wood Products Exhibits & WV Christmas Tree Growers Assoc.
DESCRIPTION:
URL:https://elkinsrandolphwv.com/event/forestry-wood-products-exhibits-wv-christmas-tree-growers-assoc-3/
LOCATION:Elkins Randolph County YMCA\, 400 Davis Avenue\, Elkins\, WV\, 26241\, United States
CATEGORIES:Art & Culture,Community,Entertainment,Food & Drink,Kids & Family
ATTACH;FMTTYPE=image/jpeg:https://elkinsrandolphwv.com/wp-content/uploads/2019/10/MSFF-e1661781904912.jpg
END:VEVENT
BEGIN:VEVENT
DTSTART;TZID=UTC:20221008T090000
DTEND;TZID=UTC:20221008T170000
DTSTAMP:20260425T203518
CREATED:20220921T121752Z
LAST-MODIFIED:20220921T121752Z
UID:26289-1665219600-1665248400@elkinsrandolphwv.com
SUMMARY:Photography Exhibit/Contest
DESCRIPTION:
URL:https://elkinsrandolphwv.com/event/photography-exhibit-contest-2/
LOCATION:Elkins Randolph County YMCA\, 400 Davis Avenue\, Elkins\, WV\, 26241\, United States
CATEGORIES:Art & Culture,Community,Kids & Family
ATTACH;FMTTYPE=image/jpeg:https://elkinsrandolphwv.com/wp-content/uploads/2019/10/MSFF-e1661781904912.jpg
END:VEVENT
BEGIN:VEVENT
DTSTART;TZID=UTC:20221008T090000
DTEND;TZID=UTC:20221008T160000
DTSTAMP:20260425T203518
CREATED:20220921T121906Z
LAST-MODIFIED:20220921T121906Z
UID:26290-1665219600-1665244800@elkinsrandolphwv.com
SUMMARY:Log Cabin Quilters Show
DESCRIPTION:
URL:https://elkinsrandolphwv.com/event/log-cabin-quilters-show-3/
LOCATION:Elkins Randolph County YMCA\, 400 Davis Avenue\, Elkins\, WV\, 26241\, United States
CATEGORIES:Art & Culture,Community,Entertainment,Kids & Family
ATTACH;FMTTYPE=image/jpeg:https://elkinsrandolphwv.com/wp-content/uploads/2019/10/MSFF-e1661781904912.jpg
END:VEVENT
BEGIN:VEVENT
DTSTART;TZID=UTC:20221007T090000
DTEND;TZID=UTC:20221007T210000
DTSTAMP:20260425T203518
CREATED:20220915T214627Z
LAST-MODIFIED:20220915T214627Z
UID:26257-1665133200-1665176400@elkinsrandolphwv.com
SUMMARY:Forestry & Wood Products Exhibits & WV Christmas Tree Growers Assoc.
DESCRIPTION:
URL:https://elkinsrandolphwv.com/event/forestry-wood-products-exhibits-wv-christmas-tree-growers-assoc-2/
LOCATION:Elkins Randolph County YMCA\, 400 Davis Avenue\, Elkins\, WV\, 26241\, United States
CATEGORIES:Art & Culture,Community,Entertainment,Food & Drink,Kids & Family
ATTACH;FMTTYPE=image/jpeg:https://elkinsrandolphwv.com/wp-content/uploads/2019/10/MSFF-e1661781904912.jpg
END:VEVENT
BEGIN:VEVENT
DTSTART;TZID=UTC:20221007T090000
DTEND;TZID=UTC:20221007T190000
DTSTAMP:20260425T203518
CREATED:20220915T214509Z
LAST-MODIFIED:20220915T214509Z
UID:26256-1665133200-1665169200@elkinsrandolphwv.com
SUMMARY:Photography Exhibit/Contest
DESCRIPTION:
URL:https://elkinsrandolphwv.com/event/photography-exhibit-contest/
LOCATION:Elkins Randolph County YMCA\, 400 Davis Avenue\, Elkins\, WV\, 26241\, United States
CATEGORIES:Art & Culture,Community,Kids & Family
ATTACH;FMTTYPE=image/jpeg:https://elkinsrandolphwv.com/wp-content/uploads/2019/10/MSFF-e1661781904912.jpg
END:VEVENT
BEGIN:VEVENT
DTSTART;TZID=UTC:20221007T090000
DTEND;TZID=UTC:20221007T190000
DTSTAMP:20260425T203518
CREATED:20220915T214107Z
LAST-MODIFIED:20220915T214107Z
UID:26254-1665133200-1665169200@elkinsrandolphwv.com
SUMMARY:Log Cabin Quilters Show
DESCRIPTION:
URL:https://elkinsrandolphwv.com/event/log-cabin-quilters-show-2/
LOCATION:Elkins Randolph County YMCA\, 400 Davis Avenue\, Elkins\, WV\, 26241\, United States
CATEGORIES:Art & Culture,Community,Entertainment,Kids & Family
ATTACH;FMTTYPE=image/jpeg:https://elkinsrandolphwv.com/wp-content/uploads/2019/10/MSFF-e1661781904912.jpg
END:VEVENT
BEGIN:VEVENT
DTSTART;TZID=UTC:20221006T090000
DTEND;TZID=UTC:20221006T200000
DTSTAMP:20260425T203518
CREATED:20220915T211635Z
LAST-MODIFIED:20220915T211635Z
UID:26243-1665046800-1665086400@elkinsrandolphwv.com
SUMMARY:Forestry & Wood Products Exhibits & WV Christmas Tree Growers Assoc.
DESCRIPTION:
URL:https://elkinsrandolphwv.com/event/forestry-wood-products-exhibits-wv-christmas-tree-growers-assoc/
LOCATION:Elkins Randolph County YMCA\, 400 Davis Avenue\, Elkins\, WV\, 26241\, United States
CATEGORIES:Art & Culture,Community,Entertainment,Food & Drink,Kids & Family
ATTACH;FMTTYPE=image/jpeg:https://elkinsrandolphwv.com/wp-content/uploads/2019/10/MSFF-e1661781904912.jpg
END:VEVENT
BEGIN:VEVENT
DTSTART;TZID=UTC:20221006T090000
DTEND;TZID=UTC:20221006T190000
DTSTAMP:20260425T203518
CREATED:20220915T210829Z
LAST-MODIFIED:20220915T214346Z
UID:26240-1665046800-1665082800@elkinsrandolphwv.com
SUMMARY:Photography Exhibit Contest
DESCRIPTION:
URL:https://elkinsrandolphwv.com/event/photography-exhibit-reception-2/
LOCATION:Elkins Randolph County YMCA\, 400 Davis Avenue\, Elkins\, WV\, 26241\, United States
CATEGORIES:Art & Culture,Community,Kids & Family
ATTACH;FMTTYPE=image/jpeg:https://elkinsrandolphwv.com/wp-content/uploads/2019/10/MSFF-e1661781904912.jpg
END:VEVENT
END:VCALENDAR