BEGIN:VCALENDAR
VERSION:2.0
PRODID:-//Elkins-Randolph County Tourism - ECPv6.15.20//NONSGML v1.0//EN
CALSCALE:GREGORIAN
METHOD:PUBLISH
X-ORIGINAL-URL:https://elkinsrandolphwv.com
X-WR-CALDESC:Events for Elkins-Randolph County Tourism
REFRESH-INTERVAL;VALUE=DURATION:PT1H
X-Robots-Tag:noindex
X-PUBLISHED-TTL:PT1H
BEGIN:VTIMEZONE
TZID:UTC
BEGIN:STANDARD
TZOFFSETFROM:+0000
TZOFFSETTO:+0000
TZNAME:UTC
DTSTART:20250101T000000
END:STANDARD
END:VTIMEZONE
BEGIN:VEVENT
DTSTART;TZID=UTC:20260422T170000
DTEND;TZID=UTC:20260422T210000
DTSTAMP:20260423T064715
CREATED:20260401T190101Z
LAST-MODIFIED:20260401T190101Z
UID:33522-1776877200-1776891600@elkinsrandolphwv.com
SUMMARY:Wine Down Wednesday- Graceland Inn
DESCRIPTION:
URL:https://elkinsrandolphwv.com/event/wine-down-wednesday-graceland-inn-19/2026-04-22/
LOCATION:Graceland Inn and Restaurant\, 100 Campus Drive\, Elkins\, WV\, 26241\, United States
CATEGORIES:Food & Drink,Music
END:VEVENT
BEGIN:VEVENT
DTSTART;TZID=UTC:20260419T110000
DTEND;TZID=UTC:20260419T143000
DTSTAMP:20260423T064715
CREATED:20260401T190253Z
LAST-MODIFIED:20260401T190253Z
UID:33527-1776596400-1776609000@elkinsrandolphwv.com
SUMMARY:Brunch & Bubbles | Graceland Inn & Restaurant
DESCRIPTION:Brunch & Bubbles Today! \n\n\nJoin us today at Graceland Inn & Restaurant for a relaxing late-morning escape filled with delicious flavors\, sparkling drinks\, and great music.\n\n\nEnjoy our brunch buffet from 11:00 AM – 2:30 PM\, featuring a variety of chef-prepared favorites perfect for a leisurely Sunday. Then sit back\, sip your mimosas\, and take in live music 12:00 PM – 2:00 PM — the perfect soundtrack to a cozy afternoon on the hill.\n\n\nBring your friends\, bring your appetite\, and let us make your Sunday special. \n\n\n Reservations: 304.637.1600\n Reserve Online: gracelandinnrestaurant.com\n\n\n#BrunchAndBubbles #GracelandInn #SundayBrunch #ElkinsWV #DavisAndElkins #AlmostHeaven #WestVirginiaEats #SupportLocal #BrunchVibes #LiveMusic #MountainStateMoments #wvtourism #ElkinsRandolph #unexpectedlycool
URL:https://elkinsrandolphwv.com/event/brunch-bubbles-graceland-inn-restaurant-18/2026-04-19/
LOCATION:Graceland Inn and Restaurant\, 100 Campus Drive\, Elkins\, WV\, 26241\, United States
CATEGORIES:Entertainment,Food & Drink,Music
END:VEVENT
BEGIN:VEVENT
DTSTART;TZID=UTC:20260415T170000
DTEND;TZID=UTC:20260415T210000
DTSTAMP:20260423T064715
CREATED:20260401T190101Z
LAST-MODIFIED:20260401T190101Z
UID:33521-1776272400-1776286800@elkinsrandolphwv.com
SUMMARY:Wine Down Wednesday- Graceland Inn
DESCRIPTION:
URL:https://elkinsrandolphwv.com/event/wine-down-wednesday-graceland-inn-19/2026-04-15/
LOCATION:Graceland Inn and Restaurant\, 100 Campus Drive\, Elkins\, WV\, 26241\, United States
CATEGORIES:Food & Drink,Music
END:VEVENT
BEGIN:VEVENT
DTSTART;TZID=UTC:20260412T110000
DTEND;TZID=UTC:20260412T143000
DTSTAMP:20260423T064715
CREATED:20260401T190253Z
LAST-MODIFIED:20260401T190253Z
UID:33526-1775991600-1776004200@elkinsrandolphwv.com
SUMMARY:Brunch & Bubbles | Graceland Inn & Restaurant
DESCRIPTION:Brunch & Bubbles Today! \n\n\nJoin us today at Graceland Inn & Restaurant for a relaxing late-morning escape filled with delicious flavors\, sparkling drinks\, and great music.\n\n\nEnjoy our brunch buffet from 11:00 AM – 2:30 PM\, featuring a variety of chef-prepared favorites perfect for a leisurely Sunday. Then sit back\, sip your mimosas\, and take in live music 12:00 PM – 2:00 PM — the perfect soundtrack to a cozy afternoon on the hill.\n\n\nBring your friends\, bring your appetite\, and let us make your Sunday special. \n\n\n Reservations: 304.637.1600\n Reserve Online: gracelandinnrestaurant.com\n\n\n#BrunchAndBubbles #GracelandInn #SundayBrunch #ElkinsWV #DavisAndElkins #AlmostHeaven #WestVirginiaEats #SupportLocal #BrunchVibes #LiveMusic #MountainStateMoments #wvtourism #ElkinsRandolph #unexpectedlycool
URL:https://elkinsrandolphwv.com/event/brunch-bubbles-graceland-inn-restaurant-18/2026-04-12/
LOCATION:Graceland Inn and Restaurant\, 100 Campus Drive\, Elkins\, WV\, 26241\, United States
CATEGORIES:Entertainment,Food & Drink,Music
END:VEVENT
BEGIN:VEVENT
DTSTART;TZID=UTC:20260408T170000
DTEND;TZID=UTC:20260408T210000
DTSTAMP:20260423T064715
CREATED:20260401T190101Z
LAST-MODIFIED:20260401T190101Z
UID:33520-1775667600-1775682000@elkinsrandolphwv.com
SUMMARY:Wine Down Wednesday- Graceland Inn
DESCRIPTION:
URL:https://elkinsrandolphwv.com/event/wine-down-wednesday-graceland-inn-19/2026-04-08/
LOCATION:Graceland Inn and Restaurant\, 100 Campus Drive\, Elkins\, WV\, 26241\, United States
CATEGORIES:Food & Drink,Music
END:VEVENT
BEGIN:VEVENT
DTSTART;TZID=UTC:20260405T110000
DTEND;TZID=UTC:20260405T143000
DTSTAMP:20260423T064715
CREATED:20260401T190253Z
LAST-MODIFIED:20260401T190253Z
UID:33525-1775386800-1775399400@elkinsrandolphwv.com
SUMMARY:Brunch & Bubbles | Graceland Inn & Restaurant
DESCRIPTION:Brunch & Bubbles Today! \n\n\nJoin us today at Graceland Inn & Restaurant for a relaxing late-morning escape filled with delicious flavors\, sparkling drinks\, and great music.\n\n\nEnjoy our brunch buffet from 11:00 AM – 2:30 PM\, featuring a variety of chef-prepared favorites perfect for a leisurely Sunday. Then sit back\, sip your mimosas\, and take in live music 12:00 PM – 2:00 PM — the perfect soundtrack to a cozy afternoon on the hill.\n\n\nBring your friends\, bring your appetite\, and let us make your Sunday special. \n\n\n Reservations: 304.637.1600\n Reserve Online: gracelandinnrestaurant.com\n\n\n#BrunchAndBubbles #GracelandInn #SundayBrunch #ElkinsWV #DavisAndElkins #AlmostHeaven #WestVirginiaEats #SupportLocal #BrunchVibes #LiveMusic #MountainStateMoments #wvtourism #ElkinsRandolph #unexpectedlycool
URL:https://elkinsrandolphwv.com/event/brunch-bubbles-graceland-inn-restaurant-18/2026-04-05/
LOCATION:Graceland Inn and Restaurant\, 100 Campus Drive\, Elkins\, WV\, 26241\, United States
CATEGORIES:Entertainment,Food & Drink,Music
END:VEVENT
BEGIN:VEVENT
DTSTART;TZID=UTC:20260401T170000
DTEND;TZID=UTC:20260401T210000
DTSTAMP:20260423T064715
CREATED:20260401T190101Z
LAST-MODIFIED:20260401T190101Z
UID:33519-1775062800-1775077200@elkinsrandolphwv.com
SUMMARY:Wine Down Wednesday- Graceland Inn
DESCRIPTION:
URL:https://elkinsrandolphwv.com/event/wine-down-wednesday-graceland-inn-19/2026-04-01/
LOCATION:Graceland Inn and Restaurant\, 100 Campus Drive\, Elkins\, WV\, 26241\, United States
CATEGORIES:Food & Drink,Music
END:VEVENT
BEGIN:VEVENT
DTSTART;TZID=UTC:20260329T110000
DTEND;TZID=UTC:20260329T143000
DTSTAMP:20260423T064715
CREATED:20260302T012334Z
LAST-MODIFIED:20260302T012334Z
UID:33088-1774782000-1774794600@elkinsrandolphwv.com
SUMMARY:Brunch & Bubbles | Graceland Inn & Restaurant
DESCRIPTION:Brunch & Bubbles Today! \n\n\nJoin us today at Graceland Inn & Restaurant for a relaxing late-morning escape filled with delicious flavors\, sparkling drinks\, and great music.\n\n\nEnjoy our brunch buffet from 11:00 AM – 2:30 PM\, featuring a variety of chef-prepared favorites perfect for a leisurely Sunday. Then sit back\, sip your mimosas\, and take in live music 12:00 PM – 2:00 PM — the perfect soundtrack to a cozy afternoon on the hill.\n\n\nBring your friends\, bring your appetite\, and let us make your Sunday special. \n\n\n Reservations: 304.637.1600\n Reserve Online: gracelandinnrestaurant.com\n\n\n#BrunchAndBubbles #GracelandInn #SundayBrunch #ElkinsWV #DavisAndElkins #AlmostHeaven #WestVirginiaEats #SupportLocal #BrunchVibes #LiveMusic #MountainStateMoments #wvtourism #ElkinsRandolph #unexpectedlycool
URL:https://elkinsrandolphwv.com/event/brunch-bubbles-graceland-inn-restaurant-17/
LOCATION:Graceland Inn and Restaurant\, 100 Campus Drive\, Elkins\, WV\, 26241\, United States
CATEGORIES:Entertainment,Food & Drink,Music
END:VEVENT
BEGIN:VEVENT
DTSTART;TZID=UTC:20260325T170000
DTEND;TZID=UTC:20260325T210000
DTSTAMP:20260423T064715
CREATED:20260302T011452Z
LAST-MODIFIED:20260302T011452Z
UID:33076-1774458000-1774472400@elkinsrandolphwv.com
SUMMARY:Wine Down Wednesday- Graceland Inn
DESCRIPTION:
URL:https://elkinsrandolphwv.com/event/wine-down-wednesday-graceland-inn-18/
LOCATION:Graceland Inn and Restaurant\, 100 Campus Drive\, Elkins\, WV\, 26241\, United States
CATEGORIES:Food & Drink,Music
END:VEVENT
BEGIN:VEVENT
DTSTART;TZID=UTC:20260322T110000
DTEND;TZID=UTC:20260322T143000
DTSTAMP:20260423T064715
CREATED:20260302T012245Z
LAST-MODIFIED:20260302T012245Z
UID:33086-1774177200-1774189800@elkinsrandolphwv.com
SUMMARY:Brunch & Bubbles | Graceland Inn & Restaurant
DESCRIPTION:Brunch & Bubbles Today! \n\n\nJoin us today at Graceland Inn & Restaurant for a relaxing late-morning escape filled with delicious flavors\, sparkling drinks\, and great music.\n\n\nEnjoy our brunch buffet from 11:00 AM – 2:30 PM\, featuring a variety of chef-prepared favorites perfect for a leisurely Sunday. Then sit back\, sip your mimosas\, and take in live music 12:00 PM – 2:00 PM — the perfect soundtrack to a cozy afternoon on the hill.\n\n\nBring your friends\, bring your appetite\, and let us make your Sunday special. \n\n\n Reservations: 304.637.1600\n Reserve Online: gracelandinnrestaurant.com\n\n\n#BrunchAndBubbles #GracelandInn #SundayBrunch #ElkinsWV #DavisAndElkins #AlmostHeaven #WestVirginiaEats #SupportLocal #BrunchVibes #LiveMusic #MountainStateMoments #wvtourism #ElkinsRandolph #unexpectedlycool
URL:https://elkinsrandolphwv.com/event/brunch-bubbles-graceland-inn-restaurant-16/
LOCATION:Graceland Inn and Restaurant\, 100 Campus Drive\, Elkins\, WV\, 26241\, United States
CATEGORIES:Entertainment,Food & Drink,Music
END:VEVENT
BEGIN:VEVENT
DTSTART;TZID=UTC:20260318T170000
DTEND;TZID=UTC:20260318T210000
DTSTAMP:20260423T064715
CREATED:20260302T011406Z
LAST-MODIFIED:20260302T011406Z
UID:33075-1773853200-1773867600@elkinsrandolphwv.com
SUMMARY:Wine Down Wednesday- Graceland Inn
DESCRIPTION:
URL:https://elkinsrandolphwv.com/event/wine-down-wednesday-graceland-inn-17/
LOCATION:Graceland Inn and Restaurant\, 100 Campus Drive\, Elkins\, WV\, 26241\, United States
CATEGORIES:Food & Drink,Music
END:VEVENT
BEGIN:VEVENT
DTSTART;TZID=UTC:20260315T110000
DTEND;TZID=UTC:20260315T143000
DTSTAMP:20260423T064715
CREATED:20260302T012159Z
LAST-MODIFIED:20260312T185157Z
UID:33084-1773572400-1773585000@elkinsrandolphwv.com
SUMMARY:Brunch & Bubbles | Graceland Inn & Restaurant
DESCRIPTION:Brunch & Bubbles Today! \n\n\nJoin us today at Graceland Inn & Restaurant for a relaxing late-morning escape filled with delicious flavors\, sparkling drinks\, and great music.\n\n\nEnjoy our brunch buffet from 11:00 AM – 2:30 PM\, featuring a variety of chef-prepared favorites perfect for a leisurely Sunday. Then sit back\, sip your mimosas\, and take in live music 12:00 PM – 2:00 PM — the perfect soundtrack to a cozy afternoon on the hill.\n\n\nBring your friends\, bring your appetite\, and let us make your Sunday special. \n\n\n Reservations: 304.637.1600\n Reserve Online: gracelandinnrestaurant.com\n\n\n#BrunchAndBubbles #GracelandInn #SundayBrunch #ElkinsWV #DavisAndElkins #AlmostHeaven #WestVirginiaEats #SupportLocal #BrunchVibes #LiveMusic #MountainStateMoments #wvtourism #ElkinsRandolph #unexpectedlycool
URL:https://elkinsrandolphwv.com/event/brunch-bubbles-graceland-inn-restaurant-15/
LOCATION:Graceland Inn and Restaurant\, 100 Campus Drive\, Elkins\, WV\, 26241\, United States
CATEGORIES:Entertainment,Food & Drink,Music
END:VEVENT
BEGIN:VEVENT
DTSTART;TZID=UTC:20260311T170000
DTEND;TZID=UTC:20260311T210000
DTSTAMP:20260423T064715
CREATED:20260302T011331Z
LAST-MODIFIED:20260302T011331Z
UID:33074-1773248400-1773262800@elkinsrandolphwv.com
SUMMARY:Wine Down Wednesday- Graceland Inn
DESCRIPTION:
URL:https://elkinsrandolphwv.com/event/wine-down-wednesday-graceland-inn-16/
LOCATION:Graceland Inn and Restaurant\, 100 Campus Drive\, Elkins\, WV\, 26241\, United States
CATEGORIES:Food & Drink,Music
END:VEVENT
BEGIN:VEVENT
DTSTART;TZID=UTC:20260308T110000
DTEND;TZID=UTC:20260308T143000
DTSTAMP:20260423T064715
CREATED:20260302T012057Z
LAST-MODIFIED:20260302T012057Z
UID:33082-1772967600-1772980200@elkinsrandolphwv.com
SUMMARY:Brunch & Bubbles | Graceland Inn & Restaurant
DESCRIPTION:Brunch & Bubbles Today! \n\n\nJoin us today at Graceland Inn & Restaurant for a relaxing late-morning escape filled with delicious flavors\, sparkling drinks\, and great music.\n\n\nEnjoy our brunch buffet from 11:00 AM – 2:30 PM\, featuring a variety of chef-prepared favorites perfect for a leisurely Sunday. Then sit back\, sip your mimosas\, and take in live music 12:00 PM – 2:00 PM — the perfect soundtrack to a cozy afternoon on the hill.\n\n\nBring your friends\, bring your appetite\, and let us make your Sunday special. \n\n\n Reservations: 304.637.1600\n Reserve Online: gracelandinnrestaurant.com\n\n\n#BrunchAndBubbles #GracelandInn #SundayBrunch #ElkinsWV #DavisAndElkins #AlmostHeaven #WestVirginiaEats #SupportLocal #BrunchVibes #LiveMusic #MountainStateMoments #wvtourism #ElkinsRandolph #unexpectedlycool
URL:https://elkinsrandolphwv.com/event/brunch-bubbles-graceland-inn-restaurant-14/
LOCATION:Graceland Inn and Restaurant\, 100 Campus Drive\, Elkins\, WV\, 26241\, United States
CATEGORIES:Entertainment,Food & Drink,Music
END:VEVENT
BEGIN:VEVENT
DTSTART;TZID=UTC:20260304T170000
DTEND;TZID=UTC:20260304T210000
DTSTAMP:20260423T064715
CREATED:20260302T010636Z
LAST-MODIFIED:20260302T011159Z
UID:32769-1772643600-1772658000@elkinsrandolphwv.com
SUMMARY:Wine Down Wednesday- Graceland Inn
DESCRIPTION:
URL:https://elkinsrandolphwv.com/event/wine-down-wednesday-graceland-inn-15/
LOCATION:Graceland Inn and Restaurant\, 100 Campus Drive\, Elkins\, WV\, 26241\, United States
CATEGORIES:Food & Drink,Music
END:VEVENT
BEGIN:VEVENT
DTSTART;TZID=UTC:20260301T110000
DTEND;TZID=UTC:20260301T143000
DTSTAMP:20260423T064715
CREATED:20260302T011946Z
LAST-MODIFIED:20260302T011946Z
UID:33080-1772362800-1772375400@elkinsrandolphwv.com
SUMMARY:Brunch & Bubbles | Graceland Inn & Restaurant
DESCRIPTION:Brunch & Bubbles Today! \n\n\nJoin us today at Graceland Inn & Restaurant for a relaxing late-morning escape filled with delicious flavors\, sparkling drinks\, and great music.\n\n\nEnjoy our brunch buffet from 11:00 AM – 2:30 PM\, featuring a variety of chef-prepared favorites perfect for a leisurely Sunday. Then sit back\, sip your mimosas\, and take in live music 12:00 PM – 2:00 PM — the perfect soundtrack to a cozy afternoon on the hill.\n\n\nBring your friends\, bring your appetite\, and let us make your Sunday special. \n\n\n Reservations: 304.637.1600\n Reserve Online: gracelandinnrestaurant.com\n\n\n#BrunchAndBubbles #GracelandInn #SundayBrunch #ElkinsWV #DavisAndElkins #AlmostHeaven #WestVirginiaEats #SupportLocal #BrunchVibes #LiveMusic #MountainStateMoments #wvtourism #ElkinsRandolph #unexpectedlycool
URL:https://elkinsrandolphwv.com/event/brunch-bubbles-graceland-inn-restaurant-13/
LOCATION:Graceland Inn and Restaurant\, 100 Campus Drive\, Elkins\, WV\, 26241\, United States
CATEGORIES:Entertainment,Food & Drink,Music
END:VEVENT
BEGIN:VEVENT
DTSTART;TZID=UTC:20260225T170000
DTEND;TZID=UTC:20260225T210000
DTSTAMP:20260423T064715
CREATED:20260109T232907Z
LAST-MODIFIED:20260120T014939Z
UID:32704-1772038800-1772053200@elkinsrandolphwv.com
SUMMARY:Wine Down Wednesday- Graceland Inn
DESCRIPTION:
URL:https://elkinsrandolphwv.com/event/wine-down-wednesday-graceland-inn-10/
LOCATION:Graceland Inn and Restaurant\, 100 Campus Drive\, Elkins\, WV\, 26241\, United States
CATEGORIES:Food & Drink,Music
END:VEVENT
BEGIN:VEVENT
DTSTART;TZID=UTC:20260222T110000
DTEND;TZID=UTC:20260222T143000
DTSTAMP:20260423T064715
CREATED:20260201T203055Z
LAST-MODIFIED:20260201T203055Z
UID:32800-1771758000-1771770600@elkinsrandolphwv.com
SUMMARY:Brunch & Bubbles | Graceland Inn & Restaurant
DESCRIPTION:Enjoy a specially curated brunch buffet by Chef Dayna. \nLive Music  from 12:00-2:00pm \nSip on Bubbles and soak in the warm\, welcoming Graceland atmosphere.
URL:https://elkinsrandolphwv.com/event/brunch-bubbles-graceland-inn-restaurant-12/
LOCATION:Graceland Inn and Restaurant\, 100 Campus Drive\, Elkins\, WV\, 26241\, United States
CATEGORIES:Entertainment,Food & Drink,Music
END:VEVENT
BEGIN:VEVENT
DTSTART;TZID=UTC:20260218T170000
DTEND;TZID=UTC:20260218T210000
DTSTAMP:20260423T064715
CREATED:20260120T014849Z
LAST-MODIFIED:20260120T014849Z
UID:32745-1771434000-1771448400@elkinsrandolphwv.com
SUMMARY:Wine Down Wednesday- Graceland Inn
DESCRIPTION:
URL:https://elkinsrandolphwv.com/event/wine-down-wednesday-graceland-inn-13/
LOCATION:Graceland Inn and Restaurant\, 100 Campus Drive\, Elkins\, WV\, 26241\, United States
CATEGORIES:Food & Drink,Music
END:VEVENT
BEGIN:VEVENT
DTSTART;TZID=UTC:20260215T110000
DTEND;TZID=UTC:20260215T143000
DTSTAMP:20260423T064715
CREATED:20260201T203001Z
LAST-MODIFIED:20260201T203001Z
UID:32801-1771153200-1771165800@elkinsrandolphwv.com
SUMMARY:Brunch & Bubbles | Graceland Inn & Restaurant
DESCRIPTION:Enjoy a specially curated brunch buffet by Chef Dayna. \nLive Music  from 12:00-2:00pm \nSip on Bubbles and soak in the warm\, welcoming Graceland atmosphere.
URL:https://elkinsrandolphwv.com/event/brunch-bubbles-graceland-inn-restaurant-11/
LOCATION:Graceland Inn and Restaurant\, 100 Campus Drive\, Elkins\, WV\, 26241\, United States
CATEGORIES:Entertainment,Food & Drink,Music
END:VEVENT
BEGIN:VEVENT
DTSTART;TZID=UTC:20260211T170000
DTEND;TZID=UTC:20260211T210000
DTSTAMP:20260423T064715
CREATED:20260120T014649Z
LAST-MODIFIED:20260120T014649Z
UID:32746-1770829200-1770843600@elkinsrandolphwv.com
SUMMARY:Wine Down Wednesday- Graceland Inn
DESCRIPTION:
URL:https://elkinsrandolphwv.com/event/wine-down-wednesday-graceland-inn-12/
LOCATION:Graceland Inn and Restaurant\, 100 Campus Drive\, Elkins\, WV\, 26241\, United States
CATEGORIES:Food & Drink,Music
END:VEVENT
BEGIN:VEVENT
DTSTART;TZID=UTC:20260208T110000
DTEND;TZID=UTC:20260208T143000
DTSTAMP:20260423T064715
CREATED:20260201T202902Z
LAST-MODIFIED:20260201T202902Z
UID:32799-1770548400-1770561000@elkinsrandolphwv.com
SUMMARY:Brunch & Bubbles | Graceland Inn & Restaurant
DESCRIPTION:Enjoy a specially curated brunch buffet by Chef Dayna. \nLive Music  from 12:00-2:00pm \nSip on Bubbles and soak in the warm\, welcoming Graceland atmosphere.
URL:https://elkinsrandolphwv.com/event/brunch-bubbles-graceland-inn-restaurant-10/
LOCATION:Graceland Inn and Restaurant\, 100 Campus Drive\, Elkins\, WV\, 26241\, United States
CATEGORIES:Entertainment,Food & Drink,Music
END:VEVENT
BEGIN:VEVENT
DTSTART;TZID=UTC:20260204T170000
DTEND;TZID=UTC:20260204T210000
DTSTAMP:20260423T064715
CREATED:20260120T014608Z
LAST-MODIFIED:20260120T014608Z
UID:32747-1770224400-1770238800@elkinsrandolphwv.com
SUMMARY:Wine Down Wednesday- Graceland Inn
DESCRIPTION:
URL:https://elkinsrandolphwv.com/event/wine-down-wednesday-graceland-inn-11/
LOCATION:Graceland Inn and Restaurant\, 100 Campus Drive\, Elkins\, WV\, 26241\, United States
CATEGORIES:Food & Drink,Music
END:VEVENT
BEGIN:VEVENT
DTSTART;TZID=UTC:20260201T110000
DTEND;TZID=UTC:20260201T143000
DTSTAMP:20260423T064715
CREATED:20260201T202429Z
LAST-MODIFIED:20260201T202429Z
UID:32797-1769943600-1769956200@elkinsrandolphwv.com
SUMMARY:Brunch & Bubbles | Graceland Inn & Restaurant
DESCRIPTION:Enjoy a specially curated brunch buffet by Chef Dayna. \nLive Music  from 12:00-2:00pm with Joel and Tiffany \nSip on Bubbles and soak in the warm\, welcoming Graceland atmosphere.
URL:https://elkinsrandolphwv.com/event/brunch-bubbles-graceland-inn-restaurant-9/
LOCATION:Graceland Inn and Restaurant\, 100 Campus Drive\, Elkins\, WV\, 26241\, United States
CATEGORIES:Entertainment,Food & Drink,Music
END:VEVENT
BEGIN:VEVENT
DTSTART;TZID=UTC:20260128T170000
DTEND;TZID=UTC:20260128T210000
DTSTAMP:20260423T064715
CREATED:20260122T214024Z
LAST-MODIFIED:20260122T214024Z
UID:32744-1769619600-1769634000@elkinsrandolphwv.com
SUMMARY:Wine Down Wednesday- Graceland Inn
DESCRIPTION:
URL:https://elkinsrandolphwv.com/event/wine-down-wednesday-graceland-inn-14/
LOCATION:Graceland Inn and Restaurant\, 100 Campus Drive\, Elkins\, WV\, 26241\, United States
CATEGORIES:Food & Drink,Music
END:VEVENT
BEGIN:VEVENT
DTSTART;TZID=UTC:20260125T110000
DTEND;TZID=UTC:20260125T143000
DTSTAMP:20260423T064715
CREATED:20260111T204145Z
LAST-MODIFIED:20260111T204145Z
UID:32714-1769338800-1769351400@elkinsrandolphwv.com
SUMMARY:Brunch & Bubbles | Graceland Inn & Restaurant
DESCRIPTION:Enjoy a specially curated brunch buffet by Chef Dayna. \nLive Music  from 12:00-2:00pm \nSip on Bubbles and soak in the warm\, welcoming Graceland atmosphere.
URL:https://elkinsrandolphwv.com/event/brunch-bubbles-graceland-inn-restaurant-8/
LOCATION:Graceland Inn and Restaurant\, 100 Campus Drive\, Elkins\, WV\, 26241\, United States
CATEGORIES:Entertainment,Food & Drink,Music
END:VEVENT
BEGIN:VEVENT
DTSTART;TZID=UTC:20260121T180000
DTEND;TZID=UTC:20260121T200000
DTSTAMP:20260423T064715
CREATED:20260109T232730Z
LAST-MODIFIED:20260109T232730Z
UID:32699-1769018400-1769025600@elkinsrandolphwv.com
SUMMARY:Wine Down Wednesday- Graceland Inn
DESCRIPTION:
URL:https://elkinsrandolphwv.com/event/wine-down-wednesday-graceland-inn-9/
LOCATION:Graceland Inn and Restaurant\, 100 Campus Drive\, Elkins\, WV\, 26241\, United States
CATEGORIES:Food & Drink,Music
END:VEVENT
BEGIN:VEVENT
DTSTART;TZID=UTC:20260118T110000
DTEND;TZID=UTC:20260118T143000
DTSTAMP:20260423T064715
CREATED:20260111T203937Z
LAST-MODIFIED:20260111T204018Z
UID:32712-1768734000-1768746600@elkinsrandolphwv.com
SUMMARY:Brunch & Bubbles | Graceland Inn & Restaurant
DESCRIPTION:Enjoy a specially curated brunch buffet by Chef Dayna. \nLive Music  from 12:00-2:00pm \nSip on Bubbles and soak in the warm\, welcoming Graceland atmosphere.
URL:https://elkinsrandolphwv.com/event/brunch-bubbles-graceland-inn-restaurant-7/
LOCATION:Graceland Inn and Restaurant\, 100 Campus Drive\, Elkins\, WV\, 26241\, United States
CATEGORIES:Entertainment,Food & Drink,Music
END:VEVENT
BEGIN:VEVENT
DTSTART;TZID=UTC:20260114T170000
DTEND;TZID=UTC:20260114T210000
DTSTAMP:20260423T064715
CREATED:20260108T231929Z
LAST-MODIFIED:20260109T232602Z
UID:32698-1768410000-1768424400@elkinsrandolphwv.com
SUMMARY:Wine Down Wednesday- Graceland Inn
DESCRIPTION:
URL:https://elkinsrandolphwv.com/event/wine-down-wednesday-graceland-inn-7/
LOCATION:Graceland Inn and Restaurant\, 100 Campus Drive\, Elkins\, WV\, 26241\, United States
CATEGORIES:Food & Drink,Music
END:VEVENT
BEGIN:VEVENT
DTSTART;TZID=UTC:20260111T110000
DTEND;TZID=UTC:20260111T143000
DTSTAMP:20260423T064715
CREATED:20260111T202848Z
LAST-MODIFIED:20260111T203808Z
UID:32708-1768129200-1768141800@elkinsrandolphwv.com
SUMMARY:Brunch & Bubbles | Graceland Inn & Restaurant
DESCRIPTION:Enjoy a specially curated brunch buffet by Chef Dayna. \nLive Music by Lynlee Shearer from 12:00-2:00pm \nSip on Bubbles and soak in the warm\, welcoming Graceland atmosphere.
URL:https://elkinsrandolphwv.com/event/brunch-bubbles-graceland-inn-restaurant-6/
LOCATION:Graceland Inn and Restaurant\, 100 Campus Drive\, Elkins\, WV\, 26241\, United States
CATEGORIES:Entertainment,Food & Drink,Music
END:VEVENT
END:VCALENDAR