BEGIN:VCALENDAR
VERSION:2.0
PRODID:-//Elkins-Randolph County Tourism - ECPv6.15.20//NONSGML v1.0//EN
CALSCALE:GREGORIAN
METHOD:PUBLISH
X-WR-CALNAME:Elkins-Randolph County Tourism
X-ORIGINAL-URL:https://elkinsrandolphwv.com
X-WR-CALDESC:Events for Elkins-Randolph County Tourism
REFRESH-INTERVAL;VALUE=DURATION:PT1H
X-Robots-Tag:noindex
X-PUBLISHED-TTL:PT1H
BEGIN:VTIMEZONE
TZID:UTC
BEGIN:STANDARD
TZOFFSETFROM:+0000
TZOFFSETTO:+0000
TZNAME:UTC
DTSTART:20240101T000000
END:STANDARD
END:VTIMEZONE
BEGIN:VEVENT
DTSTART;TZID=UTC:20260107T170000
DTEND;TZID=UTC:20260107T210000
DTSTAMP:20260423T084009
CREATED:20260109T232648Z
LAST-MODIFIED:20260109T232648Z
UID:32701-1767805200-1767819600@elkinsrandolphwv.com
SUMMARY:Wine Down Wednesday- Graceland Inn
DESCRIPTION:
URL:https://elkinsrandolphwv.com/event/wine-down-wednesday-graceland-inn-8/
LOCATION:Graceland Inn and Restaurant\, 100 Campus Drive\, Elkins\, WV\, 26241\, United States
CATEGORIES:Food & Drink,Music
END:VEVENT
BEGIN:VEVENT
DTSTART;TZID=UTC:20251231T170000
DTEND;TZID=UTC:20260101T000000
DTSTAMP:20260423T084009
CREATED:20251231T204544Z
LAST-MODIFIED:20251231T204544Z
UID:32548-1767200400-1767225600@elkinsrandolphwv.com
SUMMARY:New Year's Eve Watch Party-Graceland Inn & Restaurant
DESCRIPTION:Sip signature cocktails\, watch global celebration unfold \, and raise a glass of bubbles as we welcome the New Year together. \nComplimentary sparkling wine toast to ring in 2026!
URL:https://elkinsrandolphwv.com/event/new-years-eve-watch-party-graceland-inn-restaurant/
LOCATION:Graceland Inn and Restaurant\, 100 Campus Drive\, Elkins\, WV\, 26241\, United States
CATEGORIES:Food & Drink
END:VEVENT
BEGIN:VEVENT
DTSTART;TZID=UTC:20251220T170000
DTEND;TZID=UTC:20251220T190000
DTSTAMP:20260423T084009
CREATED:20251215T201534Z
LAST-MODIFIED:20251215T201534Z
UID:32493-1766250000-1766257200@elkinsrandolphwv.com
SUMMARY:Dinner with Santa | Graceland Inn & Restaurant
DESCRIPTION:Make it a magical evening for the whole family at Dinner with Santa at the historic Graceland Inn & Restaurant this Saturday\, December 13th from 5–7 PM. Enjoy a cozy\, family-style meal\, visits from Santa and Mrs. Claus\, and free photos with Santa provided by Kolsun Media.  Reservations are still available — call 304-637-1600 to save your spot! Can’t make dinner but still want to see Santa?Stop by with a donation to support Brayton’s Bricks & Bowls. Donations may include:• A LEGO set\, or• A non-perishable\, easy-to-prepare food itemYour generosity helps spread holiday cheer while supporting a wonderful cause. Celebrate the season\, share smiles\, and make memories at Graceland!
URL:https://elkinsrandolphwv.com/event/dinner-with-santa-graceland-inn-restaurant-2/
LOCATION:Graceland Inn and Restaurant\, 100 Campus Drive\, Elkins\, WV\, 26241\, United States
CATEGORIES:Food & Drink,Kids & Family
END:VEVENT
BEGIN:VEVENT
DTSTART;TZID=UTC:20251213T170000
DTEND;TZID=UTC:20251213T190000
DTSTAMP:20260423T084009
CREATED:20251207T220240Z
LAST-MODIFIED:20251207T220240Z
UID:32439-1765645200-1765652400@elkinsrandolphwv.com
SUMMARY:Dinner with Santa-Graceland Inn & Restaurant
DESCRIPTION:Dinner with Santa at the Historic Graceland Inn & Restaurant! \n\n\nMark your calendars for December 13th and 20th as Santa and Mrs. Claus make their way to the beautiful Graceland Inn for a truly magical holiday dining experience!\n\n\nJoin us from 5:00–7:00 PM for a warm\, festive evening the whole family will love. Enjoy a family-style meal for just $50 for a family of four. Santa and Mrs. Claus will visit each table\, spreading Christmas cheer—and children will even have the chance for a special one-on-one moment with Santa!\n\n\n Free photos with Santa will be provided by Kolsun Media\, capturing the joy of the season for you to treasure.\n\n\nThis unforgettable evening is only happening at the Historic Graceland Inn & Restaurant on the campus of Davis & Elkins College. Experience the magic\, the memories\, and the holiday spirit like nowhere else!\n\n\n Call for reservations: 304-637-1600\n\n\n A night your family will cherish forever
URL:https://elkinsrandolphwv.com/event/dinner-with-santa-graceland-inn-restaurant/
LOCATION:Graceland Inn and Restaurant\, 100 Campus Drive\, Elkins\, WV\, 26241\, United States
CATEGORIES:Community,Food & Drink,Kids & Family
END:VEVENT
BEGIN:VEVENT
DTSTART;TZID=UTC:20251127T120000
DTEND;TZID=UTC:20251127T170000
DTSTAMP:20260423T084009
CREATED:20251106T192558Z
LAST-MODIFIED:20251106T192558Z
UID:32210-1764244800-1764262800@elkinsrandolphwv.com
SUMMARY:Thanksgiving Dinner Buffet | Graceland Inn & Restaurant
DESCRIPTION:Celebrate Thanksgiving at the Historic Graceland Inn & Restaurant \nLet us do the cooking this holiday season! Join us for a Thanksgiving Dinner Buffet featuring all of your traditional favorites\, served in the elegant and welcoming atmosphere of the Graceland Inn & Restaurant on the campus of Davis & Elkins College.\n Thursday\, November 27\, 2025\n 12:00 PM – 5:00 PM\n $35 per person\nGather with family and friends and enjoy a warm\, relaxing holiday meal without the stress.\n Reservations are strongly encouraged: 304-637-1600\n gracelandinnrestaurant.com\nWe look forward to sharing the holiday with you.
URL:https://elkinsrandolphwv.com/event/thanksgiving-dinner-buffet-graceland-inn-restaurant/
LOCATION:Graceland Inn and Restaurant\, 100 Campus Drive\, Elkins\, WV\, 26241\, United States
CATEGORIES:Food & Drink
END:VEVENT
BEGIN:VEVENT
DTSTART;TZID=UTC:20251123T110000
DTEND;TZID=UTC:20251123T143000
DTSTAMP:20260423T084009
CREATED:20251111T223220Z
LAST-MODIFIED:20251112T003626Z
UID:32270-1763895600-1763908200@elkinsrandolphwv.com
SUMMARY:Brunch & Bubbles | Graceland Inn & Restaurant
DESCRIPTION:
URL:https://elkinsrandolphwv.com/event/brunch-bubbles-graceland-inn-restaurant-4/
LOCATION:Graceland Inn and Restaurant\, 100 Campus Drive\, Elkins\, WV\, 26241\, United States
CATEGORIES:Entertainment,Food & Drink,Music
END:VEVENT
BEGIN:VEVENT
DTSTART;TZID=UTC:20251119T180000
DTEND;TZID=UTC:20251119T200000
DTSTAMP:20260423T084009
CREATED:20251028T211548Z
LAST-MODIFIED:20251028T211548Z
UID:32108-1763575200-1763582400@elkinsrandolphwv.com
SUMMARY:Wine Down Wednesday- Graceland Inn
DESCRIPTION:
URL:https://elkinsrandolphwv.com/event/wine-down-wednesday-graceland-inn-6/
LOCATION:Graceland Inn and Restaurant\, 100 Campus Drive\, Elkins\, WV\, 26241\, United States
CATEGORIES:Food & Drink,Music
END:VEVENT
BEGIN:VEVENT
DTSTART;TZID=UTC:20251116T110000
DTEND;TZID=UTC:20251116T143000
DTSTAMP:20260423T084009
CREATED:20251111T223306Z
LAST-MODIFIED:20251111T223740Z
UID:32269-1763290800-1763303400@elkinsrandolphwv.com
SUMMARY:Brunch & Bubbles | Graceland Inn & Restaurant
DESCRIPTION:
URL:https://elkinsrandolphwv.com/event/brunch-bubbles-graceland-inn-restaurant-5/
LOCATION:Graceland Inn and Restaurant\, 100 Campus Drive\, Elkins\, WV\, 26241\, United States
CATEGORIES:Entertainment,Food & Drink,Music
END:VEVENT
BEGIN:VEVENT
DTSTART;TZID=UTC:20251112T180000
DTEND;TZID=UTC:20251112T200000
DTSTAMP:20260423T084009
CREATED:20251028T211513Z
LAST-MODIFIED:20251028T211513Z
UID:32107-1762970400-1762977600@elkinsrandolphwv.com
SUMMARY:Wine Down Wednesday- Graceland Inn
DESCRIPTION:
URL:https://elkinsrandolphwv.com/event/wine-down-wednesday-graceland-inn-5/
LOCATION:Graceland Inn and Restaurant\, 100 Campus Drive\, Elkins\, WV\, 26241\, United States
CATEGORIES:Food & Drink,Music
END:VEVENT
BEGIN:VEVENT
DTSTART;TZID=UTC:20251105T180000
DTEND;TZID=UTC:20251105T200000
DTSTAMP:20260423T084009
CREATED:20251028T211436Z
LAST-MODIFIED:20251028T211436Z
UID:32106-1762365600-1762372800@elkinsrandolphwv.com
SUMMARY:Wine Down Wednesday- Graceland Inn
DESCRIPTION:
URL:https://elkinsrandolphwv.com/event/wine-down-wednesday-graceland-inn-4/
LOCATION:Graceland Inn and Restaurant\, 100 Campus Drive\, Elkins\, WV\, 26241\, United States
CATEGORIES:Food & Drink,Music
END:VEVENT
BEGIN:VEVENT
DTSTART;TZID=UTC:20251029T180000
DTEND;TZID=UTC:20251029T200000
DTSTAMP:20260423T084009
CREATED:20251007T232534Z
LAST-MODIFIED:20251007T232534Z
UID:31790-1761760800-1761768000@elkinsrandolphwv.com
SUMMARY:Wine Down Wednesday- Graceland Inn
DESCRIPTION:
URL:https://elkinsrandolphwv.com/event/wine-down-wednesday-graceland-inn-3/
LOCATION:Graceland Inn and Restaurant\, 100 Campus Drive\, Elkins\, WV\, 26241\, United States
CATEGORIES:Food & Drink,Music
END:VEVENT
BEGIN:VEVENT
DTSTART;TZID=UTC:20251022T180000
DTEND;TZID=UTC:20251022T200000
DTSTAMP:20260423T084009
CREATED:20251007T232438Z
LAST-MODIFIED:20251007T232438Z
UID:31788-1761156000-1761163200@elkinsrandolphwv.com
SUMMARY:Wine Down Wednesday- Graceland Inn
DESCRIPTION:
URL:https://elkinsrandolphwv.com/event/wine-down-wednesday-graceland-inn-2/
LOCATION:Graceland Inn and Restaurant\, 100 Campus Drive\, Elkins\, WV\, 26241\, United States
CATEGORIES:Food & Drink,Music
END:VEVENT
BEGIN:VEVENT
DTSTART;TZID=UTC:20251015T180000
DTEND;TZID=UTC:20251015T200000
DTSTAMP:20260423T084009
CREATED:20251007T232321Z
LAST-MODIFIED:20251007T232321Z
UID:31786-1760551200-1760558400@elkinsrandolphwv.com
SUMMARY:Wine Down Wednesday- Graceland Inn
DESCRIPTION:
URL:https://elkinsrandolphwv.com/event/wine-down-wednesday-graceland-inn/
LOCATION:Graceland Inn and Restaurant\, 100 Campus Drive\, Elkins\, WV\, 26241\, United States
CATEGORIES:Food & Drink,Music
END:VEVENT
BEGIN:VEVENT
DTSTART;TZID=UTC:20251012T120000
DTEND;TZID=UTC:20251012T140000
DTSTAMP:20260423T084009
CREATED:20251006T231959Z
LAST-MODIFIED:20251006T231959Z
UID:31776-1760270400-1760277600@elkinsrandolphwv.com
SUMMARY:Brunch & Bubbles | Graceland Inn & Restaurant
DESCRIPTION:
URL:https://elkinsrandolphwv.com/event/brunch-bubbles-graceland-inn-restaurant-3/
LOCATION:Graceland Inn and Restaurant\, 100 Campus Drive\, Elkins\, WV\, 26241\, United States
CATEGORIES:Entertainment,Food & Drink,Music
END:VEVENT
BEGIN:VEVENT
DTSTART;TZID=UTC:20251008T180000
DTEND;TZID=UTC:20251008T200000
DTSTAMP:20260423T084009
CREATED:20251007T231700Z
LAST-MODIFIED:20251007T231700Z
UID:31349-1759946400-1759953600@elkinsrandolphwv.com
SUMMARY:Wine Down Wednesday-Seth Maynard- Graceland Inn
DESCRIPTION:
URL:https://elkinsrandolphwv.com/event/wine-down-wednesday-seth-maynard-graceland-inn/
LOCATION:Graceland Inn and Restaurant\, 100 Campus Drive\, Elkins\, WV\, 26241\, United States
CATEGORIES:Food & Drink,Music
END:VEVENT
BEGIN:VEVENT
DTSTART;TZID=UTC:20250924T180000
DTEND;TZID=UTC:20250924T200000
DTSTAMP:20260423T084009
CREATED:20250827T224714Z
LAST-MODIFIED:20250827T224714Z
UID:31350-1758736800-1758744000@elkinsrandolphwv.com
SUMMARY:Wine Down Wednesday-Tiffani Green-Graceland Inn
DESCRIPTION:
URL:https://elkinsrandolphwv.com/event/wine-down-wednesday-tiffani-green-graceland-inn/
LOCATION:Graceland Inn and Restaurant\, 100 Campus Drive\, Elkins\, WV\, 26241\, United States
CATEGORIES:Davis & Elkins College,Entertainment,Food & Drink,Music
END:VEVENT
BEGIN:VEVENT
DTSTART;TZID=UTC:20250921T120000
DTEND;TZID=UTC:20250921T140000
DTSTAMP:20260423T084009
CREATED:20250916T235732Z
LAST-MODIFIED:20250917T000139Z
UID:31689-1758456000-1758463200@elkinsrandolphwv.com
SUMMARY:Brunch & Bubbles | Graceland Inn & Restaurant
DESCRIPTION: Brunch & Bubbles at Graceland Inn  A delicious brunch buffet in the charm of our historic setting Make your Sunday extra special with great food\, bubbles\, and music in the mountains of West Virginia! Call 304-637-1600 today to reserve your spot. Visit us at www.gracelandinn.com \n 
URL:https://elkinsrandolphwv.com/event/brunch-bubbles-graceland-inn-restaurant-2/
LOCATION:Graceland Inn and Restaurant\, 100 Campus Drive\, Elkins\, WV\, 26241\, United States
CATEGORIES:Food & Drink,Music
ATTACH;FMTTYPE=image/jpeg:https://elkinsrandolphwv.com/wp-content/uploads/2025/08/graceland-logo-borderless.jpg
END:VEVENT
BEGIN:VEVENT
DTSTART;TZID=UTC:20250917T180000
DTEND;TZID=UTC:20250917T200000
DTSTAMP:20260423T084009
CREATED:20250827T221035Z
LAST-MODIFIED:20250827T221035Z
UID:31347-1758132000-1758139200@elkinsrandolphwv.com
SUMMARY:Wine Down Wednesday-Tiffany & Joel-Graceland Inn
DESCRIPTION:
URL:https://elkinsrandolphwv.com/event/wine-down-wednesday-tiffany-joel-graceland-inn/
LOCATION:Graceland Inn and Restaurant\, 100 Campus Drive\, Elkins\, WV\, 26241\, United States
CATEGORIES:Davis & Elkins College,Entertainment,Food & Drink,Music
END:VEVENT
BEGIN:VEVENT
DTSTART;TZID=UTC:20250910T180000
DTEND;TZID=UTC:20250910T200000
DTSTAMP:20260423T084009
CREATED:20250827T220813Z
LAST-MODIFIED:20250827T220813Z
UID:31344-1757527200-1757534400@elkinsrandolphwv.com
SUMMARY:Wine Down Wednesday-Jamie & Danny Kittle-Graceland Inn
DESCRIPTION:
URL:https://elkinsrandolphwv.com/event/wine-down-wednesday-jamie-danny-kittle-graceland-inn/
LOCATION:Graceland Inn and Restaurant\, 100 Campus Drive\, Elkins\, WV\, 26241\, United States
CATEGORIES:Davis & Elkins College,Entertainment,Food & Drink,Music
END:VEVENT
BEGIN:VEVENT
DTSTART;TZID=UTC:20250903T180000
DTEND;TZID=UTC:20250903T200000
DTSTAMP:20260423T084009
CREATED:20250827T220436Z
LAST-MODIFIED:20250827T220616Z
UID:31342-1756922400-1756929600@elkinsrandolphwv.com
SUMMARY:Wine Down Wednesday- Graceland Inn | Nick Patella
DESCRIPTION:
URL:https://elkinsrandolphwv.com/event/wind-down-wednesday-graceland-inn-nick-patella/
LOCATION:Graceland Inn and Restaurant\, 100 Campus Drive\, Elkins\, WV\, 26241\, United States
CATEGORIES:Davis & Elkins College,Entertainment,Food & Drink,Music
END:VEVENT
BEGIN:VEVENT
DTSTART;TZID=UTC:20250831T110000
DTEND;TZID=UTC:20250831T143000
DTSTAMP:20260423T084009
CREATED:20250828T173747Z
LAST-MODIFIED:20250828T173747Z
UID:31359-1756638000-1756650600@elkinsrandolphwv.com
SUMMARY:Brunch & Bubbles | Graceland Inn & Restaurant
DESCRIPTION: Brunch & Bubbles at Graceland Inn Join us this Sunday\, August 31st from 11:00 AM – 2:30 PM for a brunch experience like no other at the Historic Graceland Inn & Restaurant\, nestled on the campus of Davis & Elkins College. Enjoy Mimosas with a Graceland Twist Live music by the talented Tiffani Green A delicious brunch buffet in the charm of our historic setting Make your Sunday extra special with great food\, bubbles\, and music in the mountains of West Virginia! Call 304-637-1600 today to reserve your spot. Visit us at www.gracelandinn.com
URL:https://elkinsrandolphwv.com/event/brunch-bubbles-graceland-inn-restaurant/
LOCATION:Graceland Inn and Restaurant\, 100 Campus Drive\, Elkins\, WV\, 26241\, United States
CATEGORIES:Food & Drink,Music
ATTACH;FMTTYPE=image/jpeg:https://elkinsrandolphwv.com/wp-content/uploads/2025/08/graceland-logo-borderless.jpg
END:VEVENT
BEGIN:VEVENT
DTSTART;TZID=UTC:20250827T180000
DTEND;TZID=UTC:20250827T200000
DTSTAMP:20260423T084009
CREATED:20250827T171457Z
LAST-MODIFIED:20250827T171457Z
UID:31339-1756317600-1756324800@elkinsrandolphwv.com
SUMMARY:Winedown Wednesday | Graceland Inn & Restaurant
DESCRIPTION:Midweek mood: set.  Join us for Wine Down Wednesday at Graceland Inn & Restaurant—your cozy spot to unwind\, sip\, and savor. When: Every Wednesday\, 6–8 PM Where: Graceland Inn & Restaurant Elkins\, WV What to expect:Curated wine poursRelaxed vibes\, great conversation\, and a beautiful settingLive music by Seth MaynardFor reservations call (304) 637-1600
URL:https://elkinsrandolphwv.com/event/winedown-wednesday-graceland-inn-restaurant-2/
LOCATION:Graceland Inn and Restaurant\, 100 Campus Drive\, Elkins\, WV\, 26241\, United States
CATEGORIES:Food & Drink,Music
ATTACH;FMTTYPE=image/jpeg:https://elkinsrandolphwv.com/wp-content/uploads/2025/08/graceland-logo-borderless.jpg
END:VEVENT
BEGIN:VEVENT
DTSTART;TZID=UTC:20250826T083000
DTEND;TZID=UTC:20250826T093000
DTSTAMP:20260423T084009
CREATED:20250819T224750Z
LAST-MODIFIED:20250819T230111Z
UID:31260-1756197000-1756200600@elkinsrandolphwv.com
SUMMARY:Biscuits\, Gravy\, and Business | Graceland Inn
DESCRIPTION:You’re Invited! \n\n\nJoin us for Biscuits\, Gravy\, & Business  – a morning of networking\, hot biscuits & gravy\, and quick updates from local businesses and nonprofits!\n\n\n Tuesday\, August 26\, 2025\n 8:30 AM\n Graceland Inn & Restaurant\, Davis & Elkins College\n\n\n Tickets:\n• $20 – Chamber Partners\n• $25 – Non-Partners\n\n\n A special thank you to our event sponsors:\n\n\n Performance Chevrolet\n Elkins Depot Welcome Center\n Elkins-Randolph County Tourism\n\n\nDon’t miss this chance to connect\, learn\, and enjoy breakfast with your community!\n\n\n Get your tickets today: https://www.zeffy.com/en-US/ticketing/biscuits-gravy-and-business
URL:https://elkinsrandolphwv.com/event/31260/
LOCATION:Graceland Inn and Restaurant\, 100 Campus Drive\, Elkins\, WV\, 26241\, United States
CATEGORIES:Conferences,Educational
ORGANIZER;CN="Elkins-Randolph County Chamber of Commerce":MAILTO:chamber@erccc.com
END:VEVENT
BEGIN:VEVENT
DTSTART;TZID=UTC:20250824T110000
DTEND;TZID=UTC:20250824T143000
DTSTAMP:20260423T084009
CREATED:20250819T221622Z
LAST-MODIFIED:20250819T221622Z
UID:31254-1756033200-1756045800@elkinsrandolphwv.com
SUMMARY:Brunch & Bubbles | Graceland Inn
DESCRIPTION:
URL:https://elkinsrandolphwv.com/event/brunch-bubbles-graceland-inn/
LOCATION:Graceland Inn and Restaurant\, 100 Campus Drive\, Elkins\, WV\, 26241\, United States
CATEGORIES:Entertainment,Food & Drink
ATTACH;FMTTYPE=image/jpeg:https://elkinsrandolphwv.com/wp-content/uploads/2025/08/graceland-logo-borderless.jpg
END:VEVENT
BEGIN:VEVENT
DTSTART;TZID=UTC:20250820T180000
DTEND;TZID=UTC:20250820T200000
DTSTAMP:20260423T084009
CREATED:20250820T174555Z
LAST-MODIFIED:20250820T174555Z
UID:31274-1755712800-1755720000@elkinsrandolphwv.com
SUMMARY:Winedown Wednesday | Graceland Inn & Restaurant
DESCRIPTION:Join us as we host the incredibly talented Tiffani Green\, a local gem known for their soulful voice and signature ukulele sound. Her acoustic style blends perfectly with a laid-back evening of delicious food\, signature wine\, and great company.For reservations call (304) 637-1600
URL:https://elkinsrandolphwv.com/event/winedown-wednesday-graceland-inn-restaurant/
LOCATION:Graceland Inn and Restaurant\, 100 Campus Drive\, Elkins\, WV\, 26241\, United States
CATEGORIES:Food & Drink,Music
ATTACH;FMTTYPE=image/jpeg:https://elkinsrandolphwv.com/wp-content/uploads/2025/08/graceland-logo-borderless.jpg
END:VEVENT
BEGIN:VEVENT
DTSTART;TZID=UTC:20250813T180000
DTEND;TZID=UTC:20250813T200000
DTSTAMP:20260423T084009
CREATED:20250813T191640Z
LAST-MODIFIED:20250813T191640Z
UID:31190-1755108000-1755115200@elkinsrandolphwv.com
SUMMARY:Winedown Wednesday | Graceland
DESCRIPTION:No plane ticket\, no passport—just sunshine vibes\, salty air (okay… maybe from the kitchen )\, and great music all night long.Come out tonight and join us!Restaurantsant Hours 5-9pm Live music 6-8pmFor reservations call (304) 637-1600 \n 
URL:https://elkinsrandolphwv.com/event/winedown-wednesday-graceland-2/
LOCATION:Graceland Inn and Restaurant\, 100 Campus Drive\, Elkins\, WV\, 26241\, United States
CATEGORIES:Entertainment,Food & Drink
END:VEVENT
BEGIN:VEVENT
DTSTART;TZID=UTC:20250806T180000
DTEND;TZID=UTC:20250806T200000
DTSTAMP:20260423T084009
CREATED:20250806T000156Z
LAST-MODIFIED:20250806T000156Z
UID:31158-1754503200-1754510400@elkinsrandolphwv.com
SUMMARY:Winedown Wednesday | Graceland
DESCRIPTION:Looking for the perfect night out? Graceland Inn & Restaurant has you covered! Join us for live music that pairs perfectly with our delicious food\, and welcoming atmosphere. For reservations call (304) 637-1600
URL:https://elkinsrandolphwv.com/event/winedown-wednesday-graceland/
LOCATION:Graceland Inn and Restaurant\, 100 Campus Drive\, Elkins\, WV\, 26241\, United States
CATEGORIES:Entertainment,Food & Drink
END:VEVENT
BEGIN:VEVENT
DTSTART;TZID=UTC:20250730T180000
DTEND;TZID=UTC:20250730T200000
DTSTAMP:20260423T084009
CREATED:20250722T221243Z
LAST-MODIFIED:20250728T222637Z
UID:31032-1753898400-1753905600@elkinsrandolphwv.com
SUMMARY:Wine Down Wednesday | Graceland Inn & Restaurant
DESCRIPTION:We at Graceland are proud to announce the musical stylings of Tiffany Elliott and Joel Franks will be returning this week for our Wine Down Wednesday! So make sure to drop by and see us this week!For reservations call 304-637-1600 \n \n 
URL:https://elkinsrandolphwv.com/event/wine-down-wednesday-graceland-inn-restaurant/
LOCATION:Graceland Inn and Restaurant\, 100 Campus Drive\, Elkins\, WV\, 26241\, United States
CATEGORIES:Entertainment,Food & Drink,Music
END:VEVENT
BEGIN:VEVENT
DTSTART;TZID=UTC:20250528T180000
DTEND;TZID=UTC:20250528T200000
DTSTAMP:20260423T084009
CREATED:20250508T201042Z
LAST-MODIFIED:20250508T201109Z
UID:30690-1748455200-1748462400@elkinsrandolphwv.com
SUMMARY:Wine Down Wednesday at Graceland
DESCRIPTION:Get ready to wind down with Graceland Inn & Restaurant!\nTo kick off summer\, Graceland will feature live music from local artists for Wine Down Wednesday from 6-8 PM. Settle in with an appetizer and enjoy our expanding wine collection while taking in the tunes.\nGrab your group and make your reservation at 304-637-1600!
URL:https://elkinsrandolphwv.com/event/wine-down-wednesday-at-graceland/2025-05-28/
LOCATION:Graceland Inn and Restaurant\, 100 Campus Drive\, Elkins\, WV\, 26241\, United States
END:VEVENT
BEGIN:VEVENT
DTSTART;TZID=UTC:20250521T180000
DTEND;TZID=UTC:20250521T200000
DTSTAMP:20260423T084009
CREATED:20250508T201042Z
LAST-MODIFIED:20250508T201106Z
UID:30689-1747850400-1747857600@elkinsrandolphwv.com
SUMMARY:Wine Down Wednesday at Graceland
DESCRIPTION:Get ready to wind down with Graceland Inn & Restaurant!\nTo kick off summer\, Graceland will feature live music from local artists for Wine Down Wednesday from 6-8 PM. Settle in with an appetizer and enjoy our expanding wine collection while taking in the tunes.\nGrab your group and make your reservation at 304-637-1600!
URL:https://elkinsrandolphwv.com/event/wine-down-wednesday-at-graceland/2025-05-21/
LOCATION:Graceland Inn and Restaurant\, 100 Campus Drive\, Elkins\, WV\, 26241\, United States
END:VEVENT
END:VCALENDAR