BEGIN:VCALENDAR
VERSION:2.0
PRODID:-//Elkins-Randolph County Tourism - ECPv6.15.20//NONSGML v1.0//EN
CALSCALE:GREGORIAN
METHOD:PUBLISH
X-WR-CALNAME:Elkins-Randolph County Tourism
X-ORIGINAL-URL:https://elkinsrandolphwv.com
X-WR-CALDESC:Events for Elkins-Randolph County Tourism
REFRESH-INTERVAL;VALUE=DURATION:PT1H
X-Robots-Tag:noindex
X-PUBLISHED-TTL:PT1H
BEGIN:VTIMEZONE
TZID:UTC
BEGIN:STANDARD
TZOFFSETFROM:+0000
TZOFFSETTO:+0000
TZNAME:UTC
DTSTART:20220101T000000
END:STANDARD
END:VTIMEZONE
BEGIN:VEVENT
DTSTART;VALUE=DATE:20250920
DTEND;VALUE=DATE:20250922
DTSTAMP:20260423T231419
CREATED:20250908T182645Z
LAST-MODIFIED:20250908T182645Z
UID:31568-1758333600-1758419999@elkinsrandolphwv.com
SUMMARY:Farm to Table Dinner | Laurel River Club Bnb
DESCRIPTION:Experience a chef-curated\, multi-course dinner featuring locally sourced ingredients. \nMeet the farmers and chefs at the heart of West Virginia’s thriving agritourism movement and enjoy an authentic taste of Appalachian heritage set against a stunning riverside backdrop. \nAll proceeds benefit Laurel Fork Farm and the West Virginia School of Traditional Skills\, advancing the future of agritourism education.
URL:https://elkinsrandolphwv.com/event/farm-to-table-dinner-laurel-river-club-bnb/
LOCATION:Laurel River Club BNB\, 417 Jenningston Farm Road\, Bowden\, WV\, 26254\, United States
CATEGORIES:Food & Drink
END:VEVENT
BEGIN:VEVENT
DTSTART;TZID=UTC:20230611T150000
DTEND;TZID=UTC:20230611T170000
DTSTAMP:20260423T231419
CREATED:20230303T234246Z
LAST-MODIFIED:20230303T234246Z
UID:26745-1686495600-1686502800@elkinsrandolphwv.com
SUMMARY:Meet and Greet – Laurel Fork Falconer
DESCRIPTION:Free of Charge only at Laurel River Club Bed & Breakfast \nOne Saturday a Month! \nMarch 18th – 2pm \nApril 15th – 3pm \nMay 20th – 3pm \nJune 11th – 3pm \nMeet the Laurel Fork Falconer and some of his birds that he uses for falconry and education! \nFor more Information \n304-402-7095 \nLaurelforkfalconry@yahoo.com
URL:https://elkinsrandolphwv.com/event/meet-and-greet-laurel-fork-falconer-4/
LOCATION:Laurel River Club BNB\, 417 Jenningston Farm Road\, Bowden\, WV\, 26254\, United States
CATEGORIES:Community,Educational,Entertainment,Information,Kids & Family
ATTACH;FMTTYPE=image/jpeg:https://elkinsrandolphwv.com/wp-content/uploads/2023/03/332273064_922559272412627_8872687458647979747_n.jpg
END:VEVENT
BEGIN:VEVENT
DTSTART;TZID=UTC:20230520T150000
DTEND;TZID=UTC:20230520T170000
DTSTAMP:20260423T231419
CREATED:20230303T234146Z
LAST-MODIFIED:20230303T234146Z
UID:26744-1684594800-1684602000@elkinsrandolphwv.com
SUMMARY:Meet and Greet – Laurel Fork Falconer
DESCRIPTION:Free of Charge only at Laurel River Club Bed & Breakfast \nOne Saturday a Month! \nMarch 18th – 2pm \nApril 15th – 3pm \nMay 20th – 3pm \nJune 11th – 3pm \nMeet the Laurel Fork Falconer and some of his birds that he uses for falconry and education! \nFor more Information \n304-402-7095 \nLaurelforkfalconry@yahoo.com
URL:https://elkinsrandolphwv.com/event/meet-and-greet-laurel-fork-falconer-3/
LOCATION:Laurel River Club BNB\, 417 Jenningston Farm Road\, Bowden\, WV\, 26254\, United States
CATEGORIES:Community,Educational,Entertainment,Information,Kids & Family
ATTACH;FMTTYPE=image/jpeg:https://elkinsrandolphwv.com/wp-content/uploads/2023/03/332273064_922559272412627_8872687458647979747_n.jpg
END:VEVENT
BEGIN:VEVENT
DTSTART;TZID=UTC:20230415T150000
DTEND;TZID=UTC:20230415T170000
DTSTAMP:20260423T231419
CREATED:20230303T234053Z
LAST-MODIFIED:20230303T234053Z
UID:26743-1681570800-1681578000@elkinsrandolphwv.com
SUMMARY:Meet and Greet – Laurel Fork Falconer
DESCRIPTION:Free of Charge only at Laurel River Club Bed & Breakfast \nOne Saturday a Month! \nMarch 18th – 2pm \nApril 15th – 3pm \nMay 20th – 3pm \nJune 11th – 3pm \nMeet the Laurel Fork Falconer and some of his birds that he uses for falconry and education! \nFor more Information \n304-402-7095 \nLaurelforkfalconry@yahoo.com
URL:https://elkinsrandolphwv.com/event/meet-and-greet-laurel-fork-falconer-2/
LOCATION:Laurel River Club BNB\, 417 Jenningston Farm Road\, Bowden\, WV\, 26254\, United States
CATEGORIES:Community,Educational,Entertainment,Information,Kids & Family
ATTACH;FMTTYPE=image/jpeg:https://elkinsrandolphwv.com/wp-content/uploads/2023/03/332273064_922559272412627_8872687458647979747_n.jpg
END:VEVENT
BEGIN:VEVENT
DTSTART;TZID=UTC:20230318T150000
DTEND;TZID=UTC:20230318T170000
DTSTAMP:20260423T231419
CREATED:20230303T233952Z
LAST-MODIFIED:20230303T233952Z
UID:26742-1679151600-1679158800@elkinsrandolphwv.com
SUMMARY:Meet and Greet – Laurel Fork Falconer
DESCRIPTION:Free of Charge only at Laurel River Club Bed & Breakfast \nOne Saturday a Month! \nMarch 18th – 2pm \nApril 15th – 3pm \nMay 20th – 3pm \nJune 11th – 3pm \nMeet the Laurel Fork Falconer and some of his birds that he uses for falconry and education! \nFor more Information \n304-402-7095 \nLaurelforkfalconry@yahoo.com
URL:https://elkinsrandolphwv.com/event/meet-and-greet-laurel-fork-falconer/
LOCATION:Laurel River Club BNB\, 417 Jenningston Farm Road\, Bowden\, WV\, 26254\, United States
CATEGORIES:Community,Educational,Entertainment,Information,Kids & Family
ATTACH;FMTTYPE=image/jpeg:https://elkinsrandolphwv.com/wp-content/uploads/2023/03/332273064_922559272412627_8872687458647979747_n.jpg
END:VEVENT
BEGIN:VEVENT
DTSTART;TZID=UTC:20230306T130000
DTEND;TZID=UTC:20230306T143000
DTSTAMP:20260423T231419
CREATED:20230303T231900Z
LAST-MODIFIED:20230304T015658Z
UID:26735-1678107600-1678113000@elkinsrandolphwv.com
SUMMARY:WV School of Traditonal Skills
DESCRIPTION:Everyone’s Welcome! \nFree to the public\, learn how to trim grapes!
URL:https://elkinsrandolphwv.com/event/wv-school-of-traditonal-skills/
LOCATION:Laurel River Club BNB\, 417 Jenningston Farm Road\, Bowden\, WV\, 26254\, United States
CATEGORIES:Community,Educational,Information,Kids & Family
ATTACH;FMTTYPE=image/png:https://elkinsrandolphwv.com/wp-content/uploads/2023/03/IMG_4583-e1677867495979.png
END:VEVENT
END:VCALENDAR