BEGIN:VCALENDAR
VERSION:2.0
PRODID:-//Elkins-Randolph County Tourism - ECPv6.15.17.1//NONSGML v1.0//EN
CALSCALE:GREGORIAN
METHOD:PUBLISH
X-ORIGINAL-URL:https://elkinsrandolphwv.com
X-WR-CALDESC:Events for Elkins-Randolph County Tourism
REFRESH-INTERVAL;VALUE=DURATION:PT1H
X-Robots-Tag:noindex
X-PUBLISHED-TTL:PT1H
BEGIN:VTIMEZONE
TZID:UTC
BEGIN:STANDARD
TZOFFSETFROM:+0000
TZOFFSETTO:+0000
TZNAME:UTC
DTSTART:20240101T000000
END:STANDARD
END:VTIMEZONE
BEGIN:VEVENT
DTSTART;TZID=UTC:20251220T100000
DTEND;TZID=UTC:20251220T160000
DTSTAMP:20260421T185048
CREATED:20251215T202714Z
LAST-MODIFIED:20251215T202714Z
UID:32496-1766224800-1766246400@elkinsrandolphwv.com
SUMMARY:Solstice Art Market
DESCRIPTION:
URL:https://elkinsrandolphwv.com/event/solstice-art-market/
LOCATION:Meander\, 212 1/2 Davis Ave\, Elkins\, 26241\, United States
CATEGORIES:Art & Culture
END:VEVENT
END:VCALENDAR