BEGIN:VCALENDAR
VERSION:2.0
PRODID:-//Elkins-Randolph County Tourism - ECPv6.15.20//NONSGML v1.0//EN
CALSCALE:GREGORIAN
METHOD:PUBLISH
X-ORIGINAL-URL:https://elkinsrandolphwv.com
X-WR-CALDESC:Events for Elkins-Randolph County Tourism
REFRESH-INTERVAL;VALUE=DURATION:PT1H
X-Robots-Tag:noindex
X-PUBLISHED-TTL:PT1H
BEGIN:VTIMEZONE
TZID:UTC
BEGIN:STANDARD
TZOFFSETFROM:+0000
TZOFFSETTO:+0000
TZNAME:UTC
DTSTART:20180101T000000
END:STANDARD
END:VTIMEZONE
BEGIN:VEVENT
DTSTART;TZID=UTC:20251031T180000
DTEND;TZID=UTC:20251031T193000
DTSTAMP:20260422T181042
CREATED:20191016T000659Z
LAST-MODIFIED:20191016T000659Z
UID:28680-1761933600-1761939000@elkinsrandolphwv.com
SUMMARY:Residential Trick or Treat @ Mill Creek
DESCRIPTION:
URL:https://elkinsrandolphwv.com/event/residential-trick-or-treat-mill-creek/2025-10-31/
LOCATION:Mill Creek\, WV
CATEGORIES:Community
END:VEVENT
BEGIN:VEVENT
DTSTART;TZID=UTC:20241031T180000
DTEND;TZID=UTC:20241031T193000
DTSTAMP:20260422T181042
CREATED:20191016T000659Z
LAST-MODIFIED:20191016T000659Z
UID:26985-1730397600-1730403000@elkinsrandolphwv.com
SUMMARY:Residential Trick or Treat @ Mill Creek
DESCRIPTION:
URL:https://elkinsrandolphwv.com/event/residential-trick-or-treat-mill-creek/2024-10-31/
LOCATION:Mill Creek\, WV
CATEGORIES:Community
END:VEVENT
BEGIN:VEVENT
DTSTART;TZID=UTC:20191031T180000
DTEND;TZID=UTC:20191031T193000
DTSTAMP:20260422T181042
CREATED:20191016T000659Z
LAST-MODIFIED:20191016T202526Z
UID:15977-1572544800-1572550200@elkinsrandolphwv.com
SUMMARY:Residential Trick or Treat @ Mill Creek
DESCRIPTION:
URL:https://elkinsrandolphwv.com/event/residential-trick-or-treat-mill-creek/2019-10-31/
LOCATION:Mill Creek\, WV
CATEGORIES:Community
END:VEVENT
END:VCALENDAR