BEGIN:VCALENDAR
VERSION:2.0
PRODID:-//Elkins-Randolph County Tourism - ECPv6.15.20//NONSGML v1.0//EN
CALSCALE:GREGORIAN
METHOD:PUBLISH
X-WR-CALNAME:Elkins-Randolph County Tourism
X-ORIGINAL-URL:https://elkinsrandolphwv.com
X-WR-CALDESC:Events for Elkins-Randolph County Tourism
REFRESH-INTERVAL;VALUE=DURATION:PT1H
X-Robots-Tag:noindex
X-PUBLISHED-TTL:PT1H
BEGIN:VTIMEZONE
TZID:UTC
BEGIN:STANDARD
TZOFFSETFROM:+0000
TZOFFSETTO:+0000
TZNAME:UTC
DTSTART:20180101T000000
END:STANDARD
END:VTIMEZONE
BEGIN:VEVENT
DTSTART;TZID=UTC:20200313T180000
DTEND;TZID=UTC:20200313T210000
DTSTAMP:20260424T163019
CREATED:20200228T011433Z
LAST-MODIFIED:20200228T011433Z
UID:19216-1584122400-1584133200@elkinsrandolphwv.com
SUMMARY:Kenny West @ Smoke on the Water
DESCRIPTION:For years Kenny West has established a powerhouse reputation within the region for his professionalism\, work ethic and pride for what he does. Born and raised in the “friendly city” of Fairmont\, WV. His roots show in every note. If there is one thing guaranteed when you book him it’s that you will get what you pay for. From the minute he steps into the venue he will represent a brand that he has spent years molding\, Unlike most acoustic entertainers his set-list is built from years of different genres\, understanding that crowds are built up from more than one era he incorporates songs from the 60’s up to modern time. Most of the songs in his set you wouldn’t think of hearing at an acoustic show but that is what makes him different from everyone else. This is a show every venue must have.smoke7
URL:https://elkinsrandolphwv.com/event/kenny-west-smoke-on-the-water-6/
LOCATION:Smoke on the Water\, Rt 33 East\, 1455 Allegheny Highway\, Elkins\, WV 26241\, USA\, 1 US Rte 33\, United States
CATEGORIES:Music
ATTACH;FMTTYPE=image/jpeg:https://elkinsrandolphwv.com/wp-content/uploads/2019/03/29511280_1624413420927078_4924421038033815654_n-e1557334446313.jpg
END:VEVENT
BEGIN:VEVENT
DTSTART;TZID=UTC:20200221T180000
DTEND;TZID=UTC:20200221T210000
DTSTAMP:20260424T163019
CREATED:20200121T050712Z
LAST-MODIFIED:20200121T050712Z
UID:18394-1582308000-1582318800@elkinsrandolphwv.com
SUMMARY:Kenny West @ Smoke on the Water
DESCRIPTION:For years Kenny West has established a powerhouse reputation within the region for his professionalism\, work ethic and pride for what he does. Born and raised in the “friendly city” of Fairmont\, WV. His roots show in every note. If there is one thing guaranteed when you book him it’s that you will get what you pay for. From the minute he steps into the venue he will represent a brand that he has spent years molding\, Unlike most acoustic entertainers his set-list is built from years of different genres\, understanding that crowds are built up from more than one era he incorporates songs from the 60’s up to modern time. Most of the songs in his set you wouldn’t think of hearing at an acoustic show but that is what makes him different from everyone else. This is a show every venue must have.
URL:https://elkinsrandolphwv.com/event/kenny-west-smoke-on-the-water-4/
LOCATION:Smoke on the Water\, Rt 33 East\, 1455 Allegheny Highway\, Elkins\, WV 26241\, USA\, 1 US Rte 33\, United States
CATEGORIES:Music
ATTACH;FMTTYPE=image/jpeg:https://elkinsrandolphwv.com/wp-content/uploads/2019/03/29511280_1624413420927078_4924421038033815654_n-e1557334446313.jpg
END:VEVENT
BEGIN:VEVENT
DTSTART;TZID=UTC:20200201T180000
DTEND;TZID=UTC:20200201T210000
DTSTAMP:20260424T163019
CREATED:20200121T045649Z
LAST-MODIFIED:20200121T045649Z
UID:18387-1580580000-1580590800@elkinsrandolphwv.com
SUMMARY:Nick Davisson @ Smoke on the Water
DESCRIPTION:Nick Davisson is a singer/songwriter from Fairmont\, West Virginia. Davisson is the son of The Davisson Brothers Band Donnie Davisson. Nick is known for his original songs and unique sound. He has been playing since he was big enough to hold a guitar. Nick has played all over the east coast and has been gaining traction in the music world recently. Nick’s music is melodic\, easy to listen to\, relatable with hints of blues\, blues rock\, and pop rock. 
URL:https://elkinsrandolphwv.com/event/nick-davisson-smoke-on-the-water-3/
LOCATION:Smoke on the Water\, Rt 33 East\, 1455 Allegheny Highway\, Elkins\, WV 26241\, USA\, 1 US Rte 33\, United States
CATEGORIES:Music
ATTACH;FMTTYPE=image/jpeg:https://elkinsrandolphwv.com/wp-content/uploads/2019/03/29511280_1624413420927078_4924421038033815654_n-e1557334446313.jpg
END:VEVENT
BEGIN:VEVENT
DTSTART;TZID=UTC:20200125T170000
DTEND;TZID=UTC:20200125T200000
DTSTAMP:20260424T163019
CREATED:20191220T010239Z
LAST-MODIFIED:20191220T010239Z
UID:17210-1579971600-1579982400@elkinsrandolphwv.com
SUMMARY:Kenny Zara @ Smoke on the Water
DESCRIPTION:
URL:https://elkinsrandolphwv.com/event/kenny-zara-smoke-on-the-water-4/
LOCATION:Smoke on the Water\, Rt 33 East\, 1455 Allegheny Highway\, Elkins\, WV 26241\, USA\, 1 US Rte 33\, United States
CATEGORIES:Music
ATTACH;FMTTYPE=image/jpeg:https://elkinsrandolphwv.com/wp-content/uploads/2019/03/29511280_1624413420927078_4924421038033815654_n-e1557334446313.jpg
END:VEVENT
BEGIN:VEVENT
DTSTART;TZID=UTC:20200125T170000
DTEND;TZID=UTC:20200125T190000
DTSTAMP:20260424T163019
CREATED:20200104T000328Z
LAST-MODIFIED:20200104T000328Z
UID:17426-1579971600-1579978800@elkinsrandolphwv.com
SUMMARY:Kenny Zara @ Smoke on the Water
DESCRIPTION:
URL:https://elkinsrandolphwv.com/event/kenny-zara-smoke-on-the-water-5/
LOCATION:Smoke on the Water\, Rt 33 East\, 1455 Allegheny Highway\, Elkins\, WV 26241\, USA\, 1 US Rte 33\, United States
CATEGORIES:Music
ATTACH;FMTTYPE=image/jpeg:https://elkinsrandolphwv.com/wp-content/uploads/2019/03/29511280_1624413420927078_4924421038033815654_n-e1557334446313.jpg
END:VEVENT
BEGIN:VEVENT
DTSTART;TZID=UTC:20200124T180000
DTEND;TZID=UTC:20200124T200000
DTSTAMP:20260424T163019
CREATED:20200104T000230Z
LAST-MODIFIED:20200122T205235Z
UID:17424-1579888800-1579896000@elkinsrandolphwv.com
SUMMARY:Nat Frederick @ Smoke on the Water
DESCRIPTION:
URL:https://elkinsrandolphwv.com/event/nick-davisson-smoke-on-the-water-2/
LOCATION:Smoke on the Water\, Rt 33 East\, 1455 Allegheny Highway\, Elkins\, WV 26241\, USA\, 1 US Rte 33\, United States
CATEGORIES:Music
ATTACH;FMTTYPE=image/jpeg:https://elkinsrandolphwv.com/wp-content/uploads/2019/03/29511280_1624413420927078_4924421038033815654_n-e1557334446313.jpg
END:VEVENT
BEGIN:VEVENT
DTSTART;TZID=UTC:20200118T180000
DTEND;TZID=UTC:20200118T200000
DTSTAMP:20260424T163019
CREATED:20200104T000136Z
LAST-MODIFIED:20200104T000136Z
UID:17422-1579370400-1579377600@elkinsrandolphwv.com
SUMMARY:Jeff Grable @ Smoke on the Water
DESCRIPTION:
URL:https://elkinsrandolphwv.com/event/jeff-grable-smoke-on-the-water-7/
LOCATION:Smoke on the Water\, Rt 33 East\, 1455 Allegheny Highway\, Elkins\, WV 26241\, USA\, 1 US Rte 33\, United States
CATEGORIES:Music
ATTACH;FMTTYPE=image/jpeg:https://elkinsrandolphwv.com/wp-content/uploads/2019/03/29511280_1624413420927078_4924421038033815654_n-e1557334446313.jpg
END:VEVENT
BEGIN:VEVENT
DTSTART;TZID=UTC:20200111T180000
DTEND;TZID=UTC:20200111T200000
DTSTAMP:20260424T163019
CREATED:20200104T000027Z
LAST-MODIFIED:20200104T000027Z
UID:17420-1578765600-1578772800@elkinsrandolphwv.com
SUMMARY:Ronnie Burroughs @ Smoke on the Water
DESCRIPTION:
URL:https://elkinsrandolphwv.com/event/ronnie-burroughs-smoke-on-the-water-5/
LOCATION:Smoke on the Water\, Rt 33 East\, 1455 Allegheny Highway\, Elkins\, WV 26241\, USA\, 1 US Rte 33\, United States
CATEGORIES:Music
ATTACH;FMTTYPE=image/jpeg:https://elkinsrandolphwv.com/wp-content/uploads/2019/03/29511280_1624413420927078_4924421038033815654_n-e1557334446313.jpg
END:VEVENT
BEGIN:VEVENT
DTSTART;TZID=UTC:20200110T180000
DTEND;TZID=UTC:20200110T200000
DTSTAMP:20260424T163019
CREATED:20200103T235645Z
LAST-MODIFIED:20200103T235731Z
UID:17415-1578679200-1578686400@elkinsrandolphwv.com
SUMMARY:Nick Davisson @ Smoke on the Water
DESCRIPTION:
URL:https://elkinsrandolphwv.com/event/nick-davvison-smoke-on-the-water/
LOCATION:Smoke on the Water\, Rt 33 East\, 1455 Allegheny Highway\, Elkins\, WV 26241\, USA\, 1 US Rte 33\, United States
CATEGORIES:Music
ATTACH;FMTTYPE=image/jpeg:https://elkinsrandolphwv.com/wp-content/uploads/2019/03/29511280_1624413420927078_4924421038033815654_n-e1557334446313.jpg
END:VEVENT
BEGIN:VEVENT
DTSTART;TZID=UTC:20200104T180000
DTEND;TZID=UTC:20200104T210000
DTSTAMP:20260424T163019
CREATED:20191206T220729Z
LAST-MODIFIED:20191206T220729Z
UID:16797-1578160800-1578171600@elkinsrandolphwv.com
SUMMARY:Russ Reppert @ Smoke on the Water
DESCRIPTION:
URL:https://elkinsrandolphwv.com/event/russ-reppert-smoke-on-the-water-2/
LOCATION:Smoke on the Water\, Rt 33 East\, 1455 Allegheny Highway\, Elkins\, WV 26241\, USA\, 1 US Rte 33\, United States
CATEGORIES:Music
ATTACH;FMTTYPE=image/jpeg:https://elkinsrandolphwv.com/wp-content/uploads/2019/03/29511280_1624413420927078_4924421038033815654_n-e1557334446313.jpg
END:VEVENT
BEGIN:VEVENT
DTSTART;TZID=UTC:20200103T180000
DTEND;TZID=UTC:20200103T210000
DTSTAMP:20260424T163019
CREATED:20191206T220550Z
LAST-MODIFIED:20191206T220550Z
UID:16795-1578074400-1578085200@elkinsrandolphwv.com
SUMMARY:Nat Frederick @ Smoke on the Water
DESCRIPTION:Nat’s had a passion for music rooted in family sing alongs\, CMT music videos\, and an old Yamaha 12-String.\nHe writes simple\, authentic\, and emotional country songs and performs his solo acoustic show all over the Allegheny Mountains and the East Coast.\nNat’s songs have been performed by an array of Top 40 Country artists and have been a part of national multi-media advertising campaigns. \nhttps://www.natfrederickmusic.com/?fbclid=IwAR0mValbvrGS2e_qfJv2hjHQfP6rNzK2LzqHgPpOsgwiglQahs-T2xjS7yw
URL:https://elkinsrandolphwv.com/event/nat-frederick-smoke-on-the-water-4/
LOCATION:Smoke on the Water\, Rt 33 East\, 1455 Allegheny Highway\, Elkins\, WV 26241\, USA\, 1 US Rte 33\, United States
CATEGORIES:Music
ATTACH;FMTTYPE=image/jpeg:https://elkinsrandolphwv.com/wp-content/uploads/2019/03/29511280_1624413420927078_4924421038033815654_n-e1557334446313.jpg
END:VEVENT
BEGIN:VEVENT
DTSTART;TZID=UTC:20191228T170000
DTEND;TZID=UTC:20191228T200000
DTSTAMP:20260424T163019
CREATED:20191206T220342Z
LAST-MODIFIED:20191206T220342Z
UID:16793-1577552400-1577563200@elkinsrandolphwv.com
SUMMARY:Kenny Zara @ Smoke on the Water
DESCRIPTION:
URL:https://elkinsrandolphwv.com/event/kenny-zara-smoke-on-the-water-3/
LOCATION:Smoke on the Water\, Rt 33 East\, 1455 Allegheny Highway\, Elkins\, WV 26241\, USA\, 1 US Rte 33\, United States
CATEGORIES:Music
ATTACH;FMTTYPE=image/jpeg:https://elkinsrandolphwv.com/wp-content/uploads/2019/03/29511280_1624413420927078_4924421038033815654_n-e1557334446313.jpg
END:VEVENT
BEGIN:VEVENT
DTSTART;TZID=UTC:20191227T180000
DTEND;TZID=UTC:20191227T210000
DTSTAMP:20260424T163019
CREATED:20191206T220059Z
LAST-MODIFIED:20191206T220059Z
UID:16791-1577469600-1577480400@elkinsrandolphwv.com
SUMMARY:NIck Davisson @ Smoke on the Water
DESCRIPTION:
URL:https://elkinsrandolphwv.com/event/nick-davisson-smoke-on-the-water/
LOCATION:Smoke on the Water\, Rt 33 East\, 1455 Allegheny Highway\, Elkins\, WV 26241\, USA\, 1 US Rte 33\, United States
CATEGORIES:Music
ATTACH;FMTTYPE=image/jpeg:https://elkinsrandolphwv.com/wp-content/uploads/2019/03/29511280_1624413420927078_4924421038033815654_n-e1557334446313.jpg
END:VEVENT
BEGIN:VEVENT
DTSTART;TZID=UTC:20191221T180000
DTEND;TZID=UTC:20191221T210000
DTSTAMP:20260424T163019
CREATED:20191203T232851Z
LAST-MODIFIED:20191203T232851Z
UID:16748-1576951200-1576962000@elkinsrandolphwv.com
SUMMARY:Jeff Grable @ Smoke on the Water
DESCRIPTION:
URL:https://elkinsrandolphwv.com/event/jeff-grable-smoke-on-the-water-6/
LOCATION:Smoke on the Water\, Rt 33 East\, 1455 Allegheny Highway\, Elkins\, WV 26241\, USA\, 1 US Rte 33\, United States
CATEGORIES:Music
ATTACH;FMTTYPE=image/jpeg:https://elkinsrandolphwv.com/wp-content/uploads/2019/03/29511280_1624413420927078_4924421038033815654_n-e1557334446313.jpg
END:VEVENT
BEGIN:VEVENT
DTSTART;TZID=UTC:20191214T180000
DTEND;TZID=UTC:20191214T210000
DTSTAMP:20260424T163019
CREATED:20191206T213418Z
LAST-MODIFIED:20191206T213418Z
UID:16787-1576346400-1576357200@elkinsrandolphwv.com
SUMMARY:Kelly Lynott & Nino @ Smoke on the Water
DESCRIPTION:Kelly Lynott and Nino Mancino\nSolo/Duo Acoustic Performers \nCome and get your Sing-A-Long on with Kelly and Nino.\nKelly and Nino have been sharing their love for music with over 20 years of performing in the Tri-State region while happy to call northern West Virginia their home.\nKelly’s finger picking style and powerful vocals are reminiscent of artists such as Janis Joplin\, Melissa Etheridge and Jennifer Nettles. Nino’s rhythmic style and dynamic lead guitar leave listeners with a rooted in blues feel with vocal stylings of artists such as Stevie Ray Vaughn\, Steve Miller Band and Jimi Hendrix. A solo and duo acoustic live show experience\, combine to provide a wide array of eclectic sing-a- long fan favorites rooted in Classic and Contemporary Rock\, Blues and Country from the 1960’s to the present.
URL:https://elkinsrandolphwv.com/event/kelly-lynott-nino-smoke-on-the-water-2/
LOCATION:Smoke on the Water\, Rt 33 East\, 1455 Allegheny Highway\, Elkins\, WV 26241\, USA\, 1 US Rte 33\, United States
CATEGORIES:Music
ATTACH;FMTTYPE=image/jpeg:https://elkinsrandolphwv.com/wp-content/uploads/2019/03/29511280_1624413420927078_4924421038033815654_n-e1557334446313.jpg
END:VEVENT
BEGIN:VEVENT
DTSTART;TZID=UTC:20191207T180000
DTEND;TZID=UTC:20191207T210000
DTSTAMP:20260424T163019
CREATED:20191206T213148Z
LAST-MODIFIED:20191206T213148Z
UID:16785-1575741600-1575752400@elkinsrandolphwv.com
SUMMARY:Ronnie Burroughs @ Smoke on the Water
DESCRIPTION:
URL:https://elkinsrandolphwv.com/event/ronnie-burroughs-smoke-on-the-water-4/
LOCATION:Smoke on the Water\, Rt 33 East\, 1455 Allegheny Highway\, Elkins\, WV 26241\, USA\, 1 US Rte 33\, United States
CATEGORIES:Music
ATTACH;FMTTYPE=image/jpeg:https://elkinsrandolphwv.com/wp-content/uploads/2019/03/29511280_1624413420927078_4924421038033815654_n-e1557334446313.jpg
END:VEVENT
BEGIN:VEVENT
DTSTART;TZID=UTC:20191206T180000
DTEND;TZID=UTC:20191206T210000
DTSTAMP:20260424T163019
CREATED:20191206T213018Z
LAST-MODIFIED:20191206T213018Z
UID:16783-1575655200-1575666000@elkinsrandolphwv.com
SUMMARY:Russ Reppert @ Smoke on the Water
DESCRIPTION:
URL:https://elkinsrandolphwv.com/event/russ-reppert-smoke-on-the-water/
LOCATION:Smoke on the Water\, Rt 33 East\, 1455 Allegheny Highway\, Elkins\, WV 26241\, USA\, 1 US Rte 33\, United States
CATEGORIES:Music
ATTACH;FMTTYPE=image/jpeg:https://elkinsrandolphwv.com/wp-content/uploads/2019/03/29511280_1624413420927078_4924421038033815654_n-e1557334446313.jpg
END:VEVENT
BEGIN:VEVENT
DTSTART;TZID=UTC:20191206T080000
DTEND;TZID=UTC:20191206T170000
DTSTAMP:20260424T163019
CREATED:20191206T215113Z
LAST-MODIFIED:20191206T215113Z
UID:16789-1575619200-1575651600@elkinsrandolphwv.com
SUMMARY:Chet Lowther @ Smoke on the Water
DESCRIPTION:Chet Lowther is a visual artist and musician based in Charleston\, WV. Originally born in Ireland\, WV\, he moved to Charleston in 2001 and has lived here ever since.\nPerforming music since the early 90’s\, Chet’s genre is Americana\, with influences like Richard Thompson\, Chris Smither\, John Prine\, and Darrell Scott.
URL:https://elkinsrandolphwv.com/event/chet-lowther-smoke-on-the-water-5/
LOCATION:Smoke on the Water\, Rt 33 East\, 1455 Allegheny Highway\, Elkins\, WV 26241\, USA\, 1 US Rte 33\, United States
CATEGORIES:Music
ATTACH;FMTTYPE=image/jpeg:https://elkinsrandolphwv.com/wp-content/uploads/2019/03/29511280_1624413420927078_4924421038033815654_n-e1557334446313.jpg
END:VEVENT
BEGIN:VEVENT
DTSTART;TZID=UTC:20191101T170000
DTEND;TZID=UTC:20191101T200000
DTSTAMP:20260424T163019
CREATED:20191016T192950Z
LAST-MODIFIED:20191016T192950Z
UID:16036-1572627600-1572638400@elkinsrandolphwv.com
SUMMARY:Kenny Zara @ Smoke on the Water
DESCRIPTION:Enjoy great food and good music when Kenny Zara returns to Smoke on the Water on Friday\, November 1\, from 5 pm-8 pm!
URL:https://elkinsrandolphwv.com/event/kenny-zara-smoke-on-the-water-2/
LOCATION:Smoke on the Water\, Rt 33 East\, 1455 Allegheny Highway\, Elkins\, WV 26241\, USA\, 1 US Rte 33\, United States
CATEGORIES:Music
ATTACH;FMTTYPE=image/jpeg:https://elkinsrandolphwv.com/wp-content/uploads/2019/03/29511280_1624413420927078_4924421038033815654_n-e1557334446313.jpg
END:VEVENT
BEGIN:VEVENT
DTSTART;TZID=UTC:20191025T180000
DTEND;TZID=UTC:20191025T200000
DTSTAMP:20260424T163019
CREATED:20191016T193336Z
LAST-MODIFIED:20191016T193336Z
UID:16040-1572026400-1572033600@elkinsrandolphwv.com
SUMMARY:Kenny West @ Smoke on the Water
DESCRIPTION:Come out to Smoke on the water and enjoy an evening of your favorite classic rock & pop hits. \n6-9pm
URL:https://elkinsrandolphwv.com/event/kenny-west-smoke-on-the-water-2/
LOCATION:Smoke on the Water\, Rt 33 East\, 1455 Allegheny Highway\, Elkins\, WV 26241\, USA\, 1 US Rte 33\, United States
CATEGORIES:Music
ATTACH;FMTTYPE=image/jpeg:https://elkinsrandolphwv.com/wp-content/uploads/2019/03/29511280_1624413420927078_4924421038033815654_n-e1557334446313.jpg
END:VEVENT
BEGIN:VEVENT
DTSTART;TZID=UTC:20190929T170000
DTEND;TZID=UTC:20190929T200000
DTSTAMP:20260424T163019
CREATED:20190905T220327Z
LAST-MODIFIED:20190905T220327Z
UID:15530-1569776400-1569787200@elkinsrandolphwv.com
SUMMARY:The Masons @ Smoke on the Water
DESCRIPTION:
URL:https://elkinsrandolphwv.com/event/the-masons-smoke-on-the-water-4/
LOCATION:Smoke on the Water\, Rt 33 East\, 1455 Allegheny Highway\, Elkins\, WV 26241\, USA\, 1 US Rte 33\, United States
CATEGORIES:Music
ATTACH;FMTTYPE=image/jpeg:https://elkinsrandolphwv.com/wp-content/uploads/2019/03/29511280_1624413420927078_4924421038033815654_n-e1557334446313.jpg
END:VEVENT
BEGIN:VEVENT
DTSTART;TZID=UTC:20190928T180000
DTEND;TZID=UTC:20190928T210000
DTSTAMP:20260424T163019
CREATED:20190905T220101Z
LAST-MODIFIED:20190905T220101Z
UID:15528-1569693600-1569704400@elkinsrandolphwv.com
SUMMARY:Carrie Rice @ Smoke on the Water
DESCRIPTION:
URL:https://elkinsrandolphwv.com/event/carrie-rice-smoke-on-the-water-2/
LOCATION:Smoke on the Water\, Rt 33 East\, 1455 Allegheny Highway\, Elkins\, WV 26241\, USA\, 1 US Rte 33\, United States
CATEGORIES:Music
ATTACH;FMTTYPE=image/jpeg:https://elkinsrandolphwv.com/wp-content/uploads/2019/03/29511280_1624413420927078_4924421038033815654_n-e1557334446313.jpg
END:VEVENT
BEGIN:VEVENT
DTSTART;TZID=UTC:20190927T180000
DTEND;TZID=UTC:20190927T210000
DTSTAMP:20260424T163019
CREATED:20190905T214002Z
LAST-MODIFIED:20190905T214002Z
UID:15526-1569607200-1569618000@elkinsrandolphwv.com
SUMMARY:Jeff Grable @ Smoke on the Water
DESCRIPTION:Jeff Grable\njeffgrablemusic@yahoo.com\nIn an old photo album there’s a picture of an 18 month old Jeff Grable looking at guitars in a catalog. Music has always been a part of his life and he has been a working musician since he was a teenager\, performing with several popular bands over much of the U.S.\nSince 2009 Grable has focused his talents on being a solo acoustic artist. He has 4 solo albums to his credit and is currently working on new material for his next release.\nAs a performer Grable has been influenced by a broad spectrum of rock\, blues and metal\, giving his music a flavor all it’s own.
URL:https://elkinsrandolphwv.com/event/jeff-grable-smoke-on-the-water-5/
LOCATION:Smoke on the Water\, Rt 33 East\, 1455 Allegheny Highway\, Elkins\, WV 26241\, USA\, 1 US Rte 33\, United States
CATEGORIES:Music
ATTACH;FMTTYPE=image/jpeg:https://elkinsrandolphwv.com/wp-content/uploads/2019/03/29511280_1624413420927078_4924421038033815654_n-e1557334446313.jpg
END:VEVENT
BEGIN:VEVENT
DTSTART;TZID=UTC:20190922T180000
DTEND;TZID=UTC:20190922T210000
DTSTAMP:20260424T163019
CREATED:20190905T213832Z
LAST-MODIFIED:20190905T213832Z
UID:15524-1569175200-1569186000@elkinsrandolphwv.com
SUMMARY:Key to Adam @ Smoke on the Water
DESCRIPTION:Key to Adam is an instrumental duo in Upshur County\, West Virginia that specializes in live ambient music for weddings and other special events. The duo have been playing together for 3 years\, after meeting at Dough Re Mi’s open mic in Buckhannon\, WV.  Adam and Kiara started their musical journey not long ago\, and now play weddings all over the state of West Virginia\, Pennsylvania\, Maryland and other surrounding states.  They also volunteer playing music at several Assisted Living centers and participate in other programs teaching children about music.\nKiara Williams\, who plays violin/fiddle\, has won first place in multiple fiddle competitions including the 2015 West Virginia Junior fiddle competition.  Adam Moyer\, who plays Finger-style guitar\, started out playing his music as a meditation and personal therapy.  Together they both provide a beautiful and romantic background music that doesn’t overpower you or your guests’ conversations. The relaxing ambiance they create with their music will make your event a memorable and magical experience for everyone.
URL:https://elkinsrandolphwv.com/event/key-to-adam-smoke-on-the-water-8/
LOCATION:Smoke on the Water\, Rt 33 East\, 1455 Allegheny Highway\, Elkins\, WV 26241\, USA\, 1 US Rte 33\, United States
CATEGORIES:Music
ATTACH;FMTTYPE=image/jpeg:https://elkinsrandolphwv.com/wp-content/uploads/2019/03/29511280_1624413420927078_4924421038033815654_n-e1557334446313.jpg
END:VEVENT
BEGIN:VEVENT
DTSTART;TZID=UTC:20190921T130000
DTEND;TZID=UTC:20190921T160000
DTSTAMP:20260424T163019
CREATED:20190807T000220Z
LAST-MODIFIED:20190807T000237Z
UID:14945-1569070800-1569081600@elkinsrandolphwv.com
SUMMARY:RCHS Beers & 'Eers "Tail"gate Fundraiser @ Smoke on the Water
DESCRIPTION:Bring your leashed pet and come to Smoke on the Water to enjoy the Mountaineer away game on September 21 from 1-4 pm! Bring pet food & supplies for RCHS for a chance to win a Smoke on the Water gift certificate! We’ll have an off-site adoption event there that day\, too\, and Smoke is donating 20% of sales to RCHS! A great day on the outside deck!
URL:https://elkinsrandolphwv.com/event/rchs-beers-eers-tailgate-fundraiser-smoke-on-the-water/
LOCATION:Smoke on the Water\, Rt 33 East\, 1455 Allegheny Highway\, Elkins\, WV 26241\, USA\, 1 US Rte 33\, United States
ATTACH;FMTTYPE=image/jpeg:https://elkinsrandolphwv.com/wp-content/uploads/2019/03/29511280_1624413420927078_4924421038033815654_n-e1557334446313.jpg
ORGANIZER;CN="Randolph County Family Resource Network":MAILTO:rvance@rcfrn.org
END:VEVENT
BEGIN:VEVENT
DTSTART;TZID=UTC:20190920T180000
DTEND;TZID=UTC:20190920T210000
DTSTAMP:20260424T163019
CREATED:20190905T213647Z
LAST-MODIFIED:20190905T213647Z
UID:15522-1569002400-1569013200@elkinsrandolphwv.com
SUMMARY:Kelly Lynott & Nino @ Smoke on the Water
DESCRIPTION:Kelly Lynott and Nino Mancino\nSolo/Duo Acoustic Performers \nCome and get your Sing-A-Long on with Kelly and Nino.\nKelly and Nino have been sharing their love for music with over 20 years of performing in the Tri-State region while happy to call northern West Virginia their home.\nKelly’s finger picking style and powerful vocals are reminiscent of artists such as Janis Joplin\, Melissa Etheridge and Jennifer Nettles. Nino’s rhythmic style and dynamic lead guitar leave listeners with a rooted in blues feel with vocal stylings of artists such as Stevie Ray Vaughn\, Steve Miller Band and Jimi Hendrix. A solo and duo acoustic live show experience\, combine to provide a wide array of eclectic sing-a- long fan favorites rooted in Classic and Contemporary Rock\, Blues and Country from the 1960’s to the present.
URL:https://elkinsrandolphwv.com/event/kelly-lynott-nino-smoke-on-the-water/
LOCATION:Smoke on the Water\, Rt 33 East\, 1455 Allegheny Highway\, Elkins\, WV 26241\, USA\, 1 US Rte 33\, United States
CATEGORIES:Music
ATTACH;FMTTYPE=image/jpeg:https://elkinsrandolphwv.com/wp-content/uploads/2019/03/29511280_1624413420927078_4924421038033815654_n-e1557334446313.jpg
END:VEVENT
BEGIN:VEVENT
DTSTART;TZID=UTC:20190914T180000
DTEND;TZID=UTC:20190914T210000
DTSTAMP:20260424T163019
CREATED:20190905T213438Z
LAST-MODIFIED:20190905T213438Z
UID:15520-1568484000-1568494800@elkinsrandolphwv.com
SUMMARY:Josh Folmsbee @ Smoke on the Water
DESCRIPTION:Josh Folmsbee- is the singer and rhythm guitarist for the Crooked Roots group\, while they switch off playing lead guitar they both have a hand at writing original song. Josh has been playing and writing music for several years now\, but has been singing since he was a little boy. He started singing in church as a boy and throughout the years continued singing in organized school choirs and church worship bands.
URL:https://elkinsrandolphwv.com/event/josh-folmsbee-smoke-on-the-water-3/
LOCATION:Smoke on the Water\, Rt 33 East\, 1455 Allegheny Highway\, Elkins\, WV 26241\, USA\, 1 US Rte 33\, United States
CATEGORIES:Music
ATTACH;FMTTYPE=image/jpeg:https://elkinsrandolphwv.com/wp-content/uploads/2019/03/29511280_1624413420927078_4924421038033815654_n-e1557334446313.jpg
END:VEVENT
BEGIN:VEVENT
DTSTART;TZID=UTC:20190913T180000
DTEND;TZID=UTC:20190913T210000
DTSTAMP:20260424T163019
CREATED:20190905T213206Z
LAST-MODIFIED:20190905T213206Z
UID:15518-1568397600-1568408400@elkinsrandolphwv.com
SUMMARY:Tiki Dan @ Smoke on the Water
DESCRIPTION:
URL:https://elkinsrandolphwv.com/event/tiki-dan-smoke-on-the-water-2/
LOCATION:Smoke on the Water\, Rt 33 East\, 1455 Allegheny Highway\, Elkins\, WV 26241\, USA\, 1 US Rte 33\, United States
CATEGORIES:Music
ATTACH;FMTTYPE=image/jpeg:https://elkinsrandolphwv.com/wp-content/uploads/2019/03/29511280_1624413420927078_4924421038033815654_n-e1557334446313.jpg
END:VEVENT
BEGIN:VEVENT
DTSTART;TZID=UTC:20190911T180000
DTEND;TZID=UTC:20190911T210000
DTSTAMP:20260424T163019
CREATED:20190905T213056Z
LAST-MODIFIED:20190905T213056Z
UID:15516-1568224800-1568235600@elkinsrandolphwv.com
SUMMARY:Key to Adam @ Smoke on the Water
DESCRIPTION:Key to Adam is an instrumental duo in Upshur County\, West Virginia that specializes in live ambient music for weddings and other special events. The duo have been playing together for 3 years\, after meeting at Dough Re Mi’s open mic in Buckhannon\, WV.  Adam and Kiara started their musical journey not long ago\, and now play weddings all over the state of West Virginia\, Pennsylvania\, Maryland and other surrounding states.  They also volunteer playing music at several Assisted Living centers and participate in other programs teaching children about music.\nKiara Williams\, who plays violin/fiddle\, has won first place in multiple fiddle competitions including the 2015 West Virginia Junior fiddle competition.  Adam Moyer\, who plays Finger-style guitar\, started out playing his music as a meditation and personal therapy.  Together they both provide a beautiful and romantic background music that doesn’t overpower you or your guests’ conversations. The relaxing ambiance they create with their music will make your event a memorable and magical experience for everyone.
URL:https://elkinsrandolphwv.com/event/key-to-adam-smoke-on-the-water-7/
LOCATION:Smoke on the Water\, Rt 33 East\, 1455 Allegheny Highway\, Elkins\, WV 26241\, USA\, 1 US Rte 33\, United States
CATEGORIES:Music
ATTACH;FMTTYPE=image/jpeg:https://elkinsrandolphwv.com/wp-content/uploads/2019/03/29511280_1624413420927078_4924421038033815654_n-e1557334446313.jpg
END:VEVENT
BEGIN:VEVENT
DTSTART;TZID=UTC:20190908T170000
DTEND;TZID=UTC:20190908T200000
DTSTAMP:20260424T163019
CREATED:20190905T180830Z
LAST-MODIFIED:20190905T180830Z
UID:15501-1567962000-1567972800@elkinsrandolphwv.com
SUMMARY:The Masons @ Smoke on the Water
DESCRIPTION:
URL:https://elkinsrandolphwv.com/event/the-masons-smoke-on-the-water-3/
LOCATION:Smoke on the Water\, Rt 33 East\, 1455 Allegheny Highway\, Elkins\, WV 26241\, USA\, 1 US Rte 33\, United States
CATEGORIES:Music
ATTACH;FMTTYPE=image/jpeg:https://elkinsrandolphwv.com/wp-content/uploads/2019/03/29511280_1624413420927078_4924421038033815654_n-e1557334446313.jpg
END:VEVENT
END:VCALENDAR