BEGIN:VCALENDAR
VERSION:2.0
PRODID:-//Elkins-Randolph County Tourism - ECPv6.15.20//NONSGML v1.0//EN
CALSCALE:GREGORIAN
METHOD:PUBLISH
X-ORIGINAL-URL:https://elkinsrandolphwv.com
X-WR-CALDESC:Events for Elkins-Randolph County Tourism
REFRESH-INTERVAL;VALUE=DURATION:PT1H
X-Robots-Tag:noindex
X-PUBLISHED-TTL:PT1H
BEGIN:VTIMEZONE
TZID:UTC
BEGIN:STANDARD
TZOFFSETFROM:+0000
TZOFFSETTO:+0000
TZNAME:UTC
DTSTART:20180101T000000
END:STANDARD
END:VTIMEZONE
BEGIN:VTIMEZONE
TZID:America/New_York
BEGIN:DAYLIGHT
TZOFFSETFROM:-0500
TZOFFSETTO:-0400
TZNAME:EDT
DTSTART:20180311T070000
END:DAYLIGHT
BEGIN:STANDARD
TZOFFSETFROM:-0400
TZOFFSETTO:-0500
TZNAME:EST
DTSTART:20181104T060000
END:STANDARD
BEGIN:DAYLIGHT
TZOFFSETFROM:-0500
TZOFFSETTO:-0400
TZNAME:EDT
DTSTART:20190310T070000
END:DAYLIGHT
BEGIN:STANDARD
TZOFFSETFROM:-0400
TZOFFSETTO:-0500
TZNAME:EST
DTSTART:20191103T060000
END:STANDARD
BEGIN:DAYLIGHT
TZOFFSETFROM:-0500
TZOFFSETTO:-0400
TZNAME:EDT
DTSTART:20200308T070000
END:DAYLIGHT
BEGIN:STANDARD
TZOFFSETFROM:-0400
TZOFFSETTO:-0500
TZNAME:EST
DTSTART:20201101T060000
END:STANDARD
END:VTIMEZONE
BEGIN:VEVENT
DTSTART;TZID=UTC:20190608T130000
DTEND;TZID=UTC:20190608T160000
DTSTAMP:20260425T141521
CREATED:20190509T192323Z
LAST-MODIFIED:20190509T192323Z
UID:12777-1559998800-1560009600@elkinsrandolphwv.com
SUMMARY:Drafts\, Dogs\, Felines\, and Friends @ Smoke on the Water
DESCRIPTION:Come enjoy a summer day with food\, drink\, and animal friends on the deck at Smoke on the Water! RCHS will hold an off-site adoption event\, and we will have a 50/50 raffle and a raffle for a SotW gift card. Bring your leashed furry friends! A portion of all of the proceeds goes to RCHS. Thanks so much to our Smoke on the Water friends for hosting this fun event!
URL:https://elkinsrandolphwv.com/event/drafts-dogs-felines-and-friends-smoke-on-the-water/
LOCATION:Smoke on the Water\, Rt 33 East\, 1455 Allegheny Highway\, Elkins\, WV 26241\, USA\, 1 US Rte 33\, United States
ATTACH;FMTTYPE=image/png:https://elkinsrandolphwv.com/wp-content/uploads/2019/05/randolph-county-humane-society.png
GEO:38.92145;-79.841852
X-APPLE-STRUCTURED-LOCATION;VALUE=URI;X-ADDRESS=Smoke on the Water Rt 33 East 1455 Allegheny Highway Elkins WV 26241 USA 1 US Rte 33 United States;X-APPLE-RADIUS=500;X-TITLE=1 US Rte 33:geo:-79.841852,38.92145
END:VEVENT
BEGIN:VEVENT
DTSTART;TZID=UTC:20190607T190000
DTEND;TZID=UTC:20190607T220000
DTSTAMP:20260425T141521
CREATED:20190605T184834Z
LAST-MODIFIED:20190605T185700Z
UID:12999-1559934000-1559944800@elkinsrandolphwv.com
SUMMARY:Nick Davidson & Gerrod Bee at Smoke on the Water
DESCRIPTION:
URL:https://elkinsrandolphwv.com/event/nat-frederick-at-smoke-on-the-water-2/
LOCATION:Smoke on the Water\, Rt 33 East\, 1455 Allegheny Highway\, Elkins\, WV 26241\, USA\, 1 US Rte 33\, United States
ATTACH;FMTTYPE=image/jpeg:https://elkinsrandolphwv.com/wp-content/uploads/2019/03/29511280_1624413420927078_4924421038033815654_n-e1557334446313.jpg
GEO:38.92145;-79.841852
X-APPLE-STRUCTURED-LOCATION;VALUE=URI;X-ADDRESS=Smoke on the Water Rt 33 East 1455 Allegheny Highway Elkins WV 26241 USA 1 US Rte 33 United States;X-APPLE-RADIUS=500;X-TITLE=1 US Rte 33:geo:-79.841852,38.92145
END:VEVENT
BEGIN:VEVENT
DTSTART;TZID=UTC:20190606T180000
DTEND;TZID=UTC:20190606T210000
DTSTAMP:20260425T141521
CREATED:20190605T185934Z
LAST-MODIFIED:20190605T185934Z
UID:13006-1559844000-1559854800@elkinsrandolphwv.com
SUMMARY:Chet Lowther at Smoke on the Water
DESCRIPTION:
URL:https://elkinsrandolphwv.com/event/chet-lowther-at-smoke-on-the-water/
LOCATION:Smoke on the Water\, Rt 33 East\, 1455 Allegheny Highway\, Elkins\, WV 26241\, USA\, 1 US Rte 33\, United States
ATTACH;FMTTYPE=image/jpeg:https://elkinsrandolphwv.com/wp-content/uploads/2019/03/29511280_1624413420927078_4924421038033815654_n-e1557334446313.jpg
GEO:38.92145;-79.841852
X-APPLE-STRUCTURED-LOCATION;VALUE=URI;X-ADDRESS=Smoke on the Water Rt 33 East 1455 Allegheny Highway Elkins WV 26241 USA 1 US Rte 33 United States;X-APPLE-RADIUS=500;X-TITLE=1 US Rte 33:geo:-79.841852,38.92145
END:VEVENT
BEGIN:VEVENT
DTSTART;TZID=UTC:20190531T190000
DTEND;TZID=UTC:20190531T210000
DTSTAMP:20260425T141521
CREATED:20190508T210023Z
LAST-MODIFIED:20190508T210023Z
UID:12746-1559329200-1559336400@elkinsrandolphwv.com
SUMMARY:Kristen Fedderer @ Smoke on the Water
DESCRIPTION:Kristen Fedderer grew up in north central West Virginia. Kristen covers a wide variety of songs from the blues and soul to rock n roll and funk. Kristen also plays a variety of folk and country ranging from the 60s to today. Come out and listen to Kristen\, she is bound to play one of your favorites!
URL:https://elkinsrandolphwv.com/event/kristen-fedderer-smoke-on-the-water/
LOCATION:Smoke on the Water\, Rt 33 East\, 1455 Allegheny Highway\, Elkins\, WV 26241\, USA\, 1 US Rte 33\, United States
ATTACH;FMTTYPE=image/jpeg:https://elkinsrandolphwv.com/wp-content/uploads/2019/03/29511280_1624413420927078_4924421038033815654_n-e1557334446313.jpg
GEO:38.92145;-79.841852
X-APPLE-STRUCTURED-LOCATION;VALUE=URI;X-ADDRESS=Smoke on the Water Rt 33 East 1455 Allegheny Highway Elkins WV 26241 USA 1 US Rte 33 United States;X-APPLE-RADIUS=500;X-TITLE=1 US Rte 33:geo:-79.841852,38.92145
END:VEVENT
BEGIN:VEVENT
DTSTART;TZID=UTC:20190526T130000
DTEND;TZID=UTC:20190526T150000
DTSTAMP:20260425T141521
CREATED:20190508T205452Z
LAST-MODIFIED:20190508T205452Z
UID:12744-1558875600-1558882800@elkinsrandolphwv.com
SUMMARY:Don Olson @ Smoke on the Water
DESCRIPTION:Longtime Randolph County resident Don Olson performs a mix of blues\, jazz and other selections from the great American songbook.
URL:https://elkinsrandolphwv.com/event/don-olson-smoke-on-the-water-2/
LOCATION:Smoke on the Water\, Rt 33 East\, 1455 Allegheny Highway\, Elkins\, WV 26241\, USA\, 1 US Rte 33\, United States
ATTACH;FMTTYPE=image/jpeg:https://elkinsrandolphwv.com/wp-content/uploads/2019/03/29511280_1624413420927078_4924421038033815654_n-e1557334446313.jpg
GEO:38.92145;-79.841852
X-APPLE-STRUCTURED-LOCATION;VALUE=URI;X-ADDRESS=Smoke on the Water Rt 33 East 1455 Allegheny Highway Elkins WV 26241 USA 1 US Rte 33 United States;X-APPLE-RADIUS=500;X-TITLE=1 US Rte 33:geo:-79.841852,38.92145
END:VEVENT
BEGIN:VEVENT
DTSTART;TZID=UTC:20190525T180000
DTEND;TZID=UTC:20190525T200000
DTSTAMP:20260425T141521
CREATED:20190508T205204Z
LAST-MODIFIED:20190508T205204Z
UID:12742-1558807200-1558814400@elkinsrandolphwv.com
SUMMARY:Jeff Grable @ Smoke on the Water
DESCRIPTION:In an old photo album there’s a picture of an 18 month old Jeff Grable looking at guitars in a catalog. Music has always been a part of his life and he has been a working musician since he was a teenager\, performing with several popular bands over much of the U.S.\nSince 2009 Grable has focused his talents on being a solo acoustic artist. He has 4 solo albums to his credit and is currently working on new material for his next release.\nAs a performer Grable has been influenced by a broad spectrum of rock\, blues and metal\, giving his music a flavor all it’s own.
URL:https://elkinsrandolphwv.com/event/jeff-grable-smoke-on-the-water/
LOCATION:Smoke on the Water\, Rt 33 East\, 1455 Allegheny Highway\, Elkins\, WV 26241\, USA\, 1 US Rte 33\, United States
ATTACH;FMTTYPE=image/jpeg:https://elkinsrandolphwv.com/wp-content/uploads/2019/03/29511280_1624413420927078_4924421038033815654_n-e1557334446313.jpg
GEO:38.92145;-79.841852
X-APPLE-STRUCTURED-LOCATION;VALUE=URI;X-ADDRESS=Smoke on the Water Rt 33 East 1455 Allegheny Highway Elkins WV 26241 USA 1 US Rte 33 United States;X-APPLE-RADIUS=500;X-TITLE=1 US Rte 33:geo:-79.841852,38.92145
END:VEVENT
BEGIN:VEVENT
DTSTART;TZID=UTC:20190524T203000
DTEND;TZID=UTC:20190524T233000
DTSTAMP:20260425T141521
CREATED:20190508T204727Z
LAST-MODIFIED:20190508T204727Z
UID:12740-1558729800-1558740600@elkinsrandolphwv.com
SUMMARY:Cross Town Traffic @ Smoke on the Water
DESCRIPTION:Cross Town Traffic plays a variety of classic rock. \nBand Members\n\nTim White – Vocals\, Rhythm Guitar\nScott Betler – Rhythm Guitar\nRichie Shryock – Bass\nDerrick Helzer – Drums\nJB Stalnaker -Lead Guitar\nBo McMillion – Keys\nRob Masten – Sax / Percussion
URL:https://elkinsrandolphwv.com/event/cross-town-traffic-smoke-on-the-water/
LOCATION:Smoke on the Water\, Rt 33 East\, 1455 Allegheny Highway\, Elkins\, WV 26241\, USA\, 1 US Rte 33\, United States
ATTACH;FMTTYPE=image/jpeg:https://elkinsrandolphwv.com/wp-content/uploads/2019/03/29511280_1624413420927078_4924421038033815654_n-e1557334446313.jpg
GEO:38.92145;-79.841852
X-APPLE-STRUCTURED-LOCATION;VALUE=URI;X-ADDRESS=Smoke on the Water Rt 33 East 1455 Allegheny Highway Elkins WV 26241 USA 1 US Rte 33 United States;X-APPLE-RADIUS=500;X-TITLE=1 US Rte 33:geo:-79.841852,38.92145
END:VEVENT
BEGIN:VEVENT
DTSTART;TZID=UTC:20190519T170000
DTEND;TZID=UTC:20190519T200000
DTSTAMP:20260425T141521
CREATED:20190508T203845Z
LAST-MODIFIED:20190508T203845Z
UID:12738-1558285200-1558296000@elkinsrandolphwv.com
SUMMARY:Allen Shaw @ Smoke on the Water
DESCRIPTION:Come get barbequed-up\, enjoy live music featured almost every weekend\, and choose a beverage from the full-service bar and largest selection of craft beers in Elkins!
URL:https://elkinsrandolphwv.com/event/allen-shaw-smoke-on-the-water/
LOCATION:Smoke on the Water\, Rt 33 East\, 1455 Allegheny Highway\, Elkins\, WV 26241\, USA\, 1 US Rte 33\, United States
ATTACH;FMTTYPE=image/jpeg:https://elkinsrandolphwv.com/wp-content/uploads/2019/03/29511280_1624413420927078_4924421038033815654_n-e1557334446313.jpg
GEO:38.92145;-79.841852
X-APPLE-STRUCTURED-LOCATION;VALUE=URI;X-ADDRESS=Smoke on the Water Rt 33 East 1455 Allegheny Highway Elkins WV 26241 USA 1 US Rte 33 United States;X-APPLE-RADIUS=500;X-TITLE=1 US Rte 33:geo:-79.841852,38.92145
END:VEVENT
BEGIN:VEVENT
DTSTART;TZID=UTC:20190519T130000
DTEND;TZID=UTC:20190519T163000
DTSTAMP:20260425T141521
CREATED:20190508T185050Z
LAST-MODIFIED:20190508T185050Z
UID:12734-1558270800-1558283400@elkinsrandolphwv.com
SUMMARY:Don Olson @ Smoke on the Water
DESCRIPTION:Longtime Randolph County resident Don Olson performs a mix of blues\, jazz and other selections from the great American songbook.
URL:https://elkinsrandolphwv.com/event/don-olson-smoke-on-the-water/
LOCATION:Smoke on the Water\, Rt 33 East\, 1455 Allegheny Highway\, Elkins\, WV 26241\, USA\, 1 US Rte 33\, United States
ATTACH;FMTTYPE=image/jpeg:https://elkinsrandolphwv.com/wp-content/uploads/2019/03/29511280_1624413420927078_4924421038033815654_n-e1557334446313.jpg
GEO:38.92145;-79.841852
X-APPLE-STRUCTURED-LOCATION;VALUE=URI;X-ADDRESS=Smoke on the Water Rt 33 East 1455 Allegheny Highway Elkins WV 26241 USA 1 US Rte 33 United States;X-APPLE-RADIUS=500;X-TITLE=1 US Rte 33:geo:-79.841852,38.92145
END:VEVENT
BEGIN:VEVENT
DTSTART;TZID=America/New_York:20190518T170000
DTEND;TZID=America/New_York:20190518T193000
DTSTAMP:20260425T141521
CREATED:20190423T072924Z
LAST-MODIFIED:20190507T224748Z
UID:4411-1558198800-1558207800@elkinsrandolphwv.com
SUMMARY:Smoke on the Water: Josh Folmsbee
DESCRIPTION:
URL:https://elkinsrandolphwv.com/event/smoke-on-the-water-josh-folmsbee/
LOCATION:Smoke on the Water\, Rt 33 East\, 1455 Allegheny Highway\, Elkins\, WV 26241\, USA\, 1 US Rte 33\, United States
GEO:38.92145;-79.841852
X-APPLE-STRUCTURED-LOCATION;VALUE=URI;X-ADDRESS=Smoke on the Water Rt 33 East 1455 Allegheny Highway Elkins WV 26241 USA 1 US Rte 33 United States;X-APPLE-RADIUS=500;X-TITLE=1 US Rte 33:geo:-79.841852,38.92145
END:VEVENT
BEGIN:VEVENT
DTSTART;TZID=UTC:20190517T180000
DTEND;TZID=UTC:20190517T210000
DTSTAMP:20260425T141521
CREATED:20190508T183303Z
LAST-MODIFIED:20190508T183303Z
UID:12731-1558116000-1558126800@elkinsrandolphwv.com
SUMMARY:The Craig's @ Smoke on the Water
DESCRIPTION:The Craig’s are a husband and wife duo. Mary Beth supplies the vocals while David\, accompanies her on the guitar\, as well as the ukulele. The Craig’s play wide variety of songs from the 20’s to present.
URL:https://elkinsrandolphwv.com/event/the-craigs-smoke-on-the-water/
LOCATION:Smoke on the Water\, Rt 33 East\, 1455 Allegheny Highway\, Elkins\, WV 26241\, USA\, 1 US Rte 33\, United States
ATTACH;FMTTYPE=image/jpeg:https://elkinsrandolphwv.com/wp-content/uploads/2019/03/29511280_1624413420927078_4924421038033815654_n-e1557334446313.jpg
GEO:38.92145;-79.841852
X-APPLE-STRUCTURED-LOCATION;VALUE=URI;X-ADDRESS=Smoke on the Water Rt 33 East 1455 Allegheny Highway Elkins WV 26241 USA 1 US Rte 33 United States;X-APPLE-RADIUS=500;X-TITLE=1 US Rte 33:geo:-79.841852,38.92145
END:VEVENT
BEGIN:VEVENT
DTSTART;TZID=UTC:20190512T180000
DTEND;TZID=UTC:20190512T210000
DTSTAMP:20260425T141521
CREATED:20190508T185523Z
LAST-MODIFIED:20190508T185523Z
UID:12736-1557684000-1557694800@elkinsrandolphwv.com
SUMMARY:Key to Adam @ Smoke on the Water
DESCRIPTION:Key to Adam live at Smoke on the Water BBQ
URL:https://elkinsrandolphwv.com/event/key-to-adam-smoke-on-the-water/
LOCATION:Smoke on the Water\, Rt 33 East\, 1455 Allegheny Highway\, Elkins\, WV 26241\, USA\, 1 US Rte 33\, United States
ATTACH;FMTTYPE=image/jpeg:https://elkinsrandolphwv.com/wp-content/uploads/2019/03/29511280_1624413420927078_4924421038033815654_n-e1557334446313.jpg
GEO:38.92145;-79.841852
X-APPLE-STRUCTURED-LOCATION;VALUE=URI;X-ADDRESS=Smoke on the Water Rt 33 East 1455 Allegheny Highway Elkins WV 26241 USA 1 US Rte 33 United States;X-APPLE-RADIUS=500;X-TITLE=1 US Rte 33:geo:-79.841852,38.92145
END:VEVENT
BEGIN:VEVENT
DTSTART;TZID=UTC:20190512T110000
DTEND;TZID=UTC:20190512T210000
DTSTAMP:20260425T141521
CREATED:20190508T181008Z
LAST-MODIFIED:20190508T181756Z
UID:12728-1557658800-1557694800@elkinsrandolphwv.com
SUMMARY:Mother's Day Specials
DESCRIPTION:We have a very special Menu for all the Wonderful Mothers Out there! Live Entertainment all Day! Make your Reservation Now!
URL:https://elkinsrandolphwv.com/event/mothers-day-specials/
LOCATION:Smoke on the Water\, Rt 33 East\, 1455 Allegheny Highway\, Elkins\, WV 26241\, USA\, 1 US Rte 33\, United States
ATTACH;FMTTYPE=image/jpeg:https://elkinsrandolphwv.com/wp-content/uploads/2019/03/29511280_1624413420927078_4924421038033815654_n-e1557334446313.jpg
GEO:38.92145;-79.841852
X-APPLE-STRUCTURED-LOCATION;VALUE=URI;X-ADDRESS=Smoke on the Water Rt 33 East 1455 Allegheny Highway Elkins WV 26241 USA 1 US Rte 33 United States;X-APPLE-RADIUS=500;X-TITLE=1 US Rte 33:geo:-79.841852,38.92145
END:VEVENT
BEGIN:VEVENT
DTSTART;TZID=UTC:20190511T180000
DTEND;TZID=UTC:20190511T210000
DTSTAMP:20260425T141521
CREATED:20190426T205806Z
LAST-MODIFIED:20190508T180721Z
UID:9380-1557597600-1557608400@elkinsrandolphwv.com
SUMMARY:Kelly Lynott & Nino Mancino
DESCRIPTION:Join us outside on the Smoke on the Water deck for some great music\, great food\, and great drinks. \nCome and get your Sing-A-Long on with Kelly and Nino.\nKelly and Nino have been sharing their love for music with over 20 years of performing in the Tri-State region while happy to call northern West Virginia their home. \nKelly’s finger picking style and powerful vocals are reminiscent of artists such as Janis Joplin\, Melissa Etheridge and Jennifer Nettles. Nino’s rhythmic style and dynamic lead guitar leave listeners with a rooted in blues feel with vocal stylings of artists such as Stevie Ray Vaughn\, Steve Miller Band and Jimi Hendrix. A solo and duo acoustic live show experience\, combine to provide a wide array of eclectic sing-a- long fan favorites rooted in Classic and Contemporary Rock\, Blues and Country from the 1960’s to the present.
URL:https://elkinsrandolphwv.com/event/kelly-lynott-nino-mancino/
LOCATION:Smoke on the Water\, Rt 33 East\, 1455 Allegheny Highway\, Elkins\, WV 26241\, USA\, 1 US Rte 33\, United States
ATTACH;FMTTYPE=image/jpeg:https://elkinsrandolphwv.com/wp-content/uploads/2019/03/29511280_1624413420927078_4924421038033815654_n-e1557334446313.jpg
GEO:38.92145;-79.841852
X-APPLE-STRUCTURED-LOCATION;VALUE=URI;X-ADDRESS=Smoke on the Water Rt 33 East 1455 Allegheny Highway Elkins WV 26241 USA 1 US Rte 33 United States;X-APPLE-RADIUS=500;X-TITLE=1 US Rte 33:geo:-79.841852,38.92145
END:VEVENT
BEGIN:VEVENT
DTSTART;TZID=UTC:20190510T180000
DTEND;TZID=UTC:20190510T210000
DTSTAMP:20260425T141521
CREATED:20190426T205157Z
LAST-MODIFIED:20190426T205157Z
UID:9377-1557511200-1557522000@elkinsrandolphwv.com
SUMMARY:Phil Wiseman Live
DESCRIPTION:Phil Wiseman will be playing on our back deck! Come bring in the weekend with a delicious dinner and a cocktail! \n 
URL:https://elkinsrandolphwv.com/event/phil-wiseman-live/
LOCATION:Smoke on the Water\, Rt 33 East\, 1455 Allegheny Highway\, Elkins\, WV 26241\, USA\, 1 US Rte 33\, United States
ATTACH;FMTTYPE=image/jpeg:https://elkinsrandolphwv.com/wp-content/uploads/2019/03/29511280_1624413420927078_4924421038033815654_n-e1557334446313.jpg
GEO:38.92145;-79.841852
X-APPLE-STRUCTURED-LOCATION;VALUE=URI;X-ADDRESS=Smoke on the Water Rt 33 East 1455 Allegheny Highway Elkins WV 26241 USA 1 US Rte 33 United States;X-APPLE-RADIUS=500;X-TITLE=1 US Rte 33:geo:-79.841852,38.92145
END:VEVENT
BEGIN:VEVENT
DTSTART;TZID=UTC:20190504T190000
DTEND;TZID=UTC:20190504T220000
DTSTAMP:20260425T141521
CREATED:20190426T192749Z
LAST-MODIFIED:20190426T192749Z
UID:8854-1556996400-1557007200@elkinsrandolphwv.com
SUMMARY:Nat Frederick at Smoke on the Water
DESCRIPTION:Nat’s had a passion for music rooted in family sing alongs\, CMT music videos\, and an old Yamaha 12-String.\nHe writes simple\, authentic\, and emotional country songs and performs his solo acoustic show all over the Allegheny Mountains and the East Coast. Nat’s songs have been performed by an array of Top 40 Country artists and have been a part of national multi-media advertising campaigns. \n 
URL:https://elkinsrandolphwv.com/event/nat-frederick-at-smoke-on-the-water/
LOCATION:Smoke on the Water\, Rt 33 East\, 1455 Allegheny Highway\, Elkins\, WV 26241\, USA\, 1 US Rte 33\, United States
ATTACH;FMTTYPE=image/png:https://elkinsrandolphwv.com/wp-content/uploads/2019/04/Nat-Frederick-Smoke-on-the-Water.png
GEO:38.92145;-79.841852
X-APPLE-STRUCTURED-LOCATION;VALUE=URI;X-ADDRESS=Smoke on the Water Rt 33 East 1455 Allegheny Highway Elkins WV 26241 USA 1 US Rte 33 United States;X-APPLE-RADIUS=500;X-TITLE=1 US Rte 33:geo:-79.841852,38.92145
END:VEVENT
BEGIN:VEVENT
DTSTART;TZID=UTC:20190503T190000
DTEND;TZID=UTC:20190503T210000
DTSTAMP:20260425T141521
CREATED:20190424T230832Z
LAST-MODIFIED:20190424T230832Z
UID:6717-1556910000-1556917200@elkinsrandolphwv.com
SUMMARY:Nick D & Gerrod Bee
DESCRIPTION:Nick Davisson & Gerrod Bee make it back to Elkins\, WV for their debut at Smoke On The Water — Friday May 3rd starting at 7:00PM!
URL:https://elkinsrandolphwv.com/event/nick-d-gerrod-bee/
LOCATION:Smoke on the Water\, Rt 33 East\, 1455 Allegheny Highway\, Elkins\, WV 26241\, USA\, 1 US Rte 33\, United States
ATTACH;FMTTYPE=image/jpeg:https://elkinsrandolphwv.com/wp-content/uploads/2019/04/Nick-Davisson-Gerrod-Bee.jpg
GEO:38.92145;-79.841852
X-APPLE-STRUCTURED-LOCATION;VALUE=URI;X-ADDRESS=Smoke on the Water Rt 33 East 1455 Allegheny Highway Elkins WV 26241 USA 1 US Rte 33 United States;X-APPLE-RADIUS=500;X-TITLE=1 US Rte 33:geo:-79.841852,38.92145
END:VEVENT
BEGIN:VEVENT
DTSTART;TZID=UTC:20190426T180000
DTEND;TZID=UTC:20190426T200000
DTSTAMP:20260425T141521
CREATED:20190424T235241Z
LAST-MODIFIED:20190424T235241Z
UID:6732-1556301600-1556308800@elkinsrandolphwv.com
SUMMARY:Kristen Federer Live Entertainment
DESCRIPTION:Come out to Smoke on the Water and enjoy some great music and great food.
URL:https://elkinsrandolphwv.com/event/kristen-federer-live-entertainment/
LOCATION:Smoke on the Water\, Rt 33 East\, 1455 Allegheny Highway\, Elkins\, WV 26241\, USA\, 1 US Rte 33\, United States
ATTACH;FMTTYPE=image/jpeg:https://elkinsrandolphwv.com/wp-content/uploads/2019/03/29511280_1624413420927078_4924421038033815654_n-e1557334446313.jpg
GEO:38.92145;-79.841852
X-APPLE-STRUCTURED-LOCATION;VALUE=URI;X-ADDRESS=Smoke on the Water Rt 33 East 1455 Allegheny Highway Elkins WV 26241 USA 1 US Rte 33 United States;X-APPLE-RADIUS=500;X-TITLE=1 US Rte 33:geo:-79.841852,38.92145
END:VEVENT
END:VCALENDAR