BEGIN:VCALENDAR
VERSION:2.0
PRODID:-//Elkins-Randolph County Tourism - ECPv6.15.20//NONSGML v1.0//EN
CALSCALE:GREGORIAN
METHOD:PUBLISH
X-ORIGINAL-URL:https://elkinsrandolphwv.com
X-WR-CALDESC:Events for Elkins-Randolph County Tourism
REFRESH-INTERVAL;VALUE=DURATION:PT1H
X-Robots-Tag:noindex
X-PUBLISHED-TTL:PT1H
BEGIN:VTIMEZONE
TZID:UTC
BEGIN:STANDARD
TZOFFSETFROM:+0000
TZOFFSETTO:+0000
TZNAME:UTC
DTSTART:20220101T000000
END:STANDARD
END:VTIMEZONE
BEGIN:VEVENT
DTSTART;TZID=UTC:20241220T173000
DTEND;TZID=UTC:20241220T190000
DTSTAMP:20260423T114838
CREATED:20241114T025836Z
LAST-MODIFIED:20241114T025836Z
UID:29687-1734715800-1734721200@elkinsrandolphwv.com
SUMMARY:Winter Solstice Experience with Wonder and Grow
DESCRIPTION:Come join Wonder & Grow’s Mindful Outdoor Guides for a Winter Solstice Experience as we enjoy the warmth of the season and celebrate the longest night of the year.\nWe will enjoy time around a fire\, an introduction to sensory meditation\, a mindful walk\, community connection\, and light refreshments! \n\nDecember 20\, 2024\n5:30-7:00pm\n$30 Admission – Any donation above $30 is greatly appreciated and will help support youth programs in Randolph County!\nAdvance registration kindly requested – Use “Tickets” button\nLocation:The Trails at Files Creek\n7242 Files Creek Rd\, Beverly\, WV 26253
URL:https://elkinsrandolphwv.com/event/winter-solstice-experience-with-wonder-and-grow-2/
LOCATION:The Trails of Files Creek\, 7242 Files Creek Rd\,\, Beverly\, WV\, 26241\, United States
ORGANIZER;CN="Wonder & Grow%3A Mindful Nature Experience Inc":MAILTO:wonderandgrow@gmail.com
END:VEVENT
BEGIN:VEVENT
DTSTART;VALUE=DATE:20230602
DTEND;VALUE=DATE:20230606
DTSTAMP:20260423T114838
CREATED:20230505T215733Z
LAST-MODIFIED:20230621T212947Z
UID:26998-1685671200-1685930399@elkinsrandolphwv.com
SUMMARY:Wonder in the Wild
DESCRIPTION:Women’s Mindful Camping and Yoga Retreat \n25% off for you and a friend until May 14th \nDiscount Coupon Code  “FRIEND”
URL:https://elkinsrandolphwv.com/event/wonder-int-the-wild/
LOCATION:The Trails of Files Creek\, 7242 Files Creek Rd\,\, Beverly\, WV\, 26241\, United States
CATEGORIES:Art & Culture,Educational,Information,Kids & Family,Outdoor Activities,Outdoors,Sports & Recreations
ATTACH;FMTTYPE=image/png:https://elkinsrandolphwv.com/wp-content/uploads/2023/05/wild.png
END:VEVENT
BEGIN:VEVENT
DTSTART;TZID=UTC:20230521T100000
DTEND;TZID=UTC:20230521T120000
DTSTAMP:20260423T114838
CREATED:20230505T214551Z
LAST-MODIFIED:20230505T214551Z
UID:26994-1684663200-1684670400@elkinsrandolphwv.com
SUMMARY:Make Time to Wander
DESCRIPTION:Out Door Yoga and Mindful Nature Walk !
URL:https://elkinsrandolphwv.com/event/make-time-to-wander/
LOCATION:The Trails of Files Creek\, 7242 Files Creek Rd\,\, Beverly\, WV\, 26241\, United States
CATEGORIES:Art & Culture,Community,Educational,Information,Kids & Family,Outdoor Activities,Outdoors,Sports & Recreations
ATTACH;FMTTYPE=image/png:https://elkinsrandolphwv.com/wp-content/uploads/2023/05/wander.png
END:VEVENT
END:VCALENDAR