BEGIN:VCALENDAR
VERSION:2.0
PRODID:-//Elkins-Randolph County Tourism - ECPv6.15.20//NONSGML v1.0//EN
CALSCALE:GREGORIAN
METHOD:PUBLISH
X-WR-CALNAME:Elkins-Randolph County Tourism
X-ORIGINAL-URL:https://elkinsrandolphwv.com
X-WR-CALDESC:Events for Elkins-Randolph County Tourism
REFRESH-INTERVAL;VALUE=DURATION:PT1H
X-Robots-Tag:noindex
X-PUBLISHED-TTL:PT1H
BEGIN:VTIMEZONE
TZID:UTC
BEGIN:STANDARD
TZOFFSETFROM:+0000
TZOFFSETTO:+0000
TZNAME:UTC
DTSTART:20240101T000000
END:STANDARD
END:VTIMEZONE
BEGIN:VEVENT
DTSTART;TZID=UTC:20250830T173000
DTEND;TZID=UTC:20250830T193000
DTSTAMP:20260423T112901
CREATED:20250820T224808Z
LAST-MODIFIED:20250820T224808Z
UID:31291-1756575000-1756582200@elkinsrandolphwv.com
SUMMARY:Cakewalk & Live Music | Valley Head Fire Department
DESCRIPTION:
URL:https://elkinsrandolphwv.com/event/cakewalk-live-music-valley-head-fire-department/
LOCATION:Valley Head Fire Department\, Valley Head\, WV\, 26294\, United States
CATEGORIES:Community,Entertainment,Music
END:VEVENT
END:VCALENDAR