BEGIN:VCALENDAR
VERSION:2.0
PRODID:-//Elkins-Randolph County Tourism - ECPv6.15.20//NONSGML v1.0//EN
CALSCALE:GREGORIAN
METHOD:PUBLISH
X-ORIGINAL-URL:https://elkinsrandolphwv.com
X-WR-CALDESC:Events for Elkins-Randolph County Tourism
REFRESH-INTERVAL;VALUE=DURATION:PT1H
X-Robots-Tag:noindex
X-PUBLISHED-TTL:PT1H
BEGIN:VTIMEZONE
TZID:UTC
BEGIN:STANDARD
TZOFFSETFROM:+0000
TZOFFSETTO:+0000
TZNAME:UTC
DTSTART:20240101T000000
END:STANDARD
END:VTIMEZONE
BEGIN:VEVENT
DTSTART;TZID=UTC:20250601T130000
DTEND;TZID=UTC:20250601T150000
DTSTAMP:20260422T163345
CREATED:20250520T220623Z
LAST-MODIFIED:20250520T220623Z
UID:30788-1748782800-1748790000@elkinsrandolphwv.com
SUMMARY:Paint & Plant Party at Valley Head Public Library
DESCRIPTION:Come to our first Paint & Plant Party at the Valley Head Public Library on June 1st at 1pm! \nYou will get your own pot to paint and decorate however you choose then you’ll get to pick from a variety of succulents (and maybe other houseplants depending on availability) and plant it into your beautifully crafted pot! \nThe cost is $15 per person with a non refundable deposit of $5 due by May 23rd (the $5 will come off of the $15 total).\nTO RESERVE YOUR SPOT: Message Appalachian Mama on Facebook: https://m.me/simplegraceprimitives?hash=(null)&source_id=8585216\n LIMITED SPOTS AVAILABLE \nLight refreshments will be provided during the event!
URL:https://elkinsrandolphwv.com/event/paint-plant-party-at-valley-head-public-library/
LOCATION:Valley Head Public Library\, 25369 Seneca Trail\, Valley Head\, WV\, 26241
END:VEVENT
END:VCALENDAR