BEGIN:VCALENDAR
VERSION:2.0
PRODID:-//Elkins-Randolph County Tourism - ECPv6.15.20//NONSGML v1.0//EN
CALSCALE:GREGORIAN
METHOD:PUBLISH
X-WR-CALNAME:Elkins-Randolph County Tourism
X-ORIGINAL-URL:https://elkinsrandolphwv.com
X-WR-CALDESC:Events for Elkins-Randolph County Tourism
REFRESH-INTERVAL;VALUE=DURATION:PT1H
X-Robots-Tag:noindex
X-PUBLISHED-TTL:PT1H
BEGIN:VTIMEZONE
TZID:UTC
BEGIN:STANDARD
TZOFFSETFROM:+0000
TZOFFSETTO:+0000
TZNAME:UTC
DTSTART:20180101T000000
END:STANDARD
END:VTIMEZONE
BEGIN:VEVENT
DTSTART;TZID=UTC:20251213T130000
DTEND;TZID=UTC:20251213T180000
DTSTAMP:20260423T033544
CREATED:20251130T210853Z
LAST-MODIFIED:20251130T211338Z
UID:32373-1765630800-1765648800@elkinsrandolphwv.com
SUMMARY:Cookie\, Crafts\, & Cocoa
DESCRIPTION:Decorate\, create\, and sip your way into the holiday spirit! \n$35 per child |Ages 4-12 accompanied w/ adult. $5 from each admission goes to VFW. \nCakes and Crumbs Presents : Cookies\, Crafts\, & Cocoa \nSaturday December 13\, 2025 from 1pm-6pm at the VFW Post 3647. \nVisit and picture with Santa and Mrs. Claus ! \nTo reserve a spot\, text or call Hallie 304-940-0833 limited spots available. \n 
URL:https://elkinsrandolphwv.com/event/cookie-crafts-cocoa/
LOCATION:VFW Post 3647\, 536 Randolph Avenue\, Elkins\, WV\, 26241\, United States
CATEGORIES:Community,Kids & Family
END:VEVENT
BEGIN:VEVENT
DTSTART;TZID=UTC:20251018T160000
DTEND;TZID=UTC:20251018T230000
DTSTAMP:20260423T033544
CREATED:20250826T175908Z
LAST-MODIFIED:20250826T175924Z
UID:31318-1760803200-1760828400@elkinsrandolphwv.com
SUMMARY:Live Music: Elkins Fright Night | Elkins VFW
DESCRIPTION:This is the premier adult Halloween event of 2025! Acts include: Acid Mind Drainage\, Blightyear\, Devil Pill\, Wish Awake\, Briar Williams\, Rock Bass\, Shapeshifter\, Dissonant\, Jason Romanus\, and Phoenix Hale!\nAll proceeds will go to The GreenEggs Foundation to fund a space for the youth to continue their passion in the arts!!\nFor Sponsorship Inquires please email contact@greeneggsfund.org\nStop by for all the updates including theme and other specials that will be happening!\n*THIS EVENT IS 21+*
URL:https://elkinsrandolphwv.com/event/elkins-fright-night-elkins-vfw/
LOCATION:VFW Post 3647\, 536 Randolph Avenue\, Elkins\, WV\, 26241\, United States
CATEGORIES:Music
ORGANIZER;CN="The GreenEggs Foundation":MAILTO:contact@greeneggsfund.org
END:VEVENT
BEGIN:VEVENT
DTSTART;TZID=UTC:20190710T170000
DTEND;TZID=UTC:20190710T200000
DTSTAMP:20260423T033544
CREATED:20190701T203640Z
LAST-MODIFIED:20190701T203640Z
UID:14070-1562778000-1562788800@elkinsrandolphwv.com
SUMMARY:Pop-Up Art Show @ VFW
DESCRIPTION:Check out the opportunity to support local artists at the VFW Pop-Up Art Show featuring several West Virginia artists.
URL:https://elkinsrandolphwv.com/event/pop-up-art-show-vfw/
LOCATION:VFW Post 3647\, 536 Randolph Avenue\, Elkins\, WV\, 26241\, United States
END:VEVENT
END:VCALENDAR