BEGIN:VCALENDAR
VERSION:2.0
PRODID:-//Elkins-Randolph County Tourism - ECPv6.15.17.1//NONSGML v1.0//EN
CALSCALE:GREGORIAN
METHOD:PUBLISH
X-ORIGINAL-URL:https://elkinsrandolphwv.com
X-WR-CALDESC:Events for Elkins-Randolph County Tourism
REFRESH-INTERVAL;VALUE=DURATION:PT1H
X-Robots-Tag:noindex
X-PUBLISHED-TTL:PT1H
BEGIN:VTIMEZONE
TZID:America/New_York
BEGIN:DAYLIGHT
TZOFFSETFROM:-0500
TZOFFSETTO:-0400
TZNAME:EDT
DTSTART:20180311T070000
END:DAYLIGHT
BEGIN:STANDARD
TZOFFSETFROM:-0400
TZOFFSETTO:-0500
TZNAME:EST
DTSTART:20181104T060000
END:STANDARD
BEGIN:DAYLIGHT
TZOFFSETFROM:-0500
TZOFFSETTO:-0400
TZNAME:EDT
DTSTART:20190310T070000
END:DAYLIGHT
BEGIN:STANDARD
TZOFFSETFROM:-0400
TZOFFSETTO:-0500
TZNAME:EST
DTSTART:20191103T060000
END:STANDARD
BEGIN:DAYLIGHT
TZOFFSETFROM:-0500
TZOFFSETTO:-0400
TZNAME:EDT
DTSTART:20200308T070000
END:DAYLIGHT
BEGIN:STANDARD
TZOFFSETFROM:-0400
TZOFFSETTO:-0500
TZNAME:EST
DTSTART:20201101T060000
END:STANDARD
END:VTIMEZONE
BEGIN:VEVENT
DTSTART;TZID=America/New_York:20190522T170000
DTEND;TZID=America/New_York:20190522T210000
DTSTAMP:20260422T061220
CREATED:20190423T072940Z
LAST-MODIFIED:20190507T224836Z
UID:4430-1558544400-1558558800@elkinsrandolphwv.com
SUMMARY:Wing & Steak Night @ Whiskey River Grill
DESCRIPTION:Whiskey River Grill is located in Bowden\, WV. This establishment prides itself in great food\, entertainment\, and drinks. Almost every weekend they have live music on Fridays and Saturdays. Throughout the week they offer different specials on food like wings\, steak\, and burgers.  \nFor more information check out their website at https://www.whiskeyrivergrill.com/. 
URL:https://elkinsrandolphwv.com/event/whiskey-river-grill-wing-steak-night-5/
LOCATION:Whiskey River Grill\, 171 River Circle Drive\, Bowden\, WV 26254\, USA\, 200 River Dr\, United States
GEO:38.474184;-80.412527
X-APPLE-STRUCTURED-LOCATION;VALUE=URI;X-ADDRESS=Whiskey River Grill 171 River Circle Drive Bowden WV 26254 USA 200 River Dr United States;X-APPLE-RADIUS=500;X-TITLE=200 River Dr:geo:-80.412527,38.474184
END:VEVENT
BEGIN:VEVENT
DTSTART;TZID=America/New_York:20190515T200000
DTEND;TZID=America/New_York:20190515T210000
DTSTAMP:20260422T061220
CREATED:20190502T014733Z
LAST-MODIFIED:20190507T224606Z
UID:10543-1557950400-1557954000@elkinsrandolphwv.com
SUMMARY:Working Women Wednesdays @ Whiskey River Grill
DESCRIPTION:Every Wednesday starting at 8:00pm\, Whiskey River Grill hosts “Working Women Wednesday’s”. There is no cover and features women’s only double elimination pool tournament.  \nFor more information call 304-637-7123 or email at info@whiskeyrivergrill.com. \nAddress is 171 River Circle Drive\, Bowden\, WV 26254.
URL:https://elkinsrandolphwv.com/event/working-women-wednesdays-whiskey-river-grill-2/
LOCATION:Whiskey River Grill\, 171 River Circle Drive\, Bowden\, WV 26254\, USA\, 200 River Dr\, United States
GEO:38.474184;-80.412527
X-APPLE-STRUCTURED-LOCATION;VALUE=URI;X-ADDRESS=Whiskey River Grill 171 River Circle Drive Bowden WV 26254 USA 200 River Dr United States;X-APPLE-RADIUS=500;X-TITLE=200 River Dr:geo:-80.412527,38.474184
END:VEVENT
BEGIN:VEVENT
DTSTART;TZID=America/New_York:20190515T170000
DTEND;TZID=America/New_York:20190515T210000
DTSTAMP:20260422T061220
CREATED:20190423T072853Z
LAST-MODIFIED:20190507T224519Z
UID:4369-1557939600-1557954000@elkinsrandolphwv.com
SUMMARY:Wing & Steak Night @ Whiskey River Grill
DESCRIPTION:Whiskey River Grill is located in Bowden\, WV. This establishment prides itself in great food\, entertainment\, and drinks. Almost every weekend they have live music on Fridays and Saturdays. Throughout the week they offer different specials on food like wings\, steak\, and burgers.  \nFor more information check out their website at https://www.whiskeyrivergrill.com/. 
URL:https://elkinsrandolphwv.com/event/whiskey-river-grill-wing-steak-night-4/
LOCATION:Whiskey River Grill\, 171 River Circle Drive\, Bowden\, WV 26254\, USA\, 200 River Dr\, United States
GEO:38.474184;-80.412527
X-APPLE-STRUCTURED-LOCATION;VALUE=URI;X-ADDRESS=Whiskey River Grill 171 River Circle Drive Bowden WV 26254 USA 200 River Dr United States;X-APPLE-RADIUS=500;X-TITLE=200 River Dr:geo:-80.412527,38.474184
END:VEVENT
BEGIN:VEVENT
DTSTART;TZID=America/New_York:20190508T200000
DTEND;TZID=America/New_York:20190508T210000
DTSTAMP:20260422T061220
CREATED:20190502T014612Z
LAST-MODIFIED:20190507T224422Z
UID:10521-1557345600-1557349200@elkinsrandolphwv.com
SUMMARY:Working Women Wednesdays @ Whiskey River Grill
DESCRIPTION:Every Wednesday starting at 8:00pm\, Whiskey River Grill hosts “Working Women Wednesday’s”. There is no cover and features women’s only double elimination pool tournament.  \nFor more information call 304-637-7123 or email at info@whiskeyrivergrill.com. \nAddress is 171 River Circle Drive\, Bowden\, WV 26254.
URL:https://elkinsrandolphwv.com/event/working-women-wednesdays-whiskey-river-grill/
LOCATION:Whiskey River Grill\, 171 River Circle Drive\, Bowden\, WV 26254\, USA\, 200 River Dr\, United States
GEO:38.474184;-80.412527
X-APPLE-STRUCTURED-LOCATION;VALUE=URI;X-ADDRESS=Whiskey River Grill 171 River Circle Drive Bowden WV 26254 USA 200 River Dr United States;X-APPLE-RADIUS=500;X-TITLE=200 River Dr:geo:-80.412527,38.474184
END:VEVENT
BEGIN:VEVENT
DTSTART;TZID=America/New_York:20190508T170000
DTEND;TZID=America/New_York:20190508T210000
DTSTAMP:20260422T061220
CREATED:20190423T072829Z
LAST-MODIFIED:20190507T224420Z
UID:4334-1557334800-1557349200@elkinsrandolphwv.com
SUMMARY:Wing & Steak Night @ Whiskey River Grill
DESCRIPTION:Whiskey River Grill is located in Bowden\, WV. This establishment prides itself in great food\, entertainment\, and drinks. Almost every weekend they have live music on Fridays and Saturdays. Throughout the week they offer different specials on food like wings\, steak\, and burgers.  \nFor more information check out their website at https://www.whiskeyrivergrill.com/. 
URL:https://elkinsrandolphwv.com/event/whiskey-river-grill-wing-steak-night-3/
LOCATION:Whiskey River Grill\, 171 River Circle Drive\, Bowden\, WV 26254\, USA\, 200 River Dr\, United States
GEO:38.474184;-80.412527
X-APPLE-STRUCTURED-LOCATION;VALUE=URI;X-ADDRESS=Whiskey River Grill 171 River Circle Drive Bowden WV 26254 USA 200 River Dr United States;X-APPLE-RADIUS=500;X-TITLE=200 River Dr:geo:-80.412527,38.474184
END:VEVENT
BEGIN:VEVENT
DTSTART;TZID=America/New_York:20190501T170000
DTEND;TZID=America/New_York:20190501T210000
DTSTAMP:20260422T061220
CREATED:20190423T072734Z
LAST-MODIFIED:20190502T014219Z
UID:4282-1556730000-1556744400@elkinsrandolphwv.com
SUMMARY:Wing & Steak Night @ Whiskey River Grill
DESCRIPTION:Whiskey River Grill is located in Bowden\, WV. This establishment prides itself in great food\, entertainment\, and drinks. Almost every weekend they have live music on Fridays and Saturdays. Throughout the week they offer different specials on food like wings\, steak\, and burgers.  \nFor more information check out their website at https://www.whiskeyrivergrill.com/. 
URL:https://elkinsrandolphwv.com/event/whiskey-river-grill-wing-steak-night-2/
LOCATION:Whiskey River Grill\, 171 River Circle Drive\, Bowden\, WV 26254\, USA\, 200 River Dr\, United States
GEO:38.474184;-80.412527
X-APPLE-STRUCTURED-LOCATION;VALUE=URI;X-ADDRESS=Whiskey River Grill 171 River Circle Drive Bowden WV 26254 USA 200 River Dr United States;X-APPLE-RADIUS=500;X-TITLE=200 River Dr:geo:-80.412527,38.474184
END:VEVENT
BEGIN:VEVENT
DTSTART;TZID=America/New_York:20190424T170000
DTEND;TZID=America/New_York:20190424T210000
DTSTAMP:20260422T061220
CREATED:20190423T071819Z
LAST-MODIFIED:20190423T074252Z
UID:4196-1556125200-1556139600@elkinsrandolphwv.com
SUMMARY:Whiskey River Grill: Wing & Steak Night
DESCRIPTION:Whiskey River Grill is located in Bowden\, WV. This establishment prides itself in great food\, entertainment\, and drinks. Almost every weekend they have live music on Fridays and Saturdays. Throughout the week they offer different specials on food like wings\, steak\, and burgers.  \nFor more information check out their website at https://www.whiskeyrivergrill.com/. 
URL:https://elkinsrandolphwv.com/event/whiskey-river-grill-wing-steak-night/
LOCATION:Whiskey River Grill\, 171 River Circle Drive\, Bowden\, WV 26254\, USA\, 200 River Dr\, United States
GEO:38.474184;-80.412527
X-APPLE-STRUCTURED-LOCATION;VALUE=URI;X-ADDRESS=Whiskey River Grill 171 River Circle Drive Bowden WV 26254 USA 200 River Dr United States;X-APPLE-RADIUS=500;X-TITLE=200 River Dr:geo:-80.412527,38.474184
END:VEVENT
END:VCALENDAR